BEGIN:VCALENDAR
VERSION:2.0
PRODID:-//UM//UM*Events//EN
CALSCALE:GREGORIAN
BEGIN:VTIMEZONE
TZID:America/Detroit
TZURL:http://tzurl.org/zoneinfo/America/Detroit
X-LIC-LOCATION:America/Detroit
BEGIN:DAYLIGHT
TZOFFSETFROM:-0500
TZOFFSETTO:-0400
TZNAME:EDT
DTSTART:20070311T020000
RRULE:FREQ=YEARLY;BYMONTH=3;BYDAY=2SU
END:DAYLIGHT
BEGIN:STANDARD
TZOFFSETFROM:-0400
TZOFFSETTO:-0500
TZNAME:EST
DTSTART:20071104T020000
RRULE:FREQ=YEARLY;BYMONTH=11;BYDAY=1SU
END:STANDARD
END:VTIMEZONE
BEGIN:VEVENT
DTSTAMP:20250511T170332
DTSTART;TZID=America/Detroit:20250515T110000
DTEND;TZID=America/Detroit:20250515T120000
SUMMARY:Workshop / Seminar:Articulating and Leveraging Your Transferrable Skills
DESCRIPTION:This workshop will explore the many transferable skills you have gained during graduate school and how to translate these skills to the non-academic job market. We’ll review transferable skills employers value (e.g.\, collaboration\, critical thinking\, project management) and discuss the types of graduate school experiences where you may have honed these skills. You will have time to reflect on your unique experiences and articulate the transferable skills gained from them. To get the most out of the session\, please review the worksheet and come prepared with questions and/or experiences to share.\nThis event is intended to be interactive and\, therefore\, a recording will not be available.\n\nBrought to you by the University Career Center\, in partnership with Rackham Graduate School.\nRegistration is required at https://myumi.ch/e3gGA.\nWe want to ensure full and equitable participation in our events. If an accommodation would promote your full participation in this event\, please follow the registration link to indicate your accommodation requirements. Please let us know as soon as possible in order to have adequate time\, preferably one week\, to arrange for your requested accommodations or an effective alternative.
UID:135247-21876541@events.umich.edu
URL:https://events.umich.edu/event/135247
CLASS:PUBLIC
STATUS:CONFIRMED
CATEGORIES:Rgs-events,Rgs Events,Graduate Students
LOCATION:Off Campus Location
CONTACT:
END:VEVENT
BEGIN:VEVENT
DTSTAMP:20250511T165647
DTSTART;TZID=America/Detroit:20250515T110000
DTEND;TZID=America/Detroit:20250515T120000
SUMMARY:Workshop / Seminar:Articulating and Leveraging Your Transferrable Skills
DESCRIPTION:This workshop will explore the many transferable skills you have gained during graduate school and how to translate these skills to the non-academic job market. We’ll review transferable skills employers value (e.g.\, collaboration\, critical thinking\, project management) and discuss the types of graduate school experiences where you may have honed these skills. You will have time to reflect on your unique experiences and articulate the transferable skills gained from them. To get the most out of the session\, please review the worksheet and come prepared with questions and/or experiences to share.\n
UID:135242-21876536@events.umich.edu
URL:https://events.umich.edu/event/135242
CLASS:PUBLIC
STATUS:CONFIRMED
CATEGORIES:Sessions
LOCATION:Virtual via Zoom
CONTACT:
END:VEVENT
BEGIN:VEVENT
DTSTAMP:20250423T102010
DTSTART;TZID=America/Detroit:20250515T110000
DTEND;TZID=America/Detroit:20250515T120000
SUMMARY:Workshop / Seminar:Bioinformatics Town Hall at THSL
DESCRIPTION:We need your help with an important initiative in the Med School Office of Research and Biomedical Research Core Facilities (BRCF) to better align bioinformatics support with research needs.\n\nSince becoming a recharge facility in 2012\, the BRCF Bioinformatics Core has seen major changes in the bioinformatics landscape. Platforms now offer bundled analysis support\, and researchers use commercial or open-source systems (e.g.\, nf-Core/Seqera\, Epi2Me\, Illumina Partek).\n\nOther informatics cores at U-M have also expanded\, and labs are gaining computational skills. Despite this\, bioinformatics still presents challenges and frustrations for many researchers. Changes at the NIH may also impact the availability of bioinformatics support.\n\nTo address these issues\, we aim to engage the research community and ensure the BRCF Bioinformatics Core meets evolving needs. We are gathering feedback through focus groups\, surveys\, and town halls:\n\nJoin us for coffee\, cookies\, and an open discussion of bioinformatics needs.\n\nNCRC - Monday\, May 12\, 10:00 am - 11:00 am\, Building 10\, Rooms G063/G064\nMed Campus - Thursday\, May 15\, 11:00 am - 12:00 pm\, Taubman Health Sciences Library (THSL)\, Room 6000\n\nRegister today! https://forms.gle/Br2Zex7Uv7zT7UNg6\n\nCan't make the town halls? No problem! Consider filling out this short survey: michmed.org/jVmMy
UID:135176-21876453@events.umich.edu
URL:https://events.umich.edu/event/135176
CLASS:PUBLIC
STATUS:CONFIRMED
CATEGORIES:Research Core,Research
LOCATION:Taubman Library - 6000
CONTACT:
END:VEVENT
BEGIN:VEVENT
DTSTAMP:20250421T142017
DTSTART;TZID=America/Detroit:20250515T110000
DTEND;TZID=America/Detroit:20250515T123000
SUMMARY:Workshop / Seminar:Dialogue Across the Political Divide: Depolarizing Ourselves
DESCRIPTION:Civil discourse requires mutual respect. Respect\, not agreement\, is an essential key for a healthy discussion. The workshop addresses how we may inadvertently be complicit in\, or even encourage\, political polarization.\n\nABOUT DIFFICULT DIALOGUES\nDifficult Dialogues Meet the Moment Initiative is made possible though partnership between LSA Undergraduate Education\; Division of Student Life\; U-M Year of Democracy\, Civic Empowerment\, and Global Engagement\; Stephen M. Ross School of Business\; Raoul Wallenberg Institute\; The Program on Intergroup Relations\; and Difficult Dialogues National Resource Center. Find workshops\, coaching\, and more at myumi.ch/difficult-dialogues.
UID:135147-21876422@events.umich.edu
URL:https://events.umich.edu/event/135147
CLASS:PUBLIC
STATUS:CONFIRMED
CATEGORIES:Intergroup Dialogue,Graduate and Professional Students,Professional Development,Workshop
LOCATION:Off Campus Location
CONTACT:
END:VEVENT
BEGIN:VEVENT
DTSTAMP:20250507T121157
DTSTART;TZID=America/Detroit:20250515T113000
DTEND;TZID=America/Detroit:20250515T130000
SUMMARY:Workshop / Seminar:Make a Maizey Drop-In Workshop
DESCRIPTION:Want to learn how to leverage U-M’s AI tools for your Canvas courses? Then ‘Make a Maizey’ with the ITS Emerging Technology team! This dynamic workshop will teach you how to create an AI-powered assistant for your Canvas courses in only just a few minutes using Maizey\, U-M's custom AI platform. No prior knowledge necessary. \n\nWhen you ‘Make a Maizey’ for your class\, it offers your students a 24/7 resource via an AI-chatbot tailored your course content. Save time answering routine questions\, boost classroom engagement\, and provide customized assistance to the unique needs of every student.\n\nFaculty\, instructors\, Canvas admins\, and all other interested parties are welcome to attend–bring a laptop to work from\, and also enjoy some food and fun swag!\nNo registration necessary\, walk-ins encouraged!
UID:129562-21874604@events.umich.edu
URL:https://events.umich.edu/event/129562
CLASS:PUBLIC
STATUS:CONFIRMED
CATEGORIES:Ai Literacy,U-m Gpt,Academic Technology At Michigan,Artificial Intelligence,Canvas,Consultation,digital technology,Education,Faculty,Free,Genai,Generative Ai,Its,Make A Maizey Workshop,workshop
LOCATION:Ross School of Business - R2230
CONTACT:
END:VEVENT
BEGIN:VEVENT
DTSTAMP:20250506T151357
DTSTART;TZID=America/Detroit:20250515T120000
DTEND;TZID=America/Detroit:20250515T140000
SUMMARY:Presentation:Anthony Saucedo - Dissertation Defense
DESCRIPTION:Please join Anthony Saucedo for their dissertation defense titled \"Iron metalloenzymes for the chemoenzymatic synthesis of complex natural products\".\n\n*Date:* Thursday\, May 15th\, 2025\n*Time:* 12:00 p.m.\n*Where:* Room 1300\, Chemistry Building\n\nZoom Link: https://umich.zoom.us/j/99888103170\nPasscode: 062391
UID:135462-21876851@events.umich.edu
URL:https://events.umich.edu/event/135462
CLASS:PUBLIC
STATUS:CONFIRMED
CATEGORIES:Chemistry
LOCATION:Chemistry Dow Lab - 1300
CONTACT:
END:VEVENT
END:VCALENDAR