BEGIN:VCALENDAR
VERSION:2.0
PRODID:-//UM//UM*Events//EN
CALSCALE:GREGORIAN
BEGIN:VTIMEZONE
TZID:America/Detroit
TZURL:http://tzurl.org/zoneinfo/America/Detroit
X-LIC-LOCATION:America/Detroit
BEGIN:DAYLIGHT
TZOFFSETFROM:-0500
TZOFFSETTO:-0400
TZNAME:EDT
DTSTART:20070311T020000
RRULE:FREQ=YEARLY;BYMONTH=3;BYDAY=2SU
END:DAYLIGHT
BEGIN:STANDARD
TZOFFSETFROM:-0400
TZOFFSETTO:-0500
TZNAME:EST
DTSTART:20071104T020000
RRULE:FREQ=YEARLY;BYMONTH=11;BYDAY=1SU
END:STANDARD
END:VTIMEZONE
BEGIN:VEVENT
DTSTAMP:20250507T153515
DTSTART;TZID=America/Detroit:20250515T190000
DTEND;TZID=America/Detroit:20250515T210000
SUMMARY:Lecture / Discussion:Unboxing the Unexpected: The Notable and the Infamous in U-M's Archives
DESCRIPTION:Many think they know the stories of the famous and the infamous who have called U-M home\, but campus archives reveal their hidden sides. And now writers are sharing insights into some of U-M’s most notable figures. Ted Kaczynski’s letters from prison. Dr. Jack Kevorkian’s private papers. Robben Fleming’s traumatizing wartime trials.\n\nThree writers of Michigan history will share these stories and explore a number of questions: How were these archives created? What do they reveal about these men? And how do we reconcile our public image of notable people with their hidden\, personal selves?\n\nOur panel of talented Wolverine Writers will include Kim Clarke\, Senior Writer at the Bentley Historical Library\; Deborah Holdship\, editor of Michigan Today\; and Katie Vloet\, Editorial Manager of LSA Magazine.
UID:135335-21876712@events.umich.edu
URL:https://events.umich.edu/event/135335
CLASS:PUBLIC
STATUS:CONFIRMED
CATEGORIES:educational,university history,umich200,astronomy,bentley historical library,bentley library,Education,university of michigan history,free,history,Making Michigan,Museum,museums,U-m History
LOCATION:Detroit Observatory
CONTACT:
END:VEVENT
BEGIN:VEVENT
DTSTAMP:20250509T120249
DTSTART;TZID=America/Detroit:20250515T200000
SUMMARY:Performance:For Pete's Sake: Pete Seeger Birthday Concert
DESCRIPTION:“A good song reminds us what we're fighting for.” –Pete Seeger\n\nThe annual Pete Seeger Birthday Concert returns to The Ark with an all-star celebration honoring the life and work of singer\, songwriter\, activist\, and national conscience\, Pete Seeger\, who passed in 2014. The evening will be filled with storytelling and singalongs in the true uplifting Seeger audience participation tradition. The lineup will feature special guest Reggie Harris\, renowned folk artist and educator\, who performed in the 2014 tribute to Pete and Toshi Seeger at the Lincoln Center\, along with a lineup of well-known Michigan artists including Matt Watroba\, Billy King\, Annie & Rod Capps\, San\, Laz & Emily Slomovits\, Judy Banker\, Dani Darling\, Mustard’s Retreat\, and more (TBA).  All proceeds from the event go to support The Ark.
UID:132940-21872101@events.umich.edu
URL:https://events.umich.edu/event/132940
CLASS:PUBLIC
STATUS:CONFIRMED
CATEGORIES:Ark,Mutotix
LOCATION:ARK Reserved
CONTACT:
END:VEVENT
BEGIN:VEVENT
DTSTAMP:20250305T120029
DTSTART;TZID=America/Detroit:20250516T000000
DTEND;TZID=America/Detroit:20250516T235959
SUMMARY:Other:Nationals Practice
DESCRIPTION:Training
UID:132608-21871388@events.umich.edu
URL:https://events.umich.edu/event/132608
CLASS:PUBLIC
STATUS:CONFIRMED
CATEGORIES:
LOCATION:Michigan Sailing Club
CONTACT:
END:VEVENT
BEGIN:VEVENT
DTSTAMP:20250304T115736
DTSTART;TZID=America/Detroit:20250516T000000
DTEND;TZID=America/Detroit:20250516T120000
SUMMARY:Class / Instruction:Summer Session in Epidemiology
DESCRIPTION:Join us for the longest-running summer program in epidemiology! Choose from engaging 1-week or 3-week online courses designed to provide skills-based training in applied epidemiology.\n\nFor 60 years\, the University of Michigan's Summer Session in Epidemiology (SSE) has been one of the nation's longest-running and premier summer epidemiology programs. In just one to three intensive weeks\, gain valuable knowledge and skills to enhance your academic and professional journey. SSE is designed for public health and healthcare professionals\, researchers\, and anyone eager to build a foundation in epidemiologic science. We welcome participants from diverse backgrounds\, including undergraduate students\, public health professionals\, clinical and biomedical researchers\, and scholars in related fields such as psychology\, sociology\, and earth sciences. \n\nWhile experience in public health\, epidemiology\, or biostatistics is beneficial\, it is not required. By the end of our program\, you will have developed a solid understanding of key research principles in clinical populations\, covering areas such as: Study Design\, Biostatistical Analysis\, and Causal Inference These essential skills will help you advance in epidemiology\, public health\, and related fields.
UID:133411-21872955@events.umich.edu
URL:https://events.umich.edu/event/133411
CLASS:PUBLIC
STATUS:CONFIRMED
CATEGORIES:Undergraduate Students,Alumni,biostatistics,Complex Systems,data,Dentistry,Education,Epidemiology,Graduate,Graduate and Professional Students,Graduate Students,Postdoctoral Research Fellows,Pre Med,Professional Development,Public Health,Rackham,Research,Staff,Virtual,Undergraduate
LOCATION:Off Campus Location
CONTACT:
END:VEVENT
BEGIN:VEVENT
DTSTAMP:20241118T121805
DTSTART;TZID=America/Detroit:20250516T080000
DTEND;TZID=America/Detroit:20250516T170000
SUMMARY:Conference / Symposium:2025 Positive Organizational Scholarship Research Conference
DESCRIPTION:The POS Research Conference is an opportunity to share and advance empirical and theoretical research in the field of Positive Organizational Scholarship. This biennial gathering of scholars promotes research that inspires and enables leaders to build high-performing organizations that bring out the best in people.\n\nJoin us at the 2025 Positive Organizational Scholarship Research Conference\, designed to promote research and teaching that inspires and advances the multidisciplinary field of POS. Convening a community of scholars that is engaged in inquiring and seeing through a positive lens on organizational scholarship\, conference sessions will focus generally on new ways of seeing generative or positive processes in organizations\, promoting human flourishing or thriving in organizational contexts\, and cultivating life-giving or ennobling conditions for people\, organizations\, institutions\, and societies. Given its broad\, multidisciplinary\, and multi-method foundations\, we invite papers\, presentations\, roundtable discussions\, and posters that focus on quantitative\, qualitative\, and mixed-methods empirical research\, theory building\, intervention testing\, pedagogical innovation\, and engaged scholarship that addresses pressing issues in society.\n\nTHE CALL FOR SUBMISSIONS IS OPEN THROUGH JANUARY 1\, 2025. If you are interested in attending the 2025 POS Research Conference and are not submitting a paper for presentation\, please complete our “Save Me a Seat” form. We will contact you directly via email about the registration process. Visit https://positiveorgs.bus.umich.edu/conferences-meetings/pos-research-conference/ for more details.\n\nQuestions? Email: illuminatingresearch@umich.edu
UID:129222-21862346@events.umich.edu
URL:https://events.umich.edu/event/129222
CLASS:PUBLIC
STATUS:CONFIRMED
CATEGORIES:conference,Research,Center For Positive Organizations
LOCATION:
CONTACT:
END:VEVENT
BEGIN:VEVENT
DTSTAMP:20250416T111333
DTSTART;TZID=America/Detroit:20250516T080000
DTEND;TZID=America/Detroit:20250516T235900
SUMMARY:Workshop / Seminar:Let’s Get Accessible! The 10-Day Digital Accessibility Awareness Challenge
DESCRIPTION:Every day we create and share digital content—documents\, emails\, videos\, slides\, social media posts—but have you ever stopped to ask “Is this accessible to everyone?”\nMost of us don’t realize the barriers that exist for people with disabilities until we learn how to remove them. So let’s get accessible!\n\nTogether\, we'll explore practical ways to make digital content more inclusive for all. Whether you're faculty\, staff\, or a student\, this challenge is packed with bite-sized actions and eye-opening insights that will:\n- Equip students with real-world accessibility skills that carry into the workplace\n- Help faculty and staff better support students and colleagues\n- Prepare our school for upcoming Title II updates to the ADA\, which will require greater digital accessibility across all public institutions\n\nThis is event is virtual and social!  No prior knowledge needed—just a willingness to learn.\n\nSign up today: https://umich.qualtrics.com/jfe/form/SV_eznQ4YvMVr3Uo7k
UID:135036-21876021@events.umich.edu
URL:https://events.umich.edu/event/135036
CLASS:PUBLIC
STATUS:CONFIRMED
CATEGORIES:Training,Social,Skill-building,Inclusion
LOCATION:Off Campus Location
CONTACT:
END:VEVENT
END:VCALENDAR