BEGIN:VCALENDAR
VERSION:2.0
PRODID:-//UM//UM*Events//EN
CALSCALE:GREGORIAN
BEGIN:VTIMEZONE
TZID:America/Detroit
TZURL:http://tzurl.org/zoneinfo/America/Detroit
X-LIC-LOCATION:America/Detroit
BEGIN:DAYLIGHT
TZOFFSETFROM:-0500
TZOFFSETTO:-0400
TZNAME:EDT
DTSTART:20070311T020000
RRULE:FREQ=YEARLY;BYMONTH=3;BYDAY=2SU
END:DAYLIGHT
BEGIN:STANDARD
TZOFFSETFROM:-0400
TZOFFSETTO:-0500
TZNAME:EST
DTSTART:20071104T020000
RRULE:FREQ=YEARLY;BYMONTH=11;BYDAY=1SU
END:STANDARD
END:VTIMEZONE
BEGIN:VEVENT
DTSTAMP:20250404T163651
DTSTART;TZID=America/Detroit:20250516T083000
DTEND;TZID=America/Detroit:20250516T170000
SUMMARY:Conference / Symposium:5th Annual University of Michigan Neuroscience Conference
DESCRIPTION:Attend Day 2 of the 5th Annual University of Michigan Neuroscience Conference!\n\nFriday\, May 16th - Neuroscience presentations featuring:\n\n   •	Changyang Linghu\, Ph.D. | Cell & Developmental Biology\n   •	Jun Hee Lee\, Ph.D. | Molecular & Integrative Physiology\n   •	Hongkui Zeng\, Ph.D. | Executive Vice President\, Director of the Allen Institute for Brain Science\n   •	Roger Cone\, Ph.D. | Life Sciences Institute\n   •	Erica Levitt\, Ph.D. | Pharmacology\, Anesthesiology\n   •	Anne Draelos\, Ph.D. | Biomedical Engineering\, Computational Medicine & Bioinformatics\n\nThe conference concludes with the conference’s best poster awards and a final opportunity to network and socialize\, allowing you to strengthen the new connections made during the event. RSVP Today – Registration closes on Friday\, April 4!
UID:134037-21873804@events.umich.edu
URL:https://events.umich.edu/event/134037
CLASS:PUBLIC
STATUS:CONFIRMED
CATEGORIES:Basic Science,Biomedical Research,conference,Faculty,Free,Graduate and Professional Students,Graduate Students,In Person,Interdisciplinary,Neuroscience,Postdoctoral Research Fellows,Research,symposium,Undergraduate
LOCATION:North Campus Research Complex Building 18 - Large Conference Room (&quot;The Football&quot;)
CONTACT:
END:VEVENT
BEGIN:VEVENT
DTSTAMP:20250408T135629
DTSTART;TZID=America/Detroit:20250516T090000
DTEND;TZID=America/Detroit:20250516T200000
SUMMARY:Exhibition:Behind the Curve: Rainbows and the Science and Culture of Color
DESCRIPTION:We have many significant books from the history of our understanding of rainbows and color theory\, from the writings of scholar Ḥasan Ibn al-Haytham to Isaac Newton’s 1704 Opticks. Rainbows appear across the spectrum of our collections\, and this exhibit includes a handwritten illuminated manuscript\, practical color manuals of the industrial age\, contemporary artists’ and children’s books\, and more from our vast holdings. \n\nRainbows have captivated people for all of recorded history. It’s hard not to think of them as physical objects\, but they are really just distorted images of the sun\, positioned around the viewer’s head. They require someone to perceive them to exist\, and thus have much in common with colors and color theory in general. And\, like colors\, they are about relationships: of one color next to another\, and of colors and the people who see them. The rainbow has had many different cultural interpretations over the years\, and most recently has become synonymous with gay pride\, appearing all over each June.\n\nHatcher Gallery Exhibit Room Hours:\nSunday\, 2-8pm\nMonday-Thursday\, 9am-8pm\nFriday\, 9am-4pm\nSaturday\, 11am-5pm
UID:134798-21875145@events.umich.edu
URL:https://events.umich.edu/event/134798
CLASS:PUBLIC
STATUS:CONFIRMED
CATEGORIES:Free,Library
LOCATION:Hatcher Graduate Library - Hatcher Gallery Exhibit Room (1st floor)
CONTACT:
END:VEVENT
BEGIN:VEVENT
DTSTAMP:20250211T122734
DTSTART;TZID=America/Detroit:20250516T090000
DTEND;TZID=America/Detroit:20250516T160000
SUMMARY:Exhibition:Redefining the Crown
DESCRIPTION:In Winter 2025\, the Lane Hall exhibit space will feature a portraiture series titled Redefining the Crown showcasing the powerful stories of six Black breast cancer survivors.\n\nBased on a photo essay by U-M Faculty Versha Pleasant (MD/MPH) and Ava Purkiss (PhD) in Medicine at Michigan\, this exhibition examines the cultural and personal significance of hair within Black communities\, particularly through the lens of breast cancer treatment and recovery. The term \"crown\" is deeply symbolic in Black culture\, signifying beauty\, strength\, and identity. The featured photo essay by photographer Tafari Stevenson-Howard captures the intimate journeys of Ann Chatman\, Tanisha Kennedy\, Felecia McDaniel\, Shantell Elaine McCoy\, Tamara Lynn Myles\, and Veleria Banks.\n\nThrough their narratives and portraits\, the exhibit examines how these women have navigated the profound impact of hair loss caused by chemotherapy\, inviting the audience to witness their stories with radical empathy. It explores the cultural pride and personal identity intricately tied to their hair\, and how these elements are redefined amidst their battles with breast cancer.\n\nThe exhibit will be on view from January 21\, 2025 to August 8\, 2025. This exhibition is presented with support from IRWG\, the Department of Women's and Gender Studies\, and Michigan Medicine. \n\nLocated on the first floor of Lane Hall (204 S. State Street)\, the Exhibit Space is free and open to the public\, M-F\, 9am-4pm.
UID:129602-21864133@events.umich.edu
URL:https://events.umich.edu/event/129602
CLASS:PUBLIC
STATUS:CONFIRMED
CATEGORIES:african american,Art,institute for research on women and gender,women,Women's And Gender Studies
LOCATION:Lane Hall
CONTACT:
END:VEVENT
BEGIN:VEVENT
DTSTAMP:20250516T092015
DTSTART;TZID=America/Detroit:20250516T093000
DTEND;TZID=America/Detroit:20250516T120000
SUMMARY:Workshop / Seminar:MORE Committee Workshop (FACULTY): Getting Your Mentoring Relationship Off to a Good Start
DESCRIPTION:Developed by the MORE Committee\, this workshop helps enhance the mentoring relationship between the student and faculty mentor by facilitating the development of shared expectations. Mentors and mentees work independently in separate sessions to identify their own objectives and styles\, and consider strategies for dealing with possible challenges. Then\, student-faculty pairs work together to develop a written mentoring plan as a means of codifying some of the most important elements (needs\, goals\, mutual expectations) of a two-way mentoring relationship. Among Rackham doctoral students who have written mentoring plans\, 83 percent find those plans useful. Registration is required of both the faculty and the student. Separate registration for students is available at: https://myumi.ch/zXzVJ.\n
UID:133373-21872856@events.umich.edu
URL:https://events.umich.edu/event/133373
CLASS:PUBLIC
STATUS:CONFIRMED
CATEGORIES:Sessions
LOCATION:Pierpont Commons, East Room, North Campus
CONTACT:
END:VEVENT
BEGIN:VEVENT
DTSTAMP:20250516T092015
DTSTART;TZID=America/Detroit:20250516T093000
DTEND;TZID=America/Detroit:20250516T120000
SUMMARY:Workshop / Seminar:MORE Committee Workshop (STUDENT): Getting Your Mentoring Relationship Off to a Good Start
DESCRIPTION:Developed by the MORE Committee\, this workshop helps enhance the mentoring relationship between the student and faculty mentor by facilitating the development of shared expectations. Mentors and mentees work independently in separate sessions to identify their own objectives and styles\, and consider strategies for dealing with possible challenges. Then\, student-faculty pairs work together to develop a written mentoring plan as a means of codifying some of the most important elements (needs\, goals\, mutual expectations) of a two-way mentoring relationship. Among Rackham doctoral students who have written mentoring plans\, 83 percent find those plans useful. Registration is required of both the faculty and the student. Separate registration for faculty is available at: https://myumi.ch/9gE5r.\n
UID:133377-21872862@events.umich.edu
URL:https://events.umich.edu/event/133377
CLASS:PUBLIC
STATUS:CONFIRMED
CATEGORIES:Sessions
LOCATION:Pierpont Commons, East Room, North Campus
CONTACT:
END:VEVENT
BEGIN:VEVENT
DTSTAMP:20250511T210111
DTSTART;TZID=America/Detroit:20250516T093000
DTEND;TZID=America/Detroit:20250516T120000
SUMMARY:Workshop / Seminar:MORE Mentoring (FACULTY): Getting Your Mentoring Relationship Off to a Good Start
DESCRIPTION:Developed by the MORE Committee\, this workshop helps enhance the mentoring relationship between the student and faculty mentor by facilitating the development of shared expectations. Mentors and mentees work independently in separate sessions to identify their own objectives and styles\, and consider strategies for dealing with possible challenges. Then\, student-faculty pairs work together to develop a written mentoring plan as a means of codifying some of the most important elements (needs\, goals\, mutual expectations) of a two-way mentoring relationship. Among Rackham doctoral students who have written mentoring plans\, 83 percent find those plans useful.\nRegistration is required of both the faculty and the student. Separate registration for students is available at: https://myumi.ch/zXzVJ.\nPart I: Parallel Sessions\, 9:30 to 11:00 a.m.\n\nFaculty Only Session\nStudent Only Session\n\nPart II: Joint Session\, 11:10 a.m. to 12:00 p.m.\n\nFaculty and Student Joint Session\n\nPart III: Optional One-on-One Mentoring Time\, 12:00 to 1:00 p.m. \n\nFaculty and Student Joint Session\n\nRegistration is required at https://myumi.ch/xwp95.\nWe want to ensure full and equitable participation in our events. If an accommodation would promote your full participation in this event\, please follow the registration link to indicate your accommodation requirements. Please let us know as soon as possible in order to have adequate time\, preferably one week\, to arrange for your requested accommodations or an effective alternative.
UID:133380-21872865@events.umich.edu
URL:https://events.umich.edu/event/133380
CLASS:PUBLIC
STATUS:CONFIRMED
CATEGORIES:Graduate Students,Rgs Events,Rgs-events
LOCATION:Pierpont Commons
CONTACT:
END:VEVENT
END:VCALENDAR