BEGIN:VCALENDAR
VERSION:2.0
PRODID:-//UM//UM*Events//EN
CALSCALE:GREGORIAN
BEGIN:VTIMEZONE
TZID:America/Detroit
TZURL:http://tzurl.org/zoneinfo/America/Detroit
X-LIC-LOCATION:America/Detroit
BEGIN:DAYLIGHT
TZOFFSETFROM:-0500
TZOFFSETTO:-0400
TZNAME:EDT
DTSTART:20070311T020000
RRULE:FREQ=YEARLY;BYMONTH=3;BYDAY=2SU
END:DAYLIGHT
BEGIN:STANDARD
TZOFFSETFROM:-0400
TZOFFSETTO:-0500
TZNAME:EST
DTSTART:20071104T020000
RRULE:FREQ=YEARLY;BYMONTH=11;BYDAY=1SU
END:STANDARD
END:VTIMEZONE
BEGIN:VEVENT
DTSTAMP:20250511T210113
DTSTART;TZID=America/Detroit:20250516T093000
DTEND;TZID=America/Detroit:20250516T120000
SUMMARY:Workshop / Seminar:MORE Mentoring (STUDENT): Getting Your Mentoring Relationship Off to a Good Start
DESCRIPTION:Developed by the MORE Committee\, this workshop helps enhance the mentoring relationship between the student and faculty mentor by facilitating the development of shared expectations. Mentors and mentees work independently in separate sessions to identify their own objectives and styles\, and consider strategies for dealing with possible challenges. Then\, student-faculty pairs work together to develop a written mentoring plan as a means of codifying some of the most important elements (needs\, goals\, mutual expectations) of a two-way mentoring relationship. Among Rackham doctoral students who have written mentoring plans\, 83 percent find those plans useful.\nPart I: Parallel Sessions\, 9:30 to 11:00 a.m.\n\nFaculty Only Session\nStudent Only Session\n\nPart II: Joint Session\, 11:10 a.m. to 12:00 p.m.\n\nFaculty and Student Joint Session\n\nPart III: Optional One-on-One Discussion Time\, 12:00 to 1:00 p.m. \n\nFaculty and Student Joint Session\n\nA note to students: Faculty who have attended a MORE workshop in the previous academic year should feel free to join the workshop only for the student-faculty work together (Part II). Registration is still required of both the faculty and the student.\nSeparate registration for faculty is available at: https://myumi.ch/9gE5r.\nRegistration is required at https://myumi.ch/pV82q.\nWe want to ensure full and equitable participation in our events. If an accommodation would promote your full participation in this event\, please follow the registration link to indicate your accommodation requirements. Please let us know as soon as possible in order to have adequate time\, preferably one week\, to arrange for your requested accommodations or an effective alternative.
UID:133381-21872866@events.umich.edu
URL:https://events.umich.edu/event/133381
CLASS:PUBLIC
STATUS:CONFIRMED
CATEGORIES:Graduate Students,Rgs Events,Rgs-events
LOCATION:Pierpont Commons
CONTACT:
END:VEVENT
BEGIN:VEVENT
DTSTAMP:20240130T121550
DTSTART;TZID=America/Detroit:20250516T100000
DTEND;TZID=America/Detroit:20250516T200000
SUMMARY:Exhibition:A Gathering
DESCRIPTION:Welcome. Make Yourself At Home.\n \nA Gathering brings together the newest works of art to enter UMMA’s collection — many on display here for the first time. \n \nAs a free\, public museum\, UMMA staff takes care of art for the benefit of the community and society at large. The works on view in this exhibition\, all brought into the Museum between 2019 and the present\, shows how institutions like UMMA are becoming more permeable to societal challenges\, and more nimble in responding to them in service to all in their communities. In this exhibition you will find works that reflect on how global migrations\, race\, gender\, and ecological change shape the way we engage with the world and inform our visions for the future.\n \nThis collection of artistic engagements with issues give us tools to envision who we want to be as individuals\, as a museum\, and as a society\, connected to one another across space and experience.\n \nSo gather here to take in these latest works of art brought here for you. Gather here to be engulfed in their forms and meanings\, to discuss their takes\, to learn\, to disagree. Gather to relax\, make a friend\, drink a coffee\, finish the daily Wordle. Gather to feel full\, to be moved and inspired by all the possible imaginations of what is yet to come.\n \nCurated by Félix Zamora Gómez Irving Stenn\, Jr. Fellow in Public Humanities & Museum Pedagogy\n\nLead support for this exhibition is provided by Lizzie and Jonathan Tisch\, the Richard and Rosann Noel Endowment\, and the University of Michigan Office of the Provost.\n 
UID:107870-21818118@events.umich.edu
URL:https://events.umich.edu/event/107870
CLASS:PUBLIC
STATUS:CONFIRMED
CATEGORIES:Art,Exhibition,Free,Humanities,Museum,Staff,UMMA
LOCATION:Museum of Art - Lizzie and Jonathan Tisch Apse
CONTACT:
END:VEVENT
BEGIN:VEVENT
DTSTAMP:20250411T142017
DTSTART;TZID=America/Detroit:20250516T100000
DTEND;TZID=America/Detroit:20250516T120000
SUMMARY:Workshop / Seminar:Applying Principles of Transparency to Discussions
DESCRIPTION:Part of CRLT's Equity-focused Teaching @ Michigan Series\n\nWhat are the purposes of class discussion in your courses? What do you (or can you) use discussions to help students learn? How do you communicate to students your expectations around their participation in discussion -- and why is it important for equity to make clear to your students what your expectations are? This interactive session will build upon key research findings about the beneficial effects of transparency for student learning. Participants will reflect upon their use of class discussion and apply principles of transparency to improve equity and inclusion in their practice.
UID:134937-21875696@events.umich.edu
URL:https://events.umich.edu/event/134937
CLASS:PUBLIC
STATUS:CONFIRMED
CATEGORIES:Center For Research On Learning And Teaching,Faculty,Free,Graduate Students,gsi,In Person,Workshop
LOCATION:Palmer Commons - CRLT Seminar Room (1013 Palmer Commons, 1st Floor)
CONTACT:
END:VEVENT
BEGIN:VEVENT
DTSTAMP:20250507T140459
DTSTART;TZID=America/Detroit:20250516T100000
DTEND;TZID=America/Detroit:20250516T120000
SUMMARY:Livestream / Virtual:Clements Bookworm: Mapping in the American Revolution
DESCRIPTION:Mary Pedley and Sierra Laddusaw of the Map Division will explore the role of maps and mapping processes during the American Revolution by looking at examples from the extensive map collection in the Clements Library. They will present a range of manuscripts and printed maps as primary sources by looking closely through the contextual lens of production processes and varying purposes.
UID:135501-21876891@events.umich.edu
URL:https://events.umich.edu/event/135501
CLASS:PUBLIC
STATUS:CONFIRMED
CATEGORIES:american history,Ann Arbor,cartography,Free,history,libraries,Library,Talk
LOCATION:Off Campus Location
CONTACT:
END:VEVENT
BEGIN:VEVENT
DTSTAMP:20250304T131847
DTSTART;TZID=America/Detroit:20250516T100000
DTEND;TZID=America/Detroit:20250516T163000
SUMMARY:Other:Moth Eden
DESCRIPTION:Explore \"Moth Eden\,\" an evocative art exhibit by Anne Erlewine\, running from April 19 to July 6\, 2025. ‘Moth Eden’ is a series of works exploring the relationship between the sacred reverence of the female form depicted as landscape and the conditioned tension of objectification contrasted by omission through eclipsing desire with the natural essence of bloom and nectar as it pertains to moth sustenance.\n\nAnne Erlewine\, an artist from Ann Arbor\, Michigan\, cultivated her artistic talents from an early age\, inspired by her fine artist grandmother. Her creative journey was further developed at the University of Michigan\, where she studied art and writing.
UID:133414-21873003@events.umich.edu
URL:https://events.umich.edu/event/133414
CLASS:PUBLIC
STATUS:CONFIRMED
CATEGORIES:Art,Exhibition,Free,In Person,Visual Arts
LOCATION:Matthaei Botanical Gardens
CONTACT:
END:VEVENT
BEGIN:VEVENT
DTSTAMP:20240130T121551
DTSTART;TZID=America/Detroit:20250516T100000
DTEND;TZID=America/Detroit:20250516T200000
SUMMARY:Exhibition:Unsettling Histories: Legacies of Slavery and Colonialism
DESCRIPTION:Organized as a response to the Museum’s recent acquisition of Titus Kaphar’s Flay (James Madison)\, this upcoming reinstallation of one of our most prominent gallery spaces forces us to grapple with our collection of European and American art\, 1650-1850.\n \nIn recent times\, growing public awareness of the continued reverberations of the legacy of slavery and colonization has challenged museums to examine the uncomfortable histories contained in our collections\, and challenged the public to probe the choices we make about those stories. Choices about which artists you see in our galleries\, choices about what relevant facts we share about the works\, and choices about what - out of an infinite number of options - we don’t say about them.\n \nPieces in this exhibition were made at a time when the world came to be shaped by the ideologies of colonial expansion and Western domination. And yet\, that history and the stories of those marginalized do not readily appear in the still lives and portraits on display here. By grappling with what is visible and what remains hidden\, we are forced to examine whose stories and histories are prioritized and why.  \n \nIn this online exhibition\, you can explore our efforts to deeply question the Museum’s collection and our own past complicity in favoring colonial voices. In the Museum gallery\, which will open in early 2021\, you’ll be able to experience the changes we’re making to the physical space to highlight a more honest version of European and American history. \n \nBy challenging our own practice\, and continuing to add to what we know and what we write about the works we display\, UMMA tells a more complex and more complete story of this nation - one that unsettles\, and fails to settle for\, simple narratives. \n \n“Invisible things are not necessarily ‘not there’.... Certain absences are so stressed\, so ornate\, so planned\, they call attention to themselves\; arrest us with intentionality and purpose\, like neighborhoods that are defined by the population held away from them.” \n \n— Toni Morrison\n\nLead support for Unsettling Histories: Legacies of Slavery and Colonialism is provided by the University of Michigan Office of the Provost\, the U-M Arts Initiative\, and the Susan and Richard Gutow Endowed Fund.\n 
UID:84303-21621597@events.umich.edu
URL:https://events.umich.edu/event/84303
CLASS:PUBLIC
STATUS:CONFIRMED
CATEGORIES:Art,European,Exhibition,History,Museum,UMMA
LOCATION:Museum of Art - European and American Decorative Art
CONTACT:
END:VEVENT
END:VCALENDAR