BEGIN:VCALENDAR
VERSION:2.0
PRODID:-//UM//UM*Events//EN
CALSCALE:GREGORIAN
BEGIN:VTIMEZONE
TZID:America/Detroit
TZURL:http://tzurl.org/zoneinfo/America/Detroit
X-LIC-LOCATION:America/Detroit
BEGIN:DAYLIGHT
TZOFFSETFROM:-0500
TZOFFSETTO:-0400
TZNAME:EDT
DTSTART:20070311T020000
RRULE:FREQ=YEARLY;BYMONTH=3;BYDAY=2SU
END:DAYLIGHT
BEGIN:STANDARD
TZOFFSETFROM:-0400
TZOFFSETTO:-0500
TZNAME:EST
DTSTART:20071104T020000
RRULE:FREQ=YEARLY;BYMONTH=11;BYDAY=1SU
END:STANDARD
END:VTIMEZONE
BEGIN:VEVENT
DTSTAMP:20250305T120029
DTSTART;TZID=America/Detroit:20250517T000000
DTEND;TZID=America/Detroit:20250517T200000
SUMMARY:Other:Nationals Practice
DESCRIPTION:Training
UID:132608-21871389@events.umich.edu
URL:https://events.umich.edu/event/132608
CLASS:PUBLIC
STATUS:CONFIRMED
CATEGORIES:
LOCATION:Michigan Sailing Club
CONTACT:
END:VEVENT
BEGIN:VEVENT
DTSTAMP:20250304T115736
DTSTART;TZID=America/Detroit:20250517T000000
DTEND;TZID=America/Detroit:20250517T120000
SUMMARY:Class / Instruction:Summer Session in Epidemiology
DESCRIPTION:Join us for the longest-running summer program in epidemiology! Choose from engaging 1-week or 3-week online courses designed to provide skills-based training in applied epidemiology.\n\nFor 60 years\, the University of Michigan's Summer Session in Epidemiology (SSE) has been one of the nation's longest-running and premier summer epidemiology programs. In just one to three intensive weeks\, gain valuable knowledge and skills to enhance your academic and professional journey. SSE is designed for public health and healthcare professionals\, researchers\, and anyone eager to build a foundation in epidemiologic science. We welcome participants from diverse backgrounds\, including undergraduate students\, public health professionals\, clinical and biomedical researchers\, and scholars in related fields such as psychology\, sociology\, and earth sciences. \n\nWhile experience in public health\, epidemiology\, or biostatistics is beneficial\, it is not required. By the end of our program\, you will have developed a solid understanding of key research principles in clinical populations\, covering areas such as: Study Design\, Biostatistical Analysis\, and Causal Inference These essential skills will help you advance in epidemiology\, public health\, and related fields.
UID:133411-21872956@events.umich.edu
URL:https://events.umich.edu/event/133411
CLASS:PUBLIC
STATUS:CONFIRMED
CATEGORIES:Alumni,Virtual,Undergraduate Students,Undergraduate,Staff,Research,Rackham,Public Health,Professional Development,Pre Med,Graduate Students,Graduate and Professional Students,Graduate,Epidemiology,Education,Dentistry,data,Complex Systems,biostatistics,Postdoctoral Research Fellows
LOCATION:Off Campus Location
CONTACT:
END:VEVENT
BEGIN:VEVENT
DTSTAMP:20250408T135629
DTSTART;TZID=America/Detroit:20250517T090000
DTEND;TZID=America/Detroit:20250517T200000
SUMMARY:Exhibition:Behind the Curve: Rainbows and the Science and Culture of Color
DESCRIPTION:We have many significant books from the history of our understanding of rainbows and color theory\, from the writings of scholar Ḥasan Ibn al-Haytham to Isaac Newton’s 1704 Opticks. Rainbows appear across the spectrum of our collections\, and this exhibit includes a handwritten illuminated manuscript\, practical color manuals of the industrial age\, contemporary artists’ and children’s books\, and more from our vast holdings. \n\nRainbows have captivated people for all of recorded history. It’s hard not to think of them as physical objects\, but they are really just distorted images of the sun\, positioned around the viewer’s head. They require someone to perceive them to exist\, and thus have much in common with colors and color theory in general. And\, like colors\, they are about relationships: of one color next to another\, and of colors and the people who see them. The rainbow has had many different cultural interpretations over the years\, and most recently has become synonymous with gay pride\, appearing all over each June.\n\nHatcher Gallery Exhibit Room Hours:\nSunday\, 2-8pm\nMonday-Thursday\, 9am-8pm\nFriday\, 9am-4pm\nSaturday\, 11am-5pm
UID:134798-21875146@events.umich.edu
URL:https://events.umich.edu/event/134798
CLASS:PUBLIC
STATUS:CONFIRMED
CATEGORIES:Library,Free
LOCATION:Hatcher Graduate Library - Hatcher Gallery Exhibit Room (1st floor)
CONTACT:
END:VEVENT
BEGIN:VEVENT
DTSTAMP:20250403T141825
DTSTART;TZID=America/Detroit:20250517T090000
DTEND;TZID=America/Detroit:20250517T110000
SUMMARY:Well-being:Get Healthy Together
DESCRIPTION:Please register below for this FREE health and wellness community event open to all\, hosted by the Rogel Cancer Center Office of Community Outreach and Engagement. The event will include expert presentations on topics including physical activity and pancreatic cancer. Join us for health information and fellowship. Registration is encouraged: michmed.org/ygZzN\n\nDate: Saturday\, May 17\, 2025\nTime: 9:00 AM-11:00 AM\nLocation: Washtenaw Community College\, Morris Lawrence Building\, 4800 E. Huron River Dr.\, Ann Arbor\, MI 48105\n\nA complimentary hot breakfast is provided. Breakfast is available at 8:30 AM\, and the program will begin at 9:00 AM.\n\nPresenters: Angela Fong\, PhD and Filip Bednar\, MD\, PhD
UID:134655-21874667@events.umich.edu
URL:https://events.umich.edu/event/134655
CLASS:PUBLIC
STATUS:CONFIRMED
CATEGORIES:cancer,free,Public Health
LOCATION:Off Campus Location - Morris Lawrence Building
CONTACT:
END:VEVENT
BEGIN:VEVENT
DTSTAMP:20250304T131847
DTSTART;TZID=America/Detroit:20250517T100000
DTEND;TZID=America/Detroit:20250517T163000
SUMMARY:Other:Moth Eden
DESCRIPTION:Explore \"Moth Eden\,\" an evocative art exhibit by Anne Erlewine\, running from April 19 to July 6\, 2025. ‘Moth Eden’ is a series of works exploring the relationship between the sacred reverence of the female form depicted as landscape and the conditioned tension of objectification contrasted by omission through eclipsing desire with the natural essence of bloom and nectar as it pertains to moth sustenance.\n\nAnne Erlewine\, an artist from Ann Arbor\, Michigan\, cultivated her artistic talents from an early age\, inspired by her fine artist grandmother. Her creative journey was further developed at the University of Michigan\, where she studied art and writing.
UID:133414-21873004@events.umich.edu
URL:https://events.umich.edu/event/133414
CLASS:PUBLIC
STATUS:CONFIRMED
CATEGORIES:Visual Arts,In Person,Free,Exhibition,Art
LOCATION:Matthaei Botanical Gardens
CONTACT:
END:VEVENT
BEGIN:VEVENT
DTSTAMP:20250411T181643
DTSTART;TZID=America/Detroit:20250517T103000
DTEND;TZID=America/Detroit:20250517T123000
SUMMARY:Performance:International Division Competition
DESCRIPTION:The George Shirley Vocal and Composer Competition focuses entirely on African American Vocal Repertoire and is open to competitors of all ethnicities. The competition offers singers and composers the opportunity to work with and receive feedback from world-renowned judges\, including George Shirley. We award over $44\,000 in scholarships across 5 divisions.\n\nJUDGES:  \nTimothy Cheek (University of Michigan)\nChristie Finn (Managing Director\, Thomas Hampson's Hampsong Foundation) \nRay Wade (tenor)\nJanet Williams (soprano)
UID:134941-21875711@events.umich.edu
URL:https://events.umich.edu/event/134941
CLASS:PUBLIC
STATUS:CONFIRMED
CATEGORIES:Free,Music,North Campus
LOCATION:Earl V. Moore Building - Britton Recital Hall
CONTACT:
END:VEVENT
END:VCALENDAR