BEGIN:VCALENDAR
VERSION:2.0
PRODID:-//UM//UM*Events//EN
CALSCALE:GREGORIAN
BEGIN:VTIMEZONE
TZID:America/Detroit
TZURL:http://tzurl.org/zoneinfo/America/Detroit
X-LIC-LOCATION:America/Detroit
BEGIN:DAYLIGHT
TZOFFSETFROM:-0500
TZOFFSETTO:-0400
TZNAME:EDT
DTSTART:20070311T020000
RRULE:FREQ=YEARLY;BYMONTH=3;BYDAY=2SU
END:DAYLIGHT
BEGIN:STANDARD
TZOFFSETFROM:-0400
TZOFFSETTO:-0500
TZNAME:EST
DTSTART:20071104T020000
RRULE:FREQ=YEARLY;BYMONTH=11;BYDAY=1SU
END:STANDARD
END:VTIMEZONE
BEGIN:VEVENT
DTSTAMP:20250313T095750
DTSTART;TZID=America/Detroit:20250517T110000
DTEND;TZID=America/Detroit:20250517T173000
SUMMARY:Conference / Symposium:24th Annual Midwest DNA Repair Symposium University of Michigan
DESCRIPTION:The 24th Annual Midwest DNA Repair Symposium will be held at the University of Michigan in the Kahn Auditorium of the Biomedical Science Research Building (BSRB) on May 17–18\, 2025. The event will start on Saturday at lunchtime and end early Sunday afternoon.\n\nWe look forward to hosting a vibrant and diverse community of faculty\, researchers\, postdocs\, graduate students\, and undergraduate students!\n\nThe deadline for registration and abstract submission is May 1\, 2025\, but to be considered for a talk\, abstracts must be submitted by April 15\, 2025.\n\nFor more information\, please visit the 24th Annual Midwest DNA Repair Symposium Homepage - https://sites.google.com/umich.edu/umich-midwestdnarepair.
UID:133795-21873570@events.umich.edu
URL:https://events.umich.edu/event/133795
CLASS:PUBLIC
STATUS:CONFIRMED
CATEGORIES:Biology,human genetics,genomics,genome,genetics,Basic Science,basic sciences,biolgical chemistry,biological chemistry,biological science,symposium,Biosciences,Bsbsigns,cancer,Chemistry,Discussion,epilepsy,Faculty,Free,Human Genetics\, Genetics\, Neurogenetic Diseases,Human Genetics\, Genetics\, Epidemiology,lifton,Medicine,Natural Sciences,neel,neurological disease,Postdoctoral Research Fellows,Public Health,Public Policy,Reception,research,Science,seminar,sodium channel,Life Science,lecture,Information and Technology
LOCATION:
CONTACT:
END:VEVENT
BEGIN:VEVENT
DTSTAMP:20240130T121550
DTSTART;TZID=America/Detroit:20250517T110000
DTEND;TZID=America/Detroit:20250517T200000
SUMMARY:Exhibition:A Gathering
DESCRIPTION:Welcome. Make Yourself At Home.\n \nA Gathering brings together the newest works of art to enter UMMA’s collection — many on display here for the first time. \n \nAs a free\, public museum\, UMMA staff takes care of art for the benefit of the community and society at large. The works on view in this exhibition\, all brought into the Museum between 2019 and the present\, shows how institutions like UMMA are becoming more permeable to societal challenges\, and more nimble in responding to them in service to all in their communities. In this exhibition you will find works that reflect on how global migrations\, race\, gender\, and ecological change shape the way we engage with the world and inform our visions for the future.\n \nThis collection of artistic engagements with issues give us tools to envision who we want to be as individuals\, as a museum\, and as a society\, connected to one another across space and experience.\n \nSo gather here to take in these latest works of art brought here for you. Gather here to be engulfed in their forms and meanings\, to discuss their takes\, to learn\, to disagree. Gather to relax\, make a friend\, drink a coffee\, finish the daily Wordle. Gather to feel full\, to be moved and inspired by all the possible imaginations of what is yet to come.\n \nCurated by Félix Zamora Gómez Irving Stenn\, Jr. Fellow in Public Humanities & Museum Pedagogy\n\nLead support for this exhibition is provided by Lizzie and Jonathan Tisch\, the Richard and Rosann Noel Endowment\, and the University of Michigan Office of the Provost.\n 
UID:107870-21818119@events.umich.edu
URL:https://events.umich.edu/event/107870
CLASS:PUBLIC
STATUS:CONFIRMED
CATEGORIES:UMMA,Staff,Museum,Art,Exhibition,Free,Humanities
LOCATION:Museum of Art - Lizzie and Jonathan Tisch Apse
CONTACT:
END:VEVENT
BEGIN:VEVENT
DTSTAMP:20240130T121551
DTSTART;TZID=America/Detroit:20250517T110000
DTEND;TZID=America/Detroit:20250517T200000
SUMMARY:Exhibition:Unsettling Histories: Legacies of Slavery and Colonialism
DESCRIPTION:Organized as a response to the Museum’s recent acquisition of Titus Kaphar’s Flay (James Madison)\, this upcoming reinstallation of one of our most prominent gallery spaces forces us to grapple with our collection of European and American art\, 1650-1850.\n \nIn recent times\, growing public awareness of the continued reverberations of the legacy of slavery and colonization has challenged museums to examine the uncomfortable histories contained in our collections\, and challenged the public to probe the choices we make about those stories. Choices about which artists you see in our galleries\, choices about what relevant facts we share about the works\, and choices about what - out of an infinite number of options - we don’t say about them.\n \nPieces in this exhibition were made at a time when the world came to be shaped by the ideologies of colonial expansion and Western domination. And yet\, that history and the stories of those marginalized do not readily appear in the still lives and portraits on display here. By grappling with what is visible and what remains hidden\, we are forced to examine whose stories and histories are prioritized and why.  \n \nIn this online exhibition\, you can explore our efforts to deeply question the Museum’s collection and our own past complicity in favoring colonial voices. In the Museum gallery\, which will open in early 2021\, you’ll be able to experience the changes we’re making to the physical space to highlight a more honest version of European and American history. \n \nBy challenging our own practice\, and continuing to add to what we know and what we write about the works we display\, UMMA tells a more complex and more complete story of this nation - one that unsettles\, and fails to settle for\, simple narratives. \n \n“Invisible things are not necessarily ‘not there’.... Certain absences are so stressed\, so ornate\, so planned\, they call attention to themselves\; arrest us with intentionality and purpose\, like neighborhoods that are defined by the population held away from them.” \n \n— Toni Morrison\n\nLead support for Unsettling Histories: Legacies of Slavery and Colonialism is provided by the University of Michigan Office of the Provost\, the U-M Arts Initiative\, and the Susan and Richard Gutow Endowed Fund.\n 
UID:84303-21621598@events.umich.edu
URL:https://events.umich.edu/event/84303
CLASS:PUBLIC
STATUS:CONFIRMED
CATEGORIES:Art,UMMA,European,Exhibition,History,Museum
LOCATION:Museum of Art - European and American Decorative Art
CONTACT:
END:VEVENT
BEGIN:VEVENT
DTSTAMP:20251030T111431
DTSTART;TZID=America/Detroit:20250517T120000
DTEND;TZID=America/Detroit:20250517T124500
SUMMARY:Exhibition:We Are Stars
DESCRIPTION:What are we made of? Where did it all come from? Explore the secrets of our cosmic chemistry and our explosive origins. Connect life on Earth to the evolution of the Universe by following the formation of hydrogen atoms to the synthesis of carbon\, and the molecules for life.
UID:124092-21876250@events.umich.edu
URL:https://events.umich.edu/event/124092
CLASS:PUBLIC
STATUS:CONFIRMED
CATEGORIES:Museum,natural history museum,Planetarium,Science
LOCATION:Museum of Natural History - Planetarium &amp; Dome Theater
CONTACT:
END:VEVENT
BEGIN:VEVENT
DTSTAMP:20250414T004931
DTSTART;TZID=America/Detroit:20250517T123000
DTEND;TZID=America/Detroit:20250517T130000
SUMMARY:Presentation:Cow Eye Dissection
DESCRIPTION:Have you ever wondered how we see? To take a closer look at the organ that helps us see the world– by dissecting a cow’s eye. How is it similar to and different from our eyes\, and those of other animals? Learn the parts of the eye and how they work together. How do our eyes talk with our brain? Learn why we actually see upside down!
UID:124738-21875758@events.umich.edu
URL:https://events.umich.edu/event/124738
CLASS:PUBLIC
STATUS:CONFIRMED
CATEGORIES:Museum,natural history museum
LOCATION:Museum of Natural History
CONTACT:
END:VEVENT
BEGIN:VEVENT
DTSTAMP:20250411T181643
DTSTART;TZID=America/Detroit:20250517T124500
DTEND;TZID=America/Detroit:20250517T163000
SUMMARY:Performance:Composer's Division Competition
DESCRIPTION:The George Shirley Vocal and Composer Competition focuses entirely on African American Vocal Repertoire and is open to competitors of all ethnicities. The competition offers singers and composers the opportunity to work with and receive feedback from world-renowned judges\, including George Shirley. We award over $44\,000 in scholarships across 5 divisions.\n\nJUDGES:\nUzee Brown (Emeritus Chair\, Morehouse College) \nEvan Chambers (University of Michigan)\nAnthony Kelley (Duke University)\nMark Lomax (Ohio State University)
UID:134942-21875712@events.umich.edu
URL:https://events.umich.edu/event/134942
CLASS:PUBLIC
STATUS:CONFIRMED
CATEGORIES:Free,Music,North Campus
LOCATION:Earl V. Moore Building - Britton Recital Hall
CONTACT:
END:VEVENT
END:VCALENDAR