BEGIN:VCALENDAR
VERSION:2.0
PRODID:-//UM//UM*Events//EN
CALSCALE:GREGORIAN
BEGIN:VTIMEZONE
TZID:America/Detroit
TZURL:http://tzurl.org/zoneinfo/America/Detroit
X-LIC-LOCATION:America/Detroit
BEGIN:DAYLIGHT
TZOFFSETFROM:-0500
TZOFFSETTO:-0400
TZNAME:EDT
DTSTART:20070311T020000
RRULE:FREQ=YEARLY;BYMONTH=3;BYDAY=2SU
END:DAYLIGHT
BEGIN:STANDARD
TZOFFSETFROM:-0400
TZOFFSETTO:-0500
TZNAME:EST
DTSTART:20071104T020000
RRULE:FREQ=YEARLY;BYMONTH=11;BYDAY=1SU
END:STANDARD
END:VTIMEZONE
BEGIN:VEVENT
DTSTAMP:20250517T181510
DTSTART;TZID=America/Detroit:20250517T130000
DTEND;TZID=America/Detroit:20250416T010000
SUMMARY:Sporting Event:Baseball vs Indiana
DESCRIPTION:Baseball vs Indiana
UID:135032-21875982@events.umich.edu
URL:https://events.umich.edu/event/135032
CLASS:PUBLIC
STATUS:CONFIRMED
CATEGORIES:Athletics - Baseball,Athletics
LOCATION:Ray Fisher Baseball Stadium
CONTACT:
END:VEVENT
BEGIN:VEVENT
DTSTAMP:20250509T114841
DTSTART;TZID=America/Detroit:20250517T130000
SUMMARY:Performance:Shrek
DESCRIPTION:No description is provided. \nPlease visit https://mutotix.umich.edu/5654/5657 for more detail.
UID:134541-21874470@events.umich.edu
URL:https://events.umich.edu/event/134541
CLASS:PUBLIC
STATUS:CONFIRMED
CATEGORIES:Theater,Mutotix
LOCATION:Power Center
CONTACT:
END:VEVENT
BEGIN:VEVENT
DTSTAMP:20250414T003504
DTSTART;TZID=America/Detroit:20250517T133000
DTEND;TZID=America/Detroit:20250517T140000
SUMMARY:Tours:Tour: Museum Highlights
DESCRIPTION:Learn about some of our exciting exhibits and galleries like the Exploring Michigan gallery and Evolution: Life Through Time. Along with learning about the past\, this tour will take a step into the future and explore cutting-edge research being done in the Biological Sciences Building.
UID:125524-21875734@events.umich.edu
URL:https://events.umich.edu/event/125524
CLASS:PUBLIC
STATUS:CONFIRMED
CATEGORIES:natural history museum,Museum
LOCATION:Museum of Natural History
CONTACT:
END:VEVENT
BEGIN:VEVENT
DTSTAMP:20250507T154122
DTSTART;TZID=America/Detroit:20250517T140000
DTEND;TZID=America/Detroit:20250517T144500
SUMMARY:Exhibition:Dynamic Earth
DESCRIPTION:The show explores the inner workings of Earth’s climate system. With visualizations based on satellite monitoring data and advanced supercomputer simulations\, this cutting-edge production follows a trail of energy that flows from the Sun into the interlocking systems that shape our climate: the atmosphere\, oceans\, and the biosphere.\n\nAudiences will ride along on swirling ocean and wind currents\, dive into the heart of a monster hurricane\, come face-to-face with sharks and gigantic whales\, and fly into roiling volcanoes.
UID:135104-21876302@events.umich.edu
URL:https://events.umich.edu/event/135104
CLASS:PUBLIC
STATUS:CONFIRMED
CATEGORIES:Space,Planetarium,Natural Sciences,natural history museum,Museum
LOCATION:Museum of Natural History - Planetarium &amp; Dome Theater
CONTACT:
END:VEVENT
BEGIN:VEVENT
DTSTAMP:20250414T004931
DTSTART;TZID=America/Detroit:20250517T143000
DTEND;TZID=America/Detroit:20250517T150000
SUMMARY:Presentation:Cow Eye Dissection
DESCRIPTION:Have you ever wondered how we see? To take a closer look at the organ that helps us see the world– by dissecting a cow’s eye. How is it similar to and different from our eyes\, and those of other animals? Learn the parts of the eye and how they work together. How do our eyes talk with our brain? Learn why we actually see upside down!
UID:124738-21875767@events.umich.edu
URL:https://events.umich.edu/event/124738
CLASS:PUBLIC
STATUS:CONFIRMED
CATEGORIES:natural history museum,Museum
LOCATION:Museum of Natural History
CONTACT:
END:VEVENT
BEGIN:VEVENT
DTSTAMP:20250415T181633
DTSTART;TZID=America/Detroit:20250517T143000
DTEND;TZID=America/Detroit:20250517T163000
SUMMARY:Class / Instruction:High School Vocal Master Class with Colleen Beucher
DESCRIPTION:Clinician and U-M alum Dr. Colleen Beucher (DMA '23\, voice) of University of Florida presents a Master Class featuring high school division competitors singing African American art song.\n\nDr. Kathryn Goodson\, pianist\n\nFree and open to the public.
UID:135027-21875981@events.umich.edu
URL:https://events.umich.edu/event/135027
CLASS:PUBLIC
STATUS:CONFIRMED
CATEGORIES:Workshop,Talk,North Campus,Music,Free,Alumni
LOCATION:Earl V. Moore Building - Watkins Lecture Hall
CONTACT:
END:VEVENT
END:VCALENDAR