BEGIN:VCALENDAR
VERSION:2.0
PRODID:-//UM//UM*Events//EN
CALSCALE:GREGORIAN
BEGIN:VTIMEZONE
TZID:America/Detroit
TZURL:http://tzurl.org/zoneinfo/America/Detroit
X-LIC-LOCATION:America/Detroit
BEGIN:DAYLIGHT
TZOFFSETFROM:-0500
TZOFFSETTO:-0400
TZNAME:EDT
DTSTART:20070311T020000
RRULE:FREQ=YEARLY;BYMONTH=3;BYDAY=2SU
END:DAYLIGHT
BEGIN:STANDARD
TZOFFSETFROM:-0400
TZOFFSETTO:-0500
TZNAME:EST
DTSTART:20071104T020000
RRULE:FREQ=YEARLY;BYMONTH=11;BYDAY=1SU
END:STANDARD
END:VTIMEZONE
BEGIN:VEVENT
DTSTAMP:20251030T111431
DTSTART;TZID=America/Detroit:20250518T120000
DTEND;TZID=America/Detroit:20250518T124500
SUMMARY:Exhibition:We Are Stars
DESCRIPTION:What are we made of? Where did it all come from? Explore the secrets of our cosmic chemistry and our explosive origins. Connect life on Earth to the evolution of the Universe by following the formation of hydrogen atoms to the synthesis of carbon\, and the molecules for life.
UID:124092-21876721@events.umich.edu
URL:https://events.umich.edu/event/124092
CLASS:PUBLIC
STATUS:CONFIRMED
CATEGORIES:Science,Planetarium,natural history museum,Museum
LOCATION:Museum of Natural History - Planetarium &amp; Dome Theater
CONTACT:
END:VEVENT
BEGIN:VEVENT
DTSTAMP:20250414T004931
DTSTART;TZID=America/Detroit:20250518T123000
DTEND;TZID=America/Detroit:20250518T130000
SUMMARY:Presentation:Cow Eye Dissection
DESCRIPTION:Have you ever wondered how we see? To take a closer look at the organ that helps us see the world– by dissecting a cow’s eye. How is it similar to and different from our eyes\, and those of other animals? Learn the parts of the eye and how they work together. How do our eyes talk with our brain? Learn why we actually see upside down!
UID:124738-21875763@events.umich.edu
URL:https://events.umich.edu/event/124738
CLASS:PUBLIC
STATUS:CONFIRMED
CATEGORIES:natural history museum,Museum
LOCATION:Museum of Natural History
CONTACT:
END:VEVENT
BEGIN:VEVENT
DTSTAMP:20250331T100231
DTSTART;TZID=America/Detroit:20250518T130000
DTEND;TZID=America/Detroit:20250518T140000
SUMMARY:Other:Wonder Walk
DESCRIPTION:Matthaei Botanical Gardens is hosting free guided nature walks on select Wednesdays and Sundays.  These walks are FREE\, no registration is required. Wonder Walks are designed for all ages to inspire curiosity and learning from each other through activities that model curiosity and honor nature. If we have a sizeable mixed-age group\, we may separate into two sets to offer the same content at different levels of engagement.\n\nWednesday walks begin at 5:30 pm.  Sunday walks begin at 1:00 pm. We recommend gathering inside the lobby of Matthaei Botanical Gardens about 10 minutes before the start.
UID:134494-21874425@events.umich.edu
URL:https://events.umich.edu/event/134494
CLASS:PUBLIC
STATUS:CONFIRMED
CATEGORIES:Family,Nature,Free
LOCATION:Matthaei Botanical Gardens
CONTACT:
END:VEVENT
BEGIN:VEVENT
DTSTAMP:20250414T004336
DTSTART;TZID=America/Detroit:20250518T133000
DTEND;TZID=America/Detroit:20250518T140000
SUMMARY:Tours:Tour: Walking with Whales
DESCRIPTION:Discover a world where prehistoric whales had four limbs and walked on land! Learn about how whales and dolphins made the transition from land back into the water as you examine specimens that were distant or direct ancestors to modern cetaceans (whales\, dolphins\, and porpoises).
UID:125536-21875754@events.umich.edu
URL:https://events.umich.edu/event/125536
CLASS:PUBLIC
STATUS:CONFIRMED
CATEGORIES:natural history museum,Museum
LOCATION:Museum of Natural History
CONTACT:
END:VEVENT
BEGIN:VEVENT
DTSTAMP:20250507T154122
DTSTART;TZID=America/Detroit:20250518T140000
DTEND;TZID=America/Detroit:20250518T144500
SUMMARY:Exhibition:Dynamic Earth
DESCRIPTION:The show explores the inner workings of Earth’s climate system. With visualizations based on satellite monitoring data and advanced supercomputer simulations\, this cutting-edge production follows a trail of energy that flows from the Sun into the interlocking systems that shape our climate: the atmosphere\, oceans\, and the biosphere.\n\nAudiences will ride along on swirling ocean and wind currents\, dive into the heart of a monster hurricane\, come face-to-face with sharks and gigantic whales\, and fly into roiling volcanoes.
UID:135104-21876311@events.umich.edu
URL:https://events.umich.edu/event/135104
CLASS:PUBLIC
STATUS:CONFIRMED
CATEGORIES:natural history museum,Museum,Natural Sciences,Planetarium,Space
LOCATION:Museum of Natural History - Planetarium &amp; Dome Theater
CONTACT:
END:VEVENT
BEGIN:VEVENT
DTSTAMP:20250518T181506
DTSTART;TZID=America/Detroit:20250518T140000
DTEND;TZID=America/Detroit:20250518T150000
SUMMARY:Lecture / Discussion:Exhibition Tour: Strange You Never Knew with Frances Kai-Hwa Wang and Curator Jennifer Friess
DESCRIPTION:Join author Frances Kai-Hwa Wang and exhibition curator Jennifer Friess for a tour of Jarod Lew’s first solo museum exhibition\, Strange You Never Knew. Jarod Lew explores the limits and potential of knowing—knowing who you are\, knowing your family history\, and knowing your place in a community. \n \nStrange You Never Knew explores how photography can function as a repository of personal and communal histories. By weaving together connections between personal histories and broader social contexts\, Lew draws connections between the past and present\, examining how identity is shaped by both individual and collective memory\, while challenging viewers to reflect on the ongoing impact of racial discrimination and cultural stereotyping.\n \nFree and open to the public. Registration required.\n 
UID:133896-21873678@events.umich.edu
URL:https://events.umich.edu/event/133896
CLASS:PUBLIC
STATUS:CONFIRMED
CATEGORIES:Exhibition,Art,Museum,UMMA,Tour
LOCATION:Museum of Art - A. Alfred Taubman Gallery I
CONTACT:
END:VEVENT
END:VCALENDAR