BEGIN:VCALENDAR
VERSION:2.0
PRODID:-//UM//UM*Events//EN
CALSCALE:GREGORIAN
BEGIN:VTIMEZONE
TZID:America/Detroit
TZURL:http://tzurl.org/zoneinfo/America/Detroit
X-LIC-LOCATION:America/Detroit
BEGIN:DAYLIGHT
TZOFFSETFROM:-0500
TZOFFSETTO:-0400
TZNAME:EDT
DTSTART:20070311T020000
RRULE:FREQ=YEARLY;BYMONTH=3;BYDAY=2SU
END:DAYLIGHT
BEGIN:STANDARD
TZOFFSETFROM:-0400
TZOFFSETTO:-0500
TZNAME:EST
DTSTART:20071104T020000
RRULE:FREQ=YEARLY;BYMONTH=11;BYDAY=1SU
END:STANDARD
END:VTIMEZONE
BEGIN:VEVENT
DTSTAMP:20250509T114653
DTSTART;TZID=America/Detroit:20250518T140000
SUMMARY:Performance:Shrek
DESCRIPTION:No description is provided. \nPlease visit https://mutotix.umich.edu/5654/5658 for more detail.
UID:134542-21874471@events.umich.edu
URL:https://events.umich.edu/event/134542
CLASS:PUBLIC
STATUS:CONFIRMED
CATEGORIES:Mutotix,Theater
LOCATION:Power Center
CONTACT:
END:VEVENT
BEGIN:VEVENT
DTSTAMP:20250414T004931
DTSTART;TZID=America/Detroit:20250518T143000
DTEND;TZID=America/Detroit:20250518T150000
SUMMARY:Presentation:Cow Eye Dissection
DESCRIPTION:Have you ever wondered how we see? To take a closer look at the organ that helps us see the world– by dissecting a cow’s eye. How is it similar to and different from our eyes\, and those of other animals? Learn the parts of the eye and how they work together. How do our eyes talk with our brain? Learn why we actually see upside down!
UID:124738-21875772@events.umich.edu
URL:https://events.umich.edu/event/124738
CLASS:PUBLIC
STATUS:CONFIRMED
CATEGORIES:Museum,natural history museum
LOCATION:Museum of Natural History
CONTACT:
END:VEVENT
BEGIN:VEVENT
DTSTAMP:20250509T120323
DTSTART;TZID=America/Detroit:20250518T193000
SUMMARY:Performance:Jess Merritt
DESCRIPTION:Album release party!\n\nJess Merritt is an Ann Arbor-based singer and songwriter whose rich\, soulful voice evokes a unique emotional resonance. From power ballads to velvet keys\, soul and rock to blues and pop\, listeners are headed into a memorable experience by this expansive and versatile local favorite. Finding inspiration in the natural world\, she draws from deep roots to deliver in ways both captivating and raw - taking listeners with her on a journey of healing through feeling. Jess is celebrating the release of her new EP.
UID:132611-21871392@events.umich.edu
URL:https://events.umich.edu/event/132611
CLASS:PUBLIC
STATUS:CONFIRMED
CATEGORIES:Ark,Mutotix
LOCATION:ARK Reserved
CONTACT:
END:VEVENT
BEGIN:VEVENT
DTSTAMP:20250304T115736
DTSTART;TZID=America/Detroit:20250519T000000
DTEND;TZID=America/Detroit:20250519T120000
SUMMARY:Class / Instruction:Summer Session in Epidemiology
DESCRIPTION:Join us for the longest-running summer program in epidemiology! Choose from engaging 1-week or 3-week online courses designed to provide skills-based training in applied epidemiology.\n\nFor 60 years\, the University of Michigan's Summer Session in Epidemiology (SSE) has been one of the nation's longest-running and premier summer epidemiology programs. In just one to three intensive weeks\, gain valuable knowledge and skills to enhance your academic and professional journey. SSE is designed for public health and healthcare professionals\, researchers\, and anyone eager to build a foundation in epidemiologic science. We welcome participants from diverse backgrounds\, including undergraduate students\, public health professionals\, clinical and biomedical researchers\, and scholars in related fields such as psychology\, sociology\, and earth sciences. \n\nWhile experience in public health\, epidemiology\, or biostatistics is beneficial\, it is not required. By the end of our program\, you will have developed a solid understanding of key research principles in clinical populations\, covering areas such as: Study Design\, Biostatistical Analysis\, and Causal Inference These essential skills will help you advance in epidemiology\, public health\, and related fields.
UID:133411-21872958@events.umich.edu
URL:https://events.umich.edu/event/133411
CLASS:PUBLIC
STATUS:CONFIRMED
CATEGORIES:Virtual,Undergraduate Students,Undergraduate,Staff,Research,Rackham,Public Health,Professional Development,Postdoctoral Research Fellows,Alumni,biostatistics,Pre Med,Complex Systems,data,Dentistry,Education,Epidemiology,Graduate,Graduate and Professional Students,Graduate Students
LOCATION:Off Campus Location
CONTACT:
END:VEVENT
BEGIN:VEVENT
DTSTAMP:20250416T111604
DTSTART;TZID=America/Detroit:20250519T080000
DTEND;TZID=America/Detroit:20250519T235900
SUMMARY:Workshop / Seminar:When Life Gives You LLMs\, Make LLMonade!
DESCRIPTION:Join us for a 10-day adventure to explore how generative AI\, like ChatGPT\, can enhance your work. Whether you’re curious\, skeptical\, or an experienced user\, this event offers short\, hands-on activities that take just a few minutes each day. No deep dives\, no tech talk. Just a taste of what AI can do and why it’s worth your time. Join us to learn\, play\, and find ways genAI can help you ‘make LLMonade’ from the world of large language models! \n\nThis event runs May 19-30\, online in Slack. It is asynchronous and self-paced. We do hope you'll register and join us!\nhttps://umich.qualtrics.com/jfe/form/SV_02l0IXqlvZMBzee
UID:135033-21876022@events.umich.edu
URL:https://events.umich.edu/event/135033
CLASS:PUBLIC
STATUS:CONFIRMED
CATEGORIES:Social,Skill-building,Generative Ai,Training,Genai,Exploration
LOCATION:Off Campus Location
CONTACT:
END:VEVENT
BEGIN:VEVENT
DTSTAMP:20250408T135629
DTSTART;TZID=America/Detroit:20250519T090000
DTEND;TZID=America/Detroit:20250519T200000
SUMMARY:Exhibition:Behind the Curve: Rainbows and the Science and Culture of Color
DESCRIPTION:We have many significant books from the history of our understanding of rainbows and color theory\, from the writings of scholar Ḥasan Ibn al-Haytham to Isaac Newton’s 1704 Opticks. Rainbows appear across the spectrum of our collections\, and this exhibit includes a handwritten illuminated manuscript\, practical color manuals of the industrial age\, contemporary artists’ and children’s books\, and more from our vast holdings. \n\nRainbows have captivated people for all of recorded history. It’s hard not to think of them as physical objects\, but they are really just distorted images of the sun\, positioned around the viewer’s head. They require someone to perceive them to exist\, and thus have much in common with colors and color theory in general. And\, like colors\, they are about relationships: of one color next to another\, and of colors and the people who see them. The rainbow has had many different cultural interpretations over the years\, and most recently has become synonymous with gay pride\, appearing all over each June.\n\nHatcher Gallery Exhibit Room Hours:\nSunday\, 2-8pm\nMonday-Thursday\, 9am-8pm\nFriday\, 9am-4pm\nSaturday\, 11am-5pm
UID:134798-21875148@events.umich.edu
URL:https://events.umich.edu/event/134798
CLASS:PUBLIC
STATUS:CONFIRMED
CATEGORIES:Library,Free
LOCATION:Hatcher Graduate Library - Hatcher Gallery Exhibit Room (1st floor)
CONTACT:
END:VEVENT
END:VCALENDAR