BEGIN:VCALENDAR
VERSION:2.0
PRODID:-//UM//UM*Events//EN
CALSCALE:GREGORIAN
BEGIN:VTIMEZONE
TZID:America/Detroit
TZURL:http://tzurl.org/zoneinfo/America/Detroit
X-LIC-LOCATION:America/Detroit
BEGIN:DAYLIGHT
TZOFFSETFROM:-0500
TZOFFSETTO:-0400
TZNAME:EDT
DTSTART:20070311T020000
RRULE:FREQ=YEARLY;BYMONTH=3;BYDAY=2SU
END:DAYLIGHT
BEGIN:STANDARD
TZOFFSETFROM:-0400
TZOFFSETTO:-0500
TZNAME:EST
DTSTART:20071104T020000
RRULE:FREQ=YEARLY;BYMONTH=11;BYDAY=1SU
END:STANDARD
END:VTIMEZONE
BEGIN:VEVENT
DTSTAMP:20250407T111911
DTSTART;TZID=America/Detroit:20250519T090000
DTEND;TZID=America/Detroit:20250519T170000
SUMMARY:Exhibition:Carlo Vitale Exhibition
DESCRIPTION:Carlo Vitale is a distinguished Michigan-based artist whose vibrant contributions to the Detroit art scene have flourished since the 1970s. A native of Detroit\, Vitale's work is celebrated as part of the second generation of the Cass Corridor Art Movement\, Detroit’s first avante garde. His art draws inspiration from the sweeping vistas of farmland seen from above\, the intricate patterns of quilt-making\, the dynamic energy of cityscapes\, and the rich tapestry of daily life. Vitale eloquently characterizes his mesmerizing oil paintings and prints as “kinetic\, metaphysical abstractions\,” inviting viewers to engage with the depth and vitality of his creative vision.\n\nVitale received his Bachelor of Fine Arts and Masters of Fine Arts from Wayne State University in Detroit.  His work can be found in many collections including The Whitney Museum of Fine Art in New York\, The Detroit Institute of Art\, Cranbrook Art Museum\, Wayne State University Collection\, University of Michigan Museum of Art and corporate\, hospital\, and private collections throughout the country.
UID:134757-21874880@events.umich.edu
URL:https://events.umich.edu/event/134757
CLASS:PUBLIC
STATUS:CONFIRMED
CATEGORIES:Culture,Detroit,Exhibition,Free,Humanities,Visual Arts
LOCATION:North Campus Research Complex Building 18 - NCRC Galleries
CONTACT:
END:VEVENT
BEGIN:VEVENT
DTSTAMP:20250211T122734
DTSTART;TZID=America/Detroit:20250519T090000
DTEND;TZID=America/Detroit:20250519T160000
SUMMARY:Exhibition:Redefining the Crown
DESCRIPTION:In Winter 2025\, the Lane Hall exhibit space will feature a portraiture series titled Redefining the Crown showcasing the powerful stories of six Black breast cancer survivors.\n\nBased on a photo essay by U-M Faculty Versha Pleasant (MD/MPH) and Ava Purkiss (PhD) in Medicine at Michigan\, this exhibition examines the cultural and personal significance of hair within Black communities\, particularly through the lens of breast cancer treatment and recovery. The term \"crown\" is deeply symbolic in Black culture\, signifying beauty\, strength\, and identity. The featured photo essay by photographer Tafari Stevenson-Howard captures the intimate journeys of Ann Chatman\, Tanisha Kennedy\, Felecia McDaniel\, Shantell Elaine McCoy\, Tamara Lynn Myles\, and Veleria Banks.\n\nThrough their narratives and portraits\, the exhibit examines how these women have navigated the profound impact of hair loss caused by chemotherapy\, inviting the audience to witness their stories with radical empathy. It explores the cultural pride and personal identity intricately tied to their hair\, and how these elements are redefined amidst their battles with breast cancer.\n\nThe exhibit will be on view from January 21\, 2025 to August 8\, 2025. This exhibition is presented with support from IRWG\, the Department of Women's and Gender Studies\, and Michigan Medicine. \n\nLocated on the first floor of Lane Hall (204 S. State Street)\, the Exhibit Space is free and open to the public\, M-F\, 9am-4pm.
UID:129602-21864136@events.umich.edu
URL:https://events.umich.edu/event/129602
CLASS:PUBLIC
STATUS:CONFIRMED
CATEGORIES:african american,Art,institute for research on women and gender,women,Women's And Gender Studies
LOCATION:Lane Hall
CONTACT:
END:VEVENT
BEGIN:VEVENT
DTSTAMP:20250421T113230
DTSTART;TZID=America/Detroit:20250519T120000
DTEND;TZID=America/Detroit:20250519T160000
SUMMARY:Exhibition:Bloody Work: Lexington and Concord 1775
DESCRIPTION:The William L. Clements Library is pleased to announce a forthcoming exhibition in recognition of the 250th Anniversary of the military hostilities that began the American Revolutionary War. The Battles of Lexington and Concord are firmly established in American memory as the culmination of a range of governmental\, political\, economic\, and social tensions that amplified in the decade leading up to 1775. In this exhibit\, visitors will have the opportunity to see original historical manuscript letters\, documents\, newspapers\, and artwork that reveal aspects of the bloody work of Empire and individual alike in April 1775.\n\nAmong the items on display will be Commander in Chief of the British Army\, General Thomas Gage's draft orders for the Concord Expedition\, April 18\, 1775\; a bundle of letters collected by former Sons of Liberty supporter Dr. Benjamin Church\, which he secretly turned over to British Army intelligence\; letters by Silas Deane\, John Hancock\, and Rachel Revere\; and much more.\n\nOpen weekdays from 12-4 pm.
UID:134875-21875536@events.umich.edu
URL:https://events.umich.edu/event/134875
CLASS:PUBLIC
STATUS:CONFIRMED
CATEGORIES:american culture,american history,Americana,Ann Arbor,Exhibit,Exhibition,Free,history,libraries,Library
LOCATION:William Clements Library
CONTACT:
END:VEVENT
BEGIN:VEVENT
DTSTAMP:20250303T063126
DTSTART;TZID=America/Detroit:20250519T120000
DTEND;TZID=America/Detroit:20250519T123000
SUMMARY:Careers / Jobs:FREE Virtual Session: Why Teach? Pathways to Teaching
DESCRIPTION:Join us for a free virtual session! Throughout the school year\, Cherokee County School District offers 30-minute workshops designed for future educators. These sessions are  conveniently scheduled so that you can listen in while commuting or between classes.No active participation is required!Join in and listen like a podcast! You can view the topics and pre-register using this link: Professional Development Virtual Sessions. You will also use this link to join the session by clicking on the session title. Can't make it? RSVP to the event andwe will send a recording! 
UID:127816-21859718@events.umich.edu
URL:https://events.umich.edu/event/127816
CLASS:PUBLIC
STATUS:CONFIRMED
CATEGORIES:
LOCATION:
CONTACT:
END:VEVENT
BEGIN:VEVENT
DTSTAMP:20250508T112131
DTSTART;TZID=America/Detroit:20250519T140000
DTEND;TZID=America/Detroit:20250519T150000
SUMMARY:Lecture / Discussion:Webinar: Elevation Capital\, Vegetation\, and Blue Carbon: Assessing Long-term Outcomes of Tidal Wetland Restoration
DESCRIPTION:Tens of millions of dollars have been spent on tidal wetland restoration over the past several decades but there is still limited information on the long-term ecological outcomes of these efforts. To address this\, a collaborative research project worked with four west coast NERRS and regional partners to assess marsh elevation capital\, vegetation communities\, and carbon sequestration in 16 decades-old restoration sites and paired reference marshes in California\, Oregon\, and Washington. By investigating how restoration has affected key wetland attributes at some of the oldest restoration sites along the west coast\, this project brings actionable information to restoration practitioners and others planning for\, designing\, and quantifying benefits of new tidal wetland restoration projects. In this webinar\, the project team discusses their results\, the implications of their findings for future restoration implementation and monitoring\, and next steps.
UID:135551-21876948@events.umich.edu
URL:https://events.umich.edu/event/135551
CLASS:PUBLIC
STATUS:CONFIRMED
CATEGORIES:Environment,Sustainability
LOCATION:Off Campus Location
CONTACT:
END:VEVENT
BEGIN:VEVENT
DTSTAMP:20250317T154756
DTSTART;TZID=America/Detroit:20250519T180000
DTEND;TZID=America/Detroit:20250519T193000
SUMMARY:Other:CBT Group for Adults with Social or Performance Anxiety – Spring/Summer 2025
DESCRIPTION:Do you get anxious in anticipation of social events or performance situations? Do you find yourself worried about appearing incompetent\, weird\, weak\, unintelligent\, awkward\, or anxious to other people in such situations? Do you ruminate about how you came across even after the event is over? Do you experience heart pounding\, blushing\, shaking\, sweating\, dry throat\, or “blanking out” in these situations? Do you cope by avoiding these situations as much as you can? \n\nIf so\, our Cognitive Behavioral Therapy (CBT) group for Social Anxiety may be right for you. Hosted by our Psychological Clinic\, the group is scheduled for 6-7:30 p.m. on Mondays\, beginning April 21\, 2025. The group will run for 8 weekly 90-minute sessions\, plus a booster session one month afterward the group concludes.\n\nClinicians use evidence-based group therapy to help participants learn to identify and shift unhealthy thinking patterns. You will build coping skills and increase confidence in a supportive environment and at your own pace.\n\nDetails\n+ When: 6-7:30 p.m.\, Tuesdays.\n+ Duration: The group will meet for 8 weeks starting on April 21\, with a follow-up booster session one month after the group concludes.\n+ Cost: $45 per meeting session\, without insurance. Call for information on insurance coverage.\n+ Where: Virtual via Zoom
UID:133976-21873743@events.umich.edu
URL:https://events.umich.edu/event/133976
CLASS:PUBLIC
STATUS:CONFIRMED
CATEGORIES:anxiety,Faculty,Graduate,Graduate and Professional Students,Graduate Students,Group Therapy,Health & Wellness,psychology,Social Anxiety,Staff,Undergraduate,Undergraduate Students,Virtual,Well-being
LOCATION:Off Campus Location
CONTACT:
END:VEVENT
END:VCALENDAR