BEGIN:VCALENDAR
VERSION:2.0
PRODID:-//UM//UM*Events//EN
CALSCALE:GREGORIAN
BEGIN:VTIMEZONE
TZID:America/Detroit
TZURL:http://tzurl.org/zoneinfo/America/Detroit
X-LIC-LOCATION:America/Detroit
BEGIN:DAYLIGHT
TZOFFSETFROM:-0500
TZOFFSETTO:-0400
TZNAME:EDT
DTSTART:20070311T020000
RRULE:FREQ=YEARLY;BYMONTH=3;BYDAY=2SU
END:DAYLIGHT
BEGIN:STANDARD
TZOFFSETFROM:-0400
TZOFFSETTO:-0500
TZNAME:EST
DTSTART:20071104T020000
RRULE:FREQ=YEARLY;BYMONTH=11;BYDAY=1SU
END:STANDARD
END:VTIMEZONE
BEGIN:VEVENT
DTSTAMP:20250506T153930
DTSTART;TZID=America/Detroit:20250520T140000
DTEND;TZID=America/Detroit:20250520T160000
SUMMARY:Workshop / Seminar:Make a Maizey Drop-In Workshop
DESCRIPTION:Want to learn how to leverage U-M’s AI tools for your Canvas courses? Then ‘Make a Maizey’ with the ITS Emerging Technology team! This dynamic workshop will teach you how to create an AI-powered assistant for your Canvas courses in only just a few minutes using Maizey\, U-M's custom AI platform. No prior knowledge necessary. \n\nWhen you ‘Make a Maizey’ for your class\, it offers your students a 24/7 resource via an AI-chatbot tailored your course content. Save time answering routine questions\, boost classroom engagement\, and provide customized assistance to the unique needs of every student.\n\nFaculty\, instructors\, Canvas admins\, and all other interested parties are welcome to attend–bring a laptop to work from\, and also enjoy some food and fun swag!\n\nPlease RSVP here: https://myumi.ch/rA8xE
UID:135290-21876569@events.umich.edu
URL:https://events.umich.edu/event/135290
CLASS:PUBLIC
STATUS:CONFIRMED
CATEGORIES:Artificial Intelligence,workshop,U-m Gpt,Make A Maizey Workshop,Its,Generative Ai,Genai,Free,Faculty,Education,digital technology,Consultation,Canvas,Academic Technology At Michigan,Ai Literacy
LOCATION:BBB - 1620
CONTACT:
END:VEVENT
BEGIN:VEVENT
DTSTAMP:20250520T132019
DTSTART;TZID=America/Detroit:20250520T140000
DTEND;TZID=America/Detroit:20250520T160000
SUMMARY:Workshop / Seminar:Make a Maizey Workshop
DESCRIPTION:Create an AI Tutor in Minutes with the Canvas-Maizey integration\n
UID:135284-21876563@events.umich.edu
URL:https://events.umich.edu/event/135284
CLASS:PUBLIC
STATUS:CONFIRMED
CATEGORIES:Sessions
LOCATION:
CONTACT:
END:VEVENT
BEGIN:VEVENT
DTSTAMP:20250520T132019
DTSTART;TZID=America/Detroit:20250520T150000
DTEND;TZID=America/Detroit:20250520T160000
SUMMARY:Workshop / Seminar:May Birthday Celebration X International Coffee Hour
DESCRIPTION:
UID:135341-21876717@events.umich.edu
URL:https://events.umich.edu/event/135341
CLASS:PUBLIC
STATUS:CONFIRMED
CATEGORIES:Sessions
LOCATION:Student Activities Building Courtyard
CONTACT:
END:VEVENT
BEGIN:VEVENT
DTSTAMP:20250409T131531
DTSTART;TZID=America/Detroit:20250520T160000
DTEND;TZID=America/Detroit:20250520T170000
SUMMARY:Lecture / Discussion:Reprogramming Secrets of the Ocular Pigment Epithelium
DESCRIPTION:Katia Del Rio-Tsonis\, Ph.D.\nProfessor\, Biology\nCo-Director\, Center for Visual Sciences\nMiami University
UID:130339-21865771@events.umich.edu
URL:https://events.umich.edu/event/130339
CLASS:PUBLIC
STATUS:CONFIRMED
CATEGORIES:AEM Featured,Research,Undergraduate Students,seminar,Science,Graduate School,Basic Science,Biointerfaces,Biology,biomedical,biomedical engineering,Biosciences,Ecology,Education,Engineering,Free,Graduate Students,human genetics,In Person,Interdisciplinary,Lecture,Life Science,Medicine,Postdoctoral Research Fellows,Public Health,Rackham
LOCATION:Buhl Res Cen for Human Genetics - 5915
CONTACT:
END:VEVENT
BEGIN:VEVENT
DTSTAMP:20250415T090340
DTSTART;TZID=America/Detroit:20250520T180000
DTEND;TZID=America/Detroit:20250520T190000
SUMMARY:Presentation:Mind Matters: Mood and Art
DESCRIPTION:Join the Heinz C. Prechter Bipolar Research Program on Tuesday\, May 20th from 6:00-7:00 PM ET for the webinar Mind Matters: Mood and Art\n\nThis webinar will feature visiting scholar and keynote speaker\, Catarina Castela\, Ph.D. She will speak about her research\, \"Monitoring mood variation in bipolar disorder: An interdisciplinary study on the relationship between mood and formal art elements.\" \n\nCatarina is a Ph.D. student at Curtin University in Perth\, Western Australia. She has over 20 years of experience as a graphic designer\, working across national and international projects. In 2016\, she completed a master's degree at Curtin University\, exploring the cognitive and psychological underpinnings of aesthetic preference. Catarina's Ph.D. research is grounded in lived experience of bipolar disorder. It investigates the relationship between bipolar disorder and creative expression\, examining how changes in visual elements within drawings\, such as line quality\, color use\, and composition\, may reflect underlying psychological states to reveal patterns in mood fluctuation and symptom severity. Catarina aims to develop and validate a preliminary art-based Mood Monitoring Method (MMMET) by combining personal reflection with a structured analysis of drawings through a formative case series study followed by a large-scale longitudinal study. By translating visual elements into measurable data\, her research aims to offer a fresh perspective on the clinical value of art by highlighting its potential to inform tailored treatment strategies and support long-term symptom management.
UID:134999-21875904@events.umich.edu
URL:https://events.umich.edu/event/134999
CLASS:PUBLIC
STATUS:CONFIRMED
CATEGORIES:Health & Wellness,Well-being,Visual Arts,Research,Psychology,Mental Health,Bipolar
LOCATION:Off Campus Location
CONTACT:
END:VEVENT
BEGIN:VEVENT
DTSTAMP:20250520T060008
DTSTART;TZID=America/Detroit:20250521T000000
DTEND;TZID=America/Detroit:20250521T235959
SUMMARY:Other:College Championships
DESCRIPTION:we're going to nationals!!
UID:135705-21877149@events.umich.edu
URL:https://events.umich.edu/event/135705
CLASS:PUBLIC
STATUS:CONFIRMED
CATEGORIES:
LOCATION:Skagit River Park Sports Complex
CONTACT:
END:VEVENT
END:VCALENDAR