BEGIN:VCALENDAR
VERSION:2.0
PRODID:-//UM//UM*Events//EN
CALSCALE:GREGORIAN
BEGIN:VTIMEZONE
TZID:America/Detroit
TZURL:http://tzurl.org/zoneinfo/America/Detroit
X-LIC-LOCATION:America/Detroit
BEGIN:DAYLIGHT
TZOFFSETFROM:-0500
TZOFFSETTO:-0400
TZNAME:EDT
DTSTART:20070311T020000
RRULE:FREQ=YEARLY;BYMONTH=3;BYDAY=2SU
END:DAYLIGHT
BEGIN:STANDARD
TZOFFSETFROM:-0400
TZOFFSETTO:-0500
TZNAME:EST
DTSTART:20071104T020000
RRULE:FREQ=YEARLY;BYMONTH=11;BYDAY=1SU
END:STANDARD
END:VTIMEZONE
BEGIN:VEVENT
DTSTAMP:20250303T063155
DTSTART;TZID=America/Detroit:20250410T180000
DTEND;TZID=America/Detroit:20250410T190000
SUMMARY:Careers / Jobs:2025 Bain & Company Info Session - In-person
DESCRIPTION:Join University of Michigan alumni from the Bain Chicago office to learn more about Bain &amp\; Company\, the work we do and the impact we have on our clients\, and the positions we have available for undergraduate students!
UID:131864-21869331@events.umich.edu
URL:https://events.umich.edu/event/131864
CLASS:PUBLIC
STATUS:CONFIRMED
CATEGORIES:
LOCATION:
CONTACT:
END:VEVENT
BEGIN:VEVENT
DTSTAMP:20250331T094623
DTSTART;TZID=America/Detroit:20250410T180000
DTEND;TZID=America/Detroit:20250410T190000
SUMMARY:Lecture / Discussion:Digging Deeper Lecture Series | Unraveling the Fabric of the Past: Textile Production and Consumption in Pre-Roman Italy
DESCRIPTION:Textiles represent one of the earliest human craft technologies and have been a fundamental part of subsistence\, economy\, and exchange for millennia. Knowledge of textile history is thus key to our understanding of a multitude of human issues. Textiles can tell us about social\, chronological\, and cultural aspects of past societies and at the same time give us a unique opportunity to come very close to the individual people in their capacity as both users and makers of textiles. \n\nIconographic sources indicate that textiles were used for a variety of purposes by the Etruscans and other peoples of ancient Italy\, but until recently\, little was known about what these textiles were like and how they were produced. The latest and ongoing studies of the surviving fabric remains found primarily in burial contexts and textile tools from settlements are\, for the first time\, permitting not only qualitative but also quantitative assessment of textile production and consumption in pre-Roman Italy and more broadly across Europe. \n\nMargarita Gleba is an associate professor at the University of Padua. She specializes in the prehistory and protohistory of the Mediterranean region\, the archaeology of textiles and other organic materials\, and the use of scientific methods in archaeology.\n\nThis free\, public event is supported by the Kozma Lecture Fund. Join us in the Rackham Amphitheatre\, located on the fourth floor of the Rackham Building (915 E. Washington Street\, Ann Arbor\, MI 48109). \n\nIf you have any questions or concerns regarding accessing this event\, please visit our accessibility page at https://myumi.ch/zwPkd or contact the education office by calling (734) 647-4167. We ask for advance notice as some accommodations may require more time for the university to arrange.
UID:133809-21873585@events.umich.edu
URL:https://events.umich.edu/event/133809
CLASS:PUBLIC
STATUS:CONFIRMED
CATEGORIES:Ancient Rome,Archaeology,Art History,Classical Studies,Free,Lecture,Mediterranean,Research,Talk
LOCATION:Rackham Graduate School (Horace H.) - Rackham Amphitheatre
CONTACT:
END:VEVENT
BEGIN:VEVENT
DTSTAMP:20250407T094817
DTSTART;TZID=America/Detroit:20250410T180000
DTEND;TZID=America/Detroit:20250410T190000
SUMMARY:Presentation:Dinner for Democracy: Education Policy
DESCRIPTION:Public schools are run and funded by the government. The federal\, state\, and local governments all play a role in shaping education policy\, but which areas of government influence different areas of policy in our schools? \n\nJoin Turn Up Turnout for a nonpartisan\, educational presentation on Education Policy followed by an open discussion on the topic. Dinner will be provided at the event.\n\nRegister here: https://sessions.studentlife.umich.edu/track/event/session/93586
UID:134751-21874874@events.umich.edu
URL:https://events.umich.edu/event/134751
CLASS:PUBLIC
STATUS:CONFIRMED
CATEGORIES:Civic Engagement,Democracy,Democratic Engagement,Dinner,Discussion,Food,Free,Government,Politics,Public Policy,Voter Registration,Voting
LOCATION:Weill Hall (Ford School) - 3240
CONTACT:
END:VEVENT
BEGIN:VEVENT
DTSTAMP:20250402T171258
DTSTART;TZID=America/Detroit:20250410T180000
DTEND;TZID=America/Detroit:20250410T200000
SUMMARY:Workshop / Seminar:Everything I Learned\, I Learned in a Chinese Restaurant: Reflections on Heritage\, Identity\, and Intersectionality
DESCRIPTION:Join us for a special conversation with writer and filmmaker Curtis Chin as he discusses his memoir\, Everything I Learned\, I Learned in a Chinese Restaurant\, and explores the complexities of intersectional identities. In honor of Asian American & Pacific Islander Heritage Month\, Curtis will share his personal journey growing up in a Chinese-American family and how his experiences navigating multiple cultural worlds shaped his understanding of identity\, belonging\, and community.\n\nThrough storytelling\, humor\, and poignant reflections\, Curtis will delve into the intersections of race\, culture\, and personal experience\, shedding light on the diverse identities within the Asian-American community and beyond. This event invites all to reflect on their own intersections of identity and engage in a meaningful dialogue about how our individual and shared histories shape who we are today.\n\nDon't miss this opportunity to hear from one of the leading voices in AAPI storytelling and learn how embracing our differences enriches our collective experiences.\n\nMORE ASIAN AMERICAN & PACIFIC ISLANDER HERITAGE MONTH EVENTS\nhttps://mesa.umich.edu/asian-american-pacific-islander-heritage-month\n\nMORE MESA EVENTS\nMESA events are open to all U-M students. Explore: https://mesa.umich.edu/events-programs
UID:133730-21873491@events.umich.edu
URL:https://events.umich.edu/event/133730
CLASS:PUBLIC
STATUS:CONFIRMED
CATEGORIES:Asian Pacific Islander American Heritage Month,Sessions
LOCATION:CCCB 0420
CONTACT:
END:VEVENT
BEGIN:VEVENT
DTSTAMP:20250410T172031
DTSTART;TZID=America/Detroit:20250410T180000
DTEND;TZID=America/Detroit:20250410T190000
SUMMARY:Workshop / Seminar:IPE International Minor End of Year Senior Celebration
DESCRIPTION:
UID:133722-21873485@events.umich.edu
URL:https://events.umich.edu/event/133722
CLASS:PUBLIC
STATUS:CONFIRMED
CATEGORIES:Sessions
LOCATION:Chrysler 265
CONTACT:
END:VEVENT
BEGIN:VEVENT
DTSTAMP:20250401T142419
DTSTART;TZID=America/Detroit:20250410T180000
DTEND;TZID=America/Detroit:20250410T193000
SUMMARY:Lecture / Discussion:Labor\, Machines\, and Economic Growth: Will Workers Be  Needed in our AI Future
DESCRIPTION:Abstract\nAI adoption is already changing how people work\, with a growing number of companies adopting AI systems to handle an increasing number of tasks. How will human work evolve as AI adoption progresses and what will that mean for how people earn a living? How will it reshape how people find meaning and purpose in life? Will the winner-take-most economy of the past several decades continue\, further increasing inequality\, or will AI be the great equalizer? While many things remain unknown\, economist Betsey Stevenson will take us through what we can learn from the past\, what we are already seeing today\, and what might be the best way forward for both income and human flourishing. \n\nBiography\nBetsey Stevenson is a professor of public policy and economics at the University of Michigan. She is also a faculty research associate at the National Bureau of Economic Research\, a visiting associate professor of economics at the University of Sydney\, a research fellow of the Centre for Economic Policy Research\, a fellow of the Ifo Institute for Economic Research in Munich\, and serves on the executive committee of the American Economic Association. She served as a member of the Council of Economic Advisers from 2013 to 2015 where she advised President Obama on social policy\, labor market\, and trade issues. She served as the chief economist of the U.S. Department of Labor from 2010 to 2011\, advising the Secretary of Labor on labor policy and participating as the secretary’s deputy to the White House economic team. She has held previous positions at Princeton University and at the University of Pennsylvania’s Wharton School.\n\nDr. Stevenson is a labor economist who has published widely in leading economics journals about the labor market and the impact of public policies on outcomes both in the labor market and for families as they adjust to changing labor market opportunities. Her research explores women’s labor market experiences\, the economic forces shaping the modern family\, and how these labor market experiences and economic forces on the family influence each other. She is a columnist for Bloomberg View\, and her analysis of economic data and the economy are frequently covered in both print and television media.\n\nDr. Stevenson earned a BA in economics and mathematics from Wellesley College and an MA and PhD in economics from Harvard University.\n\nParking/Accessibility Information\nThe closest public parking lot to East Hall is the Forest Avenue Parking Garage (650 S Forest Ave\, Ann Arbor\, MI 48104)\, which is a 5 minute (2 block/0.2 mile) walk to the venue. Street parking near East Hall is very limited.\nFor guidance on directions\, U-M faculty/staff parking\, and accessibility\, please visit: https://maps.studentlife.umich.edu/building/east-hall.\n\nPlease reach out to Ben Surgalski (surgalsb@umich.edu)\, MIDAS project manager\, with any questions.
UID:134566-21874530@events.umich.edu
URL:https://events.umich.edu/event/134566
CLASS:PUBLIC
STATUS:CONFIRMED
CATEGORIES:Ai,Ai In Science And Engineering,Artificial Intelligence,Career,Data,Data Science,Economics,Free,Genai,Information and Technology,Interdisciplinary,Lecture,Lifelong Learning,Policy,Professional Development,Public Policy,Research,Researchers,Social Sciences,Talk,technology,Training,u-m office of research
LOCATION:East Hall - Room 1324
CONTACT:
END:VEVENT
END:VCALENDAR