BEGIN:VCALENDAR
VERSION:2.0
PRODID:-//UM//UM*Events//EN
CALSCALE:GREGORIAN
BEGIN:VTIMEZONE
TZID:America/Detroit
TZURL:http://tzurl.org/zoneinfo/America/Detroit
X-LIC-LOCATION:America/Detroit
BEGIN:DAYLIGHT
TZOFFSETFROM:-0500
TZOFFSETTO:-0400
TZNAME:EDT
DTSTART:20070311T020000
RRULE:FREQ=YEARLY;BYMONTH=3;BYDAY=2SU
END:DAYLIGHT
BEGIN:STANDARD
TZOFFSETFROM:-0400
TZOFFSETTO:-0500
TZNAME:EST
DTSTART:20071104T020000
RRULE:FREQ=YEARLY;BYMONTH=11;BYDAY=1SU
END:STANDARD
END:VTIMEZONE
BEGIN:VEVENT
DTSTAMP:20250102T120705
DTSTART;TZID=America/Detroit:20250521T133000
DTEND;TZID=America/Detroit:20250521T150000
SUMMARY:Workshop / Seminar:CoderSpaces - Wednesday
DESCRIPTION:Are you grappling with a piece of code\, trying to compute on a cluster\, or just getting started with a new method such as machine learning? Then we might have just the right space for you.\n\nAll members of the U-M community are invited to join our weekly virtual CoderSpaces to get research support and connect with others.\n\nTuesdays\, 9:30-11 a.m. ET\, via Zoom (Meeting ID:94181215786)\nWednesdays\, 1:30-3 p.m. ET\, via Zoom (Meeting ID: 98659357324)
UID:117252-21865884@events.umich.edu
URL:https://events.umich.edu/event/117252
CLASS:PUBLIC
STATUS:CONFIRMED
CATEGORIES:Data Analysis,Data Collection,Data Curation,Data Linkage,Data Management,Data Science,Information and Technology,Machine Learning,Data
LOCATION:Off Campus Location
CONTACT:
END:VEVENT
BEGIN:VEVENT
DTSTAMP:20250423T114241
DTSTART;TZID=America/Detroit:20250521T140000
DTEND;TZID=America/Detroit:20250521T150000
SUMMARY:Presentation:Hartwig Pilot Research Award Presentation
DESCRIPTION:The Hartwig Pilot Research Award Presentation will be given by Jacob Haus\, PhD\, associate professor of Movement Science and director of the Human Bioenergetics Laboratory in the U-M School of Kinesiology. He was awarded the funding in 2022.\n\nTopic: \"Glyoxalase I is a novel target for the prevention of metabolic derangement.\"\n\nWednesday\, May 21\n2:00 - 3:00 p.m.  •  SKB 2140\nRSVP and add to calendar: myumi.ch/Z23NP\nLight refreshments served\n\nFree and open to the public.\n\nThe Marie Hartwig Pilot Research Fund supports research by faculty members in the School of Kinesiology (SoK).
UID:135184-21876463@events.umich.edu
URL:https://events.umich.edu/event/135184
CLASS:PUBLIC
STATUS:CONFIRMED
CATEGORIES:Kinesiology
LOCATION:School of Kinesiology Building - 2140
CONTACT:
END:VEVENT
BEGIN:VEVENT
DTSTAMP:20250506T135817
DTSTART;TZID=America/Detroit:20250521T163000
DTEND;TZID=America/Detroit:20250521T190000
SUMMARY:Other:Mental Health Awareness Workshop
DESCRIPTION:Take a mindful pause and prioritize your well-being during Mental Health Awareness Month.\n\nJoin us at UMDC for an immersive workshop designed to help you reconnect with yourself through movement and creativity. We’ll begin with a 50-minute yoga session led by instructor Kitty A. Afterward\, tap into your inner artist during our Self-Reflection Painting Hour—no experience needed!
UID:135458-21876848@events.umich.edu
URL:https://events.umich.edu/event/135458
CLASS:PUBLIC
STATUS:CONFIRMED
CATEGORIES:workshop,detroit,Community
LOCATION:Off Campus Location - University of Michigan Detroit Center
CONTACT:
END:VEVENT
BEGIN:VEVENT
DTSTAMP:20260115T110339
DTSTART;TZID=America/Detroit:20250521T180000
DTEND;TZID=America/Detroit:20250521T193000
SUMMARY:Meeting:Stuttering Support Group
DESCRIPTION:This Stuttering Support Group is open to any teens and adults who stutter. It provides a safe space to connect\, share experiences\, and navigate challenges with one another.\n\nDate: Fourth Wednesday of every month\nTime: 6:00p.m.–7:30p.m.\nLocation: 3rd Floor Freespace\, Ann Arbor District Library - Downtown\n\nAttendees can also join virtually if they prefer. Please email cwsbrains@umich.edu to request the link to join.\n\n*This group meets on the 4th Wednesday of every month at the same time and place.*\n\nHosted by the Ann Arbor Stuttering Awareness and Research Club (A2STAR) in collaboration with the U-M Speech Neurophysiology Lab. The group is facilitated by students from the University of Michigan who stutter.
UID:121370-21873122@events.umich.edu
URL:https://events.umich.edu/event/121370
CLASS:PUBLIC
STATUS:CONFIRMED
CATEGORIES:Disability,Well-being,Virtual,Undergraduate Students,Student Org,Social,Inclusion,In Person,Diversity Equity and Inclusion,Free,Graduate and Professional Students,Graduate Students
LOCATION:Off Campus Location - 3rd Floor Freespace
CONTACT:
END:VEVENT
BEGIN:VEVENT
DTSTAMP:20250411T100232
DTSTART;TZID=America/Detroit:20250521T183000
DTEND;TZID=America/Detroit:20250521T193000
SUMMARY:Film Screening:On Healing Land\, Birds Perch
DESCRIPTION:This short documentary tells the remarkable stories behind one of the most iconic photos in history.  This is the first documentary\, from a Vietnamese born filmmaker\, that explores the continuing aftershocks of the Vietnam War from the perspectives of both sides of the war. The story is told through the iconic Pulitzer winning photo of General Loan shooting a Vietcong\, Captain Nguyen Van Lem in the head\, two days after the 1968 Tet Offensive. \nA discussion and audience Q&A will follow the film.
UID:134888-21875671@events.umich.edu
URL:https://events.umich.edu/event/134888
CLASS:PUBLIC
STATUS:CONFIRMED
CATEGORIES:American History,Documentary Screening,Vietnam War
LOCATION:Gerald Ford Library - auditorium
CONTACT:
END:VEVENT
BEGIN:VEVENT
DTSTAMP:20250205T125759
DTSTART;TZID=America/Detroit:20250521T190000
DTEND;TZID=America/Detroit:20250521T200000
SUMMARY:Lecture / Discussion:A Life Aquatic: 40 Years Revealing the Underwater World of Odors
DESCRIPTION:Dr. Paul Moore\, a researcher and instructor at the University of Michigan Biological Station (UMBS) who has been doing research at the UMBS Stream Lab for 28 years\, is kicking off the 2025 Summer Lecture Series at the research and teaching campus nestled along Douglas Lake in Pellston\, Michigan. \n\nMoore\, who also is a professor at Bowling Green State University\, will give a talk titled “A Life Aquatic: 40 Years Revealing the Underwater World of Odors.”\n\nThe U-M Biological Station — the largest of U-M's campuses at more than 10\,000 forested acres surrounded by lakes — is one of the nation's largest and longest continuously operating field research stations.\n\nFounded in 1909\, the Biological Station supports long-term research and education. It is where students and scientists from across the globe live and work as a community to learn from the place.\n\nThe Summer Lecture Series is a tradition at UMBS\, where we explore scientific topics with distinguished guest speakers from across the country so our community can learn about our natural world. \n\nThe free\, public talks are on Wednesdays from 7 to 8 p.m. in the spring and summer in Gates Lecture Hall at the University of Michigan Biological Station\, located at 9133 Biological Rd. in Pellston\, Michigan — about 20 miles south of the Mackinac Bridge.
UID:132373-21870831@events.umich.edu
URL:https://events.umich.edu/event/132373
CLASS:PUBLIC
STATUS:CONFIRMED
CATEGORIES:Bsbsigns,Biosciences,Biology,Biological Station,AEM Featured
LOCATION:Gates Lecture Hall\, UM Biological Station
CONTACT:
END:VEVENT
END:VCALENDAR