BEGIN:VCALENDAR
VERSION:2.0
PRODID:-//UM//UM*Events//EN
CALSCALE:GREGORIAN
BEGIN:VTIMEZONE
TZID:America/Detroit
TZURL:http://tzurl.org/zoneinfo/America/Detroit
X-LIC-LOCATION:America/Detroit
BEGIN:DAYLIGHT
TZOFFSETFROM:-0500
TZOFFSETTO:-0400
TZNAME:EDT
DTSTART:20070311T020000
RRULE:FREQ=YEARLY;BYMONTH=3;BYDAY=2SU
END:DAYLIGHT
BEGIN:STANDARD
TZOFFSETFROM:-0400
TZOFFSETTO:-0500
TZNAME:EST
DTSTART:20071104T020000
RRULE:FREQ=YEARLY;BYMONTH=11;BYDAY=1SU
END:STANDARD
END:VTIMEZONE
BEGIN:VEVENT
DTSTAMP:20250305T154054
DTSTART;TZID=America/Detroit:20250410T180000
DTEND;TZID=America/Detroit:20250410T200000
SUMMARY:Social / Informal Gathering:Stress Reduction: Therapy Dogs
DESCRIPTION:Shake off stress by visiting with adorable furry friends from Therapaws of Michigan. All are invited\, and they're sure to make you smile!\n\nJoin us in the lobby of the Shapiro Library:\n\nThursday\, April 10\, 6:00-8:00 pm\nTuesday\, April 15\, 2:00-4:00 pm\n\nTherapaws of Michigan volunteer animals bring their therapeutic effects to hospitals\, schools\, and living facilities all around Michigan\, and to our U-M students at the library each finals season.
UID:133462-21873131@events.umich.edu
URL:https://events.umich.edu/event/133462
CLASS:PUBLIC
STATUS:CONFIRMED
CATEGORIES:Library,Free
LOCATION:Shapiro Library - Lobby
CONTACT:
END:VEVENT
BEGIN:VEVENT
DTSTAMP:20250410T101258
DTSTART;TZID=America/Detroit:20250410T180000
DTEND;TZID=America/Detroit:20250410T200000
SUMMARY:Social / Informal Gathering:Study Table in West Quad
DESCRIPTION:Prepare for your exams and enjoy snacks at the West Quad Asubuhi Lounge. It’s the perfect space to focus\, refresh\, and relax before finals!
UID:134844-21875334@events.umich.edu
URL:https://events.umich.edu/event/134844
CLASS:PUBLIC
STATUS:CONFIRMED
CATEGORIES:Study Night
LOCATION:West Quadrangle - Asubuhi Multicultural Lounge
CONTACT:
END:VEVENT
BEGIN:VEVENT
DTSTAMP:20250126T171733
DTSTART;TZID=America/Detroit:20250410T180000
DTEND;TZID=America/Detroit:20250410T200000
SUMMARY:Other:Tutoring Sponsored by Pi Tau Sigma
DESCRIPTION:Free tutoring sponsored by the Mechanical Engineering society\, Pi Tau Sigma. Every Thursday from 6:00-8:00 pm come find us in Findley C. We will help with any Mechanical Engineering class\, so be sure to check us out!
UID:131805-21869266@events.umich.edu
URL:https://events.umich.edu/event/131805
CLASS:PUBLIC
STATUS:CONFIRMED
CATEGORIES:Michigan Engineering
LOCATION:GG Brown Laboratory - Findley C (2518)
CONTACT:
END:VEVENT
BEGIN:VEVENT
DTSTAMP:20250314T120159
DTSTART;TZID=America/Detroit:20250410T190000
DTEND;TZID=America/Detroit:20250410T221500
SUMMARY:Film Screening:CJS Winter 2025 Film Series | *Kamikaze Taxi*
DESCRIPTION:Tickets may be purchased at: https://myumi.ch/7Pg63\n   \n   A young foot soldier in the yakuza embarks on a mission to eliminate both his bosses and the sadistic politician responsible for his girlfriend's death. He teams up with a marginalized taxi driver (Yakusho Koji)\, who has recently returned to Japan after living in South America for several decades and is struggling to cope with the prejudices of native-born Japanese.\n   \n   Presented in Japanese with English subtitles. Read more about the film\, including ratings\, at\n   https://www.imdb.com/title/tt0113523/\n   \n   Learn more about the CJS Winter 2025 Film Series at: https://myumi.ch/AZ8Ep\n   \n   The CJS Winter 2025 Film Series is co-sponsored by the Department of Film\, Television\, and Media.\n   \nIf there is anything we can do to make this event accessible to you\, please contact us at cjsevents@umich.edu. Please be aware that advance notice is necessary as some accommodations may require more time for the university to arrange.
UID:133879-21873646@events.umich.edu
URL:https://events.umich.edu/event/133879
CLASS:PUBLIC
STATUS:CONFIRMED
CATEGORIES:Film,Asia,japan
LOCATION:Off Campus Location
CONTACT:
END:VEVENT
BEGIN:VEVENT
DTSTAMP:20250103T153052
DTSTART;TZID=America/Detroit:20250410T190000
DTEND;TZID=America/Detroit:20250410T210000
SUMMARY:Social / Informal Gathering:Connector Thursday Movie Night
DESCRIPTION:Come take a break in the Connector for Movie Night! There will be fresh popped popcorn and snacks!
UID:129996-21865023@events.umich.edu
URL:https://events.umich.edu/event/129996
CLASS:PUBLIC
STATUS:CONFIRMED
CATEGORIES:Food,Movie Night,Community,free,West Quad,Free Food
LOCATION:West Quadrangle - The Connector
CONTACT:
END:VEVENT
BEGIN:VEVENT
DTSTAMP:20250327T162444
DTSTART;TZID=America/Detroit:20250410T190000
DTEND;TZID=America/Detroit:20250410T210000
SUMMARY:Lecture / Discussion:The 1817 Project: U-M’s Origins\, Indigenous Lands\, and Institutional (In)Action
DESCRIPTION:Signed on September\, 1817\, the Treaty of Fort Meigs ceded 4.6 million acres of Indigenous land to the United States\, setting aside 1\,920 acres for “the corporation of the college at Detroit”–the fledgling University of Michigan. This was just the beginning of U-M’s complex history with Michigan’s Native American communities. The 1817 Project research team will present four snapshots of their research into this history\, spanning over 200 years\, from a re-examination of U-M’s origins to a 1971 lawsuit claiming U-M had broken the treaty and a study of broader patterns of Native American student enrollment.\n\nOne of the foundational Project Sites of the Inclusive History Project\, the 1817 Project team includes Jay Cook (Professor of History and Director of Research for the UM-Ann Arbor Inclusive History Project)\;  Michael Witgen (citizen of the Red Cliff Band of Lake Superior Ojibwe\, Professor in the Department of History and the Center for the Study of Ethnicity and Race at Columbia University)\; as well as postdoctoral and graduate students Jonathan Quint\, Gabrielle Hickmon\, Veronica Williamson\, and Cheyenne Travioli  (citizen of the Cheyenne River Sioux Tribe)\, all part of a larger team working on the project.
UID:134438-21874359@events.umich.edu
URL:https://events.umich.edu/event/134438
CLASS:PUBLIC
STATUS:CONFIRMED
CATEGORIES:university of michigan history,university history,umich200,U-m History,Native American,museums,Museum,Making Michigan,lecture,history,free,educational,Education,bentley library,bentley historical library
LOCATION:Detroit Observatory
CONTACT:
END:VEVENT
END:VCALENDAR