BEGIN:VCALENDAR
VERSION:2.0
PRODID:-//UM//UM*Events//EN
CALSCALE:GREGORIAN
BEGIN:VTIMEZONE
TZID:America/Detroit
TZURL:http://tzurl.org/zoneinfo/America/Detroit
X-LIC-LOCATION:America/Detroit
BEGIN:DAYLIGHT
TZOFFSETFROM:-0500
TZOFFSETTO:-0400
TZNAME:EDT
DTSTART:20070311T020000
RRULE:FREQ=YEARLY;BYMONTH=3;BYDAY=2SU
END:DAYLIGHT
BEGIN:STANDARD
TZOFFSETFROM:-0400
TZOFFSETTO:-0500
TZNAME:EST
DTSTART:20071104T020000
RRULE:FREQ=YEARLY;BYMONTH=11;BYDAY=1SU
END:STANDARD
END:VTIMEZONE
BEGIN:VEVENT
DTSTAMP:20250317T154756
DTSTART;TZID=America/Detroit:20250526T180000
DTEND;TZID=America/Detroit:20250526T193000
SUMMARY:Other:CBT Group for Adults with Social or Performance Anxiety – Spring/Summer 2025
DESCRIPTION:Do you get anxious in anticipation of social events or performance situations? Do you find yourself worried about appearing incompetent\, weird\, weak\, unintelligent\, awkward\, or anxious to other people in such situations? Do you ruminate about how you came across even after the event is over? Do you experience heart pounding\, blushing\, shaking\, sweating\, dry throat\, or “blanking out” in these situations? Do you cope by avoiding these situations as much as you can? \n\nIf so\, our Cognitive Behavioral Therapy (CBT) group for Social Anxiety may be right for you. Hosted by our Psychological Clinic\, the group is scheduled for 6-7:30 p.m. on Mondays\, beginning April 21\, 2025. The group will run for 8 weekly 90-minute sessions\, plus a booster session one month afterward the group concludes.\n\nClinicians use evidence-based group therapy to help participants learn to identify and shift unhealthy thinking patterns. You will build coping skills and increase confidence in a supportive environment and at your own pace.\n\nDetails\n+ When: 6-7:30 p.m.\, Tuesdays.\n+ Duration: The group will meet for 8 weeks starting on April 21\, with a follow-up booster session one month after the group concludes.\n+ Cost: $45 per meeting session\, without insurance. Call for information on insurance coverage.\n+ Where: Virtual via Zoom
UID:133976-21873744@events.umich.edu
URL:https://events.umich.edu/event/133976
CLASS:PUBLIC
STATUS:CONFIRMED
CATEGORIES:psychology,Graduate Students,Graduate and Professional Students,Graduate,Faculty,anxiety,Group Therapy,Health & Wellness,Social Anxiety,Staff,Undergraduate,Undergraduate Students,Virtual,Well-being
LOCATION:Off Campus Location
CONTACT:
END:VEVENT
BEGIN:VEVENT
DTSTAMP:20250520T060008
DTSTART;TZID=America/Detroit:20250527T000000
DTEND;TZID=America/Detroit:20250527T234500
SUMMARY:Other:College Championships
DESCRIPTION:we're going to nationals!!
UID:135705-21877155@events.umich.edu
URL:https://events.umich.edu/event/135705
CLASS:PUBLIC
STATUS:CONFIRMED
CATEGORIES:
LOCATION:Skagit River Park Sports Complex
CONTACT:
END:VEVENT
BEGIN:VEVENT
DTSTAMP:20250526T000007
DTSTART;TZID=America/Detroit:20250527T000000
DTEND;TZID=America/Detroit:20250527T235959
SUMMARY:Other:Open Fleet Race Nationals
DESCRIPTION:Regatta
UID:135704-21877145@events.umich.edu
URL:https://events.umich.edu/event/135704
CLASS:PUBLIC
STATUS:CONFIRMED
CATEGORIES:
LOCATION:St. Mary&#039;s College of Maryland
CONTACT:
END:VEVENT
BEGIN:VEVENT
DTSTAMP:20250304T115736
DTSTART;TZID=America/Detroit:20250527T000000
DTEND;TZID=America/Detroit:20250527T120000
SUMMARY:Class / Instruction:Summer Session in Epidemiology
DESCRIPTION:Join us for the longest-running summer program in epidemiology! Choose from engaging 1-week or 3-week online courses designed to provide skills-based training in applied epidemiology.\n\nFor 60 years\, the University of Michigan's Summer Session in Epidemiology (SSE) has been one of the nation's longest-running and premier summer epidemiology programs. In just one to three intensive weeks\, gain valuable knowledge and skills to enhance your academic and professional journey. SSE is designed for public health and healthcare professionals\, researchers\, and anyone eager to build a foundation in epidemiologic science. We welcome participants from diverse backgrounds\, including undergraduate students\, public health professionals\, clinical and biomedical researchers\, and scholars in related fields such as psychology\, sociology\, and earth sciences. \n\nWhile experience in public health\, epidemiology\, or biostatistics is beneficial\, it is not required. By the end of our program\, you will have developed a solid understanding of key research principles in clinical populations\, covering areas such as: Study Design\, Biostatistical Analysis\, and Causal Inference These essential skills will help you advance in epidemiology\, public health\, and related fields.
UID:133411-21872966@events.umich.edu
URL:https://events.umich.edu/event/133411
CLASS:PUBLIC
STATUS:CONFIRMED
CATEGORIES:Dentistry,Alumni,biostatistics,Complex Systems,data,Virtual,Education,Epidemiology,Graduate,Graduate and Professional Students,Postdoctoral Research Fellows,Undergraduate Students,Undergraduate,Staff,Research,Rackham,Public Health,Professional Development,Pre Med,Graduate Students
LOCATION:Off Campus Location
CONTACT:
END:VEVENT
BEGIN:VEVENT
DTSTAMP:20250416T111604
DTSTART;TZID=America/Detroit:20250527T080000
DTEND;TZID=America/Detroit:20250527T235900
SUMMARY:Workshop / Seminar:When Life Gives You LLMs\, Make LLMonade!
DESCRIPTION:Join us for a 10-day adventure to explore how generative AI\, like ChatGPT\, can enhance your work. Whether you’re curious\, skeptical\, or an experienced user\, this event offers short\, hands-on activities that take just a few minutes each day. No deep dives\, no tech talk. Just a taste of what AI can do and why it’s worth your time. Join us to learn\, play\, and find ways genAI can help you ‘make LLMonade’ from the world of large language models! \n\nThis event runs May 19-30\, online in Slack. It is asynchronous and self-paced. We do hope you'll register and join us!\nhttps://umich.qualtrics.com/jfe/form/SV_02l0IXqlvZMBzee
UID:135033-21876030@events.umich.edu
URL:https://events.umich.edu/event/135033
CLASS:PUBLIC
STATUS:CONFIRMED
CATEGORIES:Exploration,Genai,Generative Ai,Skill-building,Social,Training
LOCATION:Off Campus Location
CONTACT:
END:VEVENT
BEGIN:VEVENT
DTSTAMP:20250408T135629
DTSTART;TZID=America/Detroit:20250527T090000
DTEND;TZID=America/Detroit:20250527T200000
SUMMARY:Exhibition:Behind the Curve: Rainbows and the Science and Culture of Color
DESCRIPTION:We have many significant books from the history of our understanding of rainbows and color theory\, from the writings of scholar Ḥasan Ibn al-Haytham to Isaac Newton’s 1704 Opticks. Rainbows appear across the spectrum of our collections\, and this exhibit includes a handwritten illuminated manuscript\, practical color manuals of the industrial age\, contemporary artists’ and children’s books\, and more from our vast holdings. \n\nRainbows have captivated people for all of recorded history. It’s hard not to think of them as physical objects\, but they are really just distorted images of the sun\, positioned around the viewer’s head. They require someone to perceive them to exist\, and thus have much in common with colors and color theory in general. And\, like colors\, they are about relationships: of one color next to another\, and of colors and the people who see them. The rainbow has had many different cultural interpretations over the years\, and most recently has become synonymous with gay pride\, appearing all over each June.\n\nHatcher Gallery Exhibit Room Hours:\nSunday\, 2-8pm\nMonday-Thursday\, 9am-8pm\nFriday\, 9am-4pm\nSaturday\, 11am-5pm
UID:134798-21875156@events.umich.edu
URL:https://events.umich.edu/event/134798
CLASS:PUBLIC
STATUS:CONFIRMED
CATEGORIES:Free,Library
LOCATION:Hatcher Graduate Library - Hatcher Gallery Exhibit Room (1st floor)
CONTACT:
END:VEVENT
END:VCALENDAR