BEGIN:VCALENDAR
VERSION:2.0
PRODID:-//UM//UM*Events//EN
CALSCALE:GREGORIAN
BEGIN:VTIMEZONE
TZID:America/Detroit
TZURL:http://tzurl.org/zoneinfo/America/Detroit
X-LIC-LOCATION:America/Detroit
BEGIN:DAYLIGHT
TZOFFSETFROM:-0500
TZOFFSETTO:-0400
TZNAME:EDT
DTSTART:20070311T020000
RRULE:FREQ=YEARLY;BYMONTH=3;BYDAY=2SU
END:DAYLIGHT
BEGIN:STANDARD
TZOFFSETFROM:-0400
TZOFFSETTO:-0500
TZNAME:EST
DTSTART:20071104T020000
RRULE:FREQ=YEARLY;BYMONTH=11;BYDAY=1SU
END:STANDARD
END:VTIMEZONE
BEGIN:VEVENT
DTSTAMP:20250303T063139
DTSTART;TZID=America/Detroit:20250527T160000
DTEND;TZID=America/Detroit:20250527T170000
SUMMARY:Careers / Jobs:AmeriCorps NCCC: Jump Start Your Career as a Team Leader
DESCRIPTION:What is AmeriCorps NCCC?AmeriCorps NCCC is one program option within AmeriCorps\, which is the federal agencyfor national service and volunteerism. AmeriCorps NCCC programs are in-person\, full-time\, and don’t have positions within a particular location. Our members serve on a team of 8-12 individuals while traveling across the country to support a variety of community needs with all expenses paid.What will this webinar cover?Being an AmeriCorps NCCC team leader is the ultimate supervisory experience that will put you on a path to career success. Join us to learn more about this unique service opportunity that will include information about the position role\, program requirements\, benefits\, and helpful tips for the application process. A panel of AmeriCorps NCCC staff will be available to answer your questions and help you decide if the team leader role is a good fit for you.What Team Leader positions are open?To see the listing of all open positions in AmeriCorps NCCC\, including Team Leaders\, visit the MyAmeriCorps application portal. 
UID:130612-21866443@events.umich.edu
URL:https://events.umich.edu/event/130612
CLASS:PUBLIC
STATUS:CONFIRMED
CATEGORIES:
LOCATION:
CONTACT:
END:VEVENT
BEGIN:VEVENT
DTSTAMP:20250409T110410
DTSTART;TZID=America/Detroit:20250527T173000
DTEND;TZID=America/Detroit:20250527T193000
SUMMARY:Class / Instruction:Empowerment Self Defense
DESCRIPTION:Empowerment Self Defense will explore the culture of violence\, and teach concrete but practical effective skills for personal safety and physical self defense in a wide variety of contexts. Participants will be able to:\n- understand how situational awareness can deter or prevent an attack.\n- use verbal skills for assertive communication\n- evade and set boundaries (verbal & physical)\n- use practical options to make ourselves more comfortable when uncomfortable situations occur\n- recognize and interrupt unwanted behavior when in social situations\, interpersonal/intimate relationships as well as interactions with strangers\n\nInstructor: Candace Dorsey\, Empowerment Self Defense Program Manager\, University of Michigan - Division of Public Safety & Security.
UID:134818-21875307@events.umich.edu
URL:https://events.umich.edu/event/134818
CLASS:PUBLIC
STATUS:CONFIRMED
CATEGORIES:self-defense,personal safety,Health & Wellness
LOCATION:School of Kinesiology Building
CONTACT:
END:VEVENT
BEGIN:VEVENT
DTSTAMP:20250526T000007
DTSTART;TZID=America/Detroit:20250528T000000
DTEND;TZID=America/Detroit:20250528T235959
SUMMARY:Other:Open Fleet Race Nationals
DESCRIPTION:Regatta
UID:135704-21877146@events.umich.edu
URL:https://events.umich.edu/event/135704
CLASS:PUBLIC
STATUS:CONFIRMED
CATEGORIES:
LOCATION:St. Mary&#039;s College of Maryland
CONTACT:
END:VEVENT
BEGIN:VEVENT
DTSTAMP:20250304T115736
DTSTART;TZID=America/Detroit:20250528T000000
DTEND;TZID=America/Detroit:20250528T120000
SUMMARY:Class / Instruction:Summer Session in Epidemiology
DESCRIPTION:Join us for the longest-running summer program in epidemiology! Choose from engaging 1-week or 3-week online courses designed to provide skills-based training in applied epidemiology.\n\nFor 60 years\, the University of Michigan's Summer Session in Epidemiology (SSE) has been one of the nation's longest-running and premier summer epidemiology programs. In just one to three intensive weeks\, gain valuable knowledge and skills to enhance your academic and professional journey. SSE is designed for public health and healthcare professionals\, researchers\, and anyone eager to build a foundation in epidemiologic science. We welcome participants from diverse backgrounds\, including undergraduate students\, public health professionals\, clinical and biomedical researchers\, and scholars in related fields such as psychology\, sociology\, and earth sciences. \n\nWhile experience in public health\, epidemiology\, or biostatistics is beneficial\, it is not required. By the end of our program\, you will have developed a solid understanding of key research principles in clinical populations\, covering areas such as: Study Design\, Biostatistical Analysis\, and Causal Inference These essential skills will help you advance in epidemiology\, public health\, and related fields.
UID:133411-21872967@events.umich.edu
URL:https://events.umich.edu/event/133411
CLASS:PUBLIC
STATUS:CONFIRMED
CATEGORIES:Undergraduate Students,Virtual,Undergraduate,Staff,Research,Rackham,biostatistics,Alumni,Public Health,Complex Systems,data,Dentistry,Education,Graduate,Professional Development,Pre Med,Postdoctoral Research Fellows,Graduate Students,Graduate and Professional Students,Epidemiology
LOCATION:Off Campus Location
CONTACT:
END:VEVENT
BEGIN:VEVENT
DTSTAMP:20250416T111604
DTSTART;TZID=America/Detroit:20250528T080000
DTEND;TZID=America/Detroit:20250528T235900
SUMMARY:Workshop / Seminar:When Life Gives You LLMs\, Make LLMonade!
DESCRIPTION:Join us for a 10-day adventure to explore how generative AI\, like ChatGPT\, can enhance your work. Whether you’re curious\, skeptical\, or an experienced user\, this event offers short\, hands-on activities that take just a few minutes each day. No deep dives\, no tech talk. Just a taste of what AI can do and why it’s worth your time. Join us to learn\, play\, and find ways genAI can help you ‘make LLMonade’ from the world of large language models! \n\nThis event runs May 19-30\, online in Slack. It is asynchronous and self-paced. We do hope you'll register and join us!\nhttps://umich.qualtrics.com/jfe/form/SV_02l0IXqlvZMBzee
UID:135033-21876031@events.umich.edu
URL:https://events.umich.edu/event/135033
CLASS:PUBLIC
STATUS:CONFIRMED
CATEGORIES:Exploration,Genai,Generative Ai,Skill-building,Social,Training
LOCATION:Off Campus Location
CONTACT:
END:VEVENT
BEGIN:VEVENT
DTSTAMP:20250506T104759
DTSTART;TZID=America/Detroit:20250528T090000
DTEND;TZID=America/Detroit:20250528T150000
SUMMARY:Workshop / Seminar:10x Genomics User Group Meeting
DESCRIPTION:Connecting Scientists. Empowering Innovation.\n\nThe 10x Genomics User Group Meeting (UGM) is a one-day event intended for those new to single-cell and spatial technology\, as well as seasoned 10x Genomics technology users. Hear experts from 10x Genomics and the BRCF Advanced Genomics Core\, and visit with life science vendors: STEMCELL\, ONT\, Element\, and more!\n\nThis highly informative series of scientific sessions will feature keynote presentations by leading researchers\, expert panels\, and networking opportunities with peers.\n\nWondering if you should attend?\n\nThis experience will allow you to:\n\n﻿﻿Connect with peers: Come together with single-cell and spatial researchers from across the region.\n﻿﻿Talk to 10x-perts: Our team will be on-site to help answer questions about your experiment.\n﻿﻿Get inspired: The event is designed to help you reimagine what's possible in your research.\n\nQuestions?\nPlease reach out to Daniel.barrett@10xgenomics.com.\n___\nPresented by the Advanced Genomics Core\, one of the Biomedical Research Core Facilities and part of the Medical School Office of Research. Our mission is to foster an environment of innovation and efficiency that serves the Michigan Medicine research community and supports biomedical science from insight to impact.
UID:135407-21876800@events.umich.edu
URL:https://events.umich.edu/event/135407
CLASS:PUBLIC
STATUS:CONFIRMED
CATEGORIES:Research,Research Core
LOCATION:North Campus Research Complex Building 18 - Dining Hall
CONTACT:
END:VEVENT
END:VCALENDAR