BEGIN:VCALENDAR
VERSION:2.0
PRODID:-//UM//UM*Events//EN
CALSCALE:GREGORIAN
BEGIN:VTIMEZONE
TZID:America/Detroit
TZURL:http://tzurl.org/zoneinfo/America/Detroit
X-LIC-LOCATION:America/Detroit
BEGIN:DAYLIGHT
TZOFFSETFROM:-0500
TZOFFSETTO:-0400
TZNAME:EDT
DTSTART:20070311T020000
RRULE:FREQ=YEARLY;BYMONTH=3;BYDAY=2SU
END:DAYLIGHT
BEGIN:STANDARD
TZOFFSETFROM:-0400
TZOFFSETTO:-0500
TZNAME:EST
DTSTART:20071104T020000
RRULE:FREQ=YEARLY;BYMONTH=11;BYDAY=1SU
END:STANDARD
END:VTIMEZONE
BEGIN:VEVENT
DTSTAMP:20250408T135629
DTSTART;TZID=America/Detroit:20250528T090000
DTEND;TZID=America/Detroit:20250528T200000
SUMMARY:Exhibition:Behind the Curve: Rainbows and the Science and Culture of Color
DESCRIPTION:We have many significant books from the history of our understanding of rainbows and color theory\, from the writings of scholar Ḥasan Ibn al-Haytham to Isaac Newton’s 1704 Opticks. Rainbows appear across the spectrum of our collections\, and this exhibit includes a handwritten illuminated manuscript\, practical color manuals of the industrial age\, contemporary artists’ and children’s books\, and more from our vast holdings. \n\nRainbows have captivated people for all of recorded history. It’s hard not to think of them as physical objects\, but they are really just distorted images of the sun\, positioned around the viewer’s head. They require someone to perceive them to exist\, and thus have much in common with colors and color theory in general. And\, like colors\, they are about relationships: of one color next to another\, and of colors and the people who see them. The rainbow has had many different cultural interpretations over the years\, and most recently has become synonymous with gay pride\, appearing all over each June.\n\nHatcher Gallery Exhibit Room Hours:\nSunday\, 2-8pm\nMonday-Thursday\, 9am-8pm\nFriday\, 9am-4pm\nSaturday\, 11am-5pm
UID:134798-21875157@events.umich.edu
URL:https://events.umich.edu/event/134798
CLASS:PUBLIC
STATUS:CONFIRMED
CATEGORIES:Free,Library
LOCATION:Hatcher Graduate Library - Hatcher Gallery Exhibit Room (1st floor)
CONTACT:
END:VEVENT
BEGIN:VEVENT
DTSTAMP:20250407T111911
DTSTART;TZID=America/Detroit:20250528T090000
DTEND;TZID=America/Detroit:20250528T170000
SUMMARY:Exhibition:Carlo Vitale Exhibition
DESCRIPTION:Carlo Vitale is a distinguished Michigan-based artist whose vibrant contributions to the Detroit art scene have flourished since the 1970s. A native of Detroit\, Vitale's work is celebrated as part of the second generation of the Cass Corridor Art Movement\, Detroit’s first avante garde. His art draws inspiration from the sweeping vistas of farmland seen from above\, the intricate patterns of quilt-making\, the dynamic energy of cityscapes\, and the rich tapestry of daily life. Vitale eloquently characterizes his mesmerizing oil paintings and prints as “kinetic\, metaphysical abstractions\,” inviting viewers to engage with the depth and vitality of his creative vision.\n\nVitale received his Bachelor of Fine Arts and Masters of Fine Arts from Wayne State University in Detroit.  His work can be found in many collections including The Whitney Museum of Fine Art in New York\, The Detroit Institute of Art\, Cranbrook Art Museum\, Wayne State University Collection\, University of Michigan Museum of Art and corporate\, hospital\, and private collections throughout the country.
UID:134757-21874889@events.umich.edu
URL:https://events.umich.edu/event/134757
CLASS:PUBLIC
STATUS:CONFIRMED
CATEGORIES:Culture,Detroit,Exhibition,Free,Humanities,Visual Arts
LOCATION:North Campus Research Complex Building 18 - NCRC Galleries
CONTACT:
END:VEVENT
BEGIN:VEVENT
DTSTAMP:20250211T122734
DTSTART;TZID=America/Detroit:20250528T090000
DTEND;TZID=America/Detroit:20250528T160000
SUMMARY:Exhibition:Redefining the Crown
DESCRIPTION:In Winter 2025\, the Lane Hall exhibit space will feature a portraiture series titled Redefining the Crown showcasing the powerful stories of six Black breast cancer survivors.\n\nBased on a photo essay by U-M Faculty Versha Pleasant (MD/MPH) and Ava Purkiss (PhD) in Medicine at Michigan\, this exhibition examines the cultural and personal significance of hair within Black communities\, particularly through the lens of breast cancer treatment and recovery. The term \"crown\" is deeply symbolic in Black culture\, signifying beauty\, strength\, and identity. The featured photo essay by photographer Tafari Stevenson-Howard captures the intimate journeys of Ann Chatman\, Tanisha Kennedy\, Felecia McDaniel\, Shantell Elaine McCoy\, Tamara Lynn Myles\, and Veleria Banks.\n\nThrough their narratives and portraits\, the exhibit examines how these women have navigated the profound impact of hair loss caused by chemotherapy\, inviting the audience to witness their stories with radical empathy. It explores the cultural pride and personal identity intricately tied to their hair\, and how these elements are redefined amidst their battles with breast cancer.\n\nThe exhibit will be on view from January 21\, 2025 to August 8\, 2025. This exhibition is presented with support from IRWG\, the Department of Women's and Gender Studies\, and Michigan Medicine. \n\nLocated on the first floor of Lane Hall (204 S. State Street)\, the Exhibit Space is free and open to the public\, M-F\, 9am-4pm.
UID:129602-21864145@events.umich.edu
URL:https://events.umich.edu/event/129602
CLASS:PUBLIC
STATUS:CONFIRMED
CATEGORIES:african american,Art,institute for research on women and gender,women,Women's And Gender Studies
LOCATION:Lane Hall
CONTACT:
END:VEVENT
BEGIN:VEVENT
DTSTAMP:20250516T164226
DTSTART;TZID=America/Detroit:20250528T090000
DTEND;TZID=America/Detroit:20250528T170000
SUMMARY:Conference / Symposium:SciFM25 Conference
DESCRIPTION:Generative AI appears poised to have a transformative impact on scientific discovery and engineering innovation.\n\n*#SciFM25: Scientific Discovery in the Age of AI* is the 2nd conference on foundation models and AI agents for science\, following the highly successful SciFM24 conference. The event will feature engaging talks and panel discussions from thought leaders and world-renowned experts from national labs\, academia\, and leading AI companies\; it will also include hands-on tutorials and interactive workshops.\n\nTopics include: ​​​​\nGenerative models for a range of physical and biological phenomena\n﻿﻿Techniques to enhance mathematical and scientific reasoning \n﻿﻿Quantifying and promoting creativity and novelty in foundation models\n﻿﻿AI-driven workflows integrating scientists\, instruments\, and computations\n﻿﻿Advances in algorithmic and computational infrastructure\n﻿﻿Envisioning and creating a national ecosystem for AI-augmented science\n\nThis conference will be an excellent opportunity for students\, professionals and enthusiasts to learn about ongoing developments (and cut through the hype) in foundation models and AI agents for science and exchange ideas with leaders in the field.
UID:135694-21877101@events.umich.edu
URL:https://events.umich.edu/event/135694
CLASS:PUBLIC
STATUS:CONFIRMED
CATEGORIES:Ai In Science And Engineering,Artificial Intelligence,Computational Science,Science,Scientific Computing
LOCATION:Rackham Graduate School (Horace H.)
CONTACT:
END:VEVENT
BEGIN:VEVENT
DTSTAMP:20250522T103007
DTSTART;TZID=America/Detroit:20250528T100000
DTEND;TZID=America/Detroit:20250528T120000
SUMMARY:Workshop / Seminar:EEB Student Dissertation Defense - Macroevolutionary patterns of a complex phenotype: Disparity\, convergence\, and integration of the Neotropical cichlid feeding system
DESCRIPTION:Abstract: Organisms consist of many anatomical systems that function together to form complex phenotypes\, which are involved in tasks such as feeding\, breathing\, or locomotion. These phenotypes require the coordinated evolution\, or coevolution\, of numerous traits to maintain functionality. However\, multifunctional phenotypes face trade-offs that may restrict their diversification. The skull of fishes represents a complex phenotype\, containing over 100 bones\, which perform multiple functions such as feeding\, breathing\, and brooding eggs. Neotropical cichlids represent a fruitful system to study how a complex phenotype\, the feeding system\, has evolved in the context of an ancient adaptive continental radiation\, with repeated transitions to specialized diets\, and a second jaw in their throat\, which is thought to have resulted in their immense ecological and species diversity across two continents through functional decoupling. This dissertation investigates the macroevolutionary patterns in cichlid feeding morphology to better understand how complex phenotypes\, which are multifunctional\, have evolved in the context of constraint and adaptation. Utilizing three-dimensional geometric morphometrics and microcomputed tomography (μCT) scanning\, I explore the diversity and macroevolutionary patterns of the Neotropical cichlid feeding system\, including all bones in the oral and pharyngeal jaw for the first time. \nIn Chapter 2\, I characterize the diversity and phylogenetic trajectories of pharyngeal jaws across Cichlinae. The upper pharyngeal jaw has been largely absent in studies of cichlid feeding\, however\, with µCT scanning\, I am able to describe the diversity of the upper pharyngeal jaw and measure disparity through time\, revealing unexpected patterns in phenotypic divergence. In Chapter 3\, I examine the relationship between diet and feeding morphology\, highlighting instances of morphological convergence and divergence among ecologically similar species. I also reconstruct the evolutionary history of dietary transitions and test for correlations between diet and previously unstudied morphological traits. Lastly\, I test the hypothesis that functional decoupling has led to evolutionary decoupling between the oral and pharyngeal jaws in Chapter 4. My findings challenge traditional views on functional decoupling and suggest that evolutionary integration between the two jaws is necessary for functional decoupling to occur. The findings from this dissertation enhance our understanding of how complex phenotypes have evolved at a continental scale\, and the influence diet has on shaping macroevolutionary patterns.
UID:135796-21877272@events.umich.edu
URL:https://events.umich.edu/event/135796
CLASS:PUBLIC
STATUS:CONFIRMED
CATEGORIES:biological science,Bsbsigns,department of ecology and evolutionary biology,Dissertation,ecology,Ecology & Biology,Ecology And Evolutionary Biology,eeb,Graduate,Graduate School,Graduate Students
LOCATION:Biological Sciences Building - 1010
CONTACT:
END:VEVENT
BEGIN:VEVENT
DTSTAMP:20250304T131847
DTSTART;TZID=America/Detroit:20250528T100000
DTEND;TZID=America/Detroit:20250528T163000
SUMMARY:Other:Moth Eden
DESCRIPTION:Explore \"Moth Eden\,\" an evocative art exhibit by Anne Erlewine\, running from April 19 to July 6\, 2025. ‘Moth Eden’ is a series of works exploring the relationship between the sacred reverence of the female form depicted as landscape and the conditioned tension of objectification contrasted by omission through eclipsing desire with the natural essence of bloom and nectar as it pertains to moth sustenance.\n\nAnne Erlewine\, an artist from Ann Arbor\, Michigan\, cultivated her artistic talents from an early age\, inspired by her fine artist grandmother. Her creative journey was further developed at the University of Michigan\, where she studied art and writing.
UID:133414-21873015@events.umich.edu
URL:https://events.umich.edu/event/133414
CLASS:PUBLIC
STATUS:CONFIRMED
CATEGORIES:Art,Exhibition,Free,In Person,Visual Arts
LOCATION:Matthaei Botanical Gardens
CONTACT:
END:VEVENT
END:VCALENDAR