BEGIN:VCALENDAR
VERSION:2.0
PRODID:-//UM//UM*Events//EN
CALSCALE:GREGORIAN
BEGIN:VTIMEZONE
TZID:America/Detroit
TZURL:http://tzurl.org/zoneinfo/America/Detroit
X-LIC-LOCATION:America/Detroit
BEGIN:DAYLIGHT
TZOFFSETFROM:-0500
TZOFFSETTO:-0400
TZNAME:EDT
DTSTART:20070311T020000
RRULE:FREQ=YEARLY;BYMONTH=3;BYDAY=2SU
END:DAYLIGHT
BEGIN:STANDARD
TZOFFSETFROM:-0400
TZOFFSETTO:-0500
TZNAME:EST
DTSTART:20071104T020000
RRULE:FREQ=YEARLY;BYMONTH=11;BYDAY=1SU
END:STANDARD
END:VTIMEZONE
BEGIN:VEVENT
DTSTAMP:20250401T181702
DTSTART;TZID=America/Detroit:20250410T193000
DTEND;TZID=America/Detroit:20250410T213000
SUMMARY:Performance:\"Blood At The Root\" by Dominique Morisseau
DESCRIPTION:Liv Morris's senior directing thesis\, *Blood At The Root* by Dominique Morisseau\, follows an ensemble of high schoolers through the \"miscarriage of justice\, racial double standards\, and the crises in relations between [people] of all classes.\" This production also aims to echo the mistreatment of underrepresented students under an education system that concedes to its long rooted history of disenfranchisement following the University of Michigan's decision to dissolve all Diversity\, Equity and Inclusion initiatives on campus. \n\nPerformances:\nThursday 4/10 show @ 7:30 \nFriday 4/11 shows @ 7:30 and 11:00 pm \nSaturday 4/12 show @ 2:00 pm - *a Cookout will follow the performance* \n\nPresented in partial fulfillment of the requirements for the degree Bachelor of Fine Arts in Theatre Performance: Directing.
UID:134574-21874551@events.umich.edu
URL:https://events.umich.edu/event/134574
CLASS:PUBLIC
STATUS:CONFIRMED
CATEGORIES:Theater,Storytelling,Social Impact,North Campus,Free
LOCATION:Walgreen Drama Center - Newman Studio
CONTACT:
END:VEVENT
BEGIN:VEVENT
DTSTAMP:20250402T121638
DTSTART;TZID=America/Detroit:20250410T193000
DTEND;TZID=America/Detroit:20250410T210000
SUMMARY:Performance:Evan Ling\, bass trombone
DESCRIPTION:Undergraduate student Evan Ling performs a senior recital.
UID:133787-21873562@events.umich.edu
URL:https://events.umich.edu/event/133787
CLASS:PUBLIC
STATUS:CONFIRMED
CATEGORIES:North Campus,Music,Free
LOCATION:Earl V. Moore Building - Britton Recital Hall
CONTACT:
END:VEVENT
BEGIN:VEVENT
DTSTAMP:20250407T181638
DTSTART;TZID=America/Detroit:20250410T193000
DTEND;TZID=America/Detroit:20250410T203000
SUMMARY:Performance:Lamenting Darkness: The Lamentations of the Prophet Jeremiah
DESCRIPTION:Composed for performances during Holy Week in 1714\, François Couperin's *Leçons de Ténèbres* (\"Tenebrae Readings\,\" or \"Lessons of Darkness\") profoundly set to music the ancient text of the Lamentations of the Prophet Jeremiah. Featuring two sopranos\, viola da gamba\, and keyboard\, this sacred vocal chamber music is unequalled in elegance\, passion\, contrition\, and pure sonic pleasure.\n\nPresented by the Department of Organ\, and featuring SMTD student performers:\nAngela Bonello\, soprano\nMarisa Redding\, soprano\nYoungeun Lee\, viola da gamba\nT. Logan Rees\, organ and harpsichord
UID:134758-21874973@events.umich.edu
URL:https://events.umich.edu/event/134758
CLASS:PUBLIC
STATUS:CONFIRMED
CATEGORIES:Music,Free
LOCATION:Off Campus Location
CONTACT:
END:VEVENT
BEGIN:VEVENT
DTSTAMP:20250410T192027
DTSTART;TZID=America/Detroit:20250410T193000
DTEND;TZID=America/Detroit:20250410T210000
SUMMARY:Workshop / Seminar:MDesign presents a Chat with Kevin Gilboe
DESCRIPTION:Stamps Alum Kevin Gilboe specializes in guiding technology businesses and community organizations towards brand excellence\, talent development\, and people-centered solutions. As a pioneer of new product and brand capabilities within two leading multinationals\, his expertise lies in integrating multidisciplinary teams to enhance products\, brand clarity and strategic alignment.
UID:134496-21874429@events.umich.edu
URL:https://events.umich.edu/event/134496
CLASS:PUBLIC
STATUS:CONFIRMED
CATEGORIES:Sessions
LOCATION:Art &amp; Architecture Auditorium
CONTACT:
END:VEVENT
BEGIN:VEVENT
DTSTAMP:20250403T121649
DTSTART;TZID=America/Detroit:20250410T193000
DTEND;TZID=America/Detroit:20250410T213000
SUMMARY:Performance:Our Oz
DESCRIPTION:A re-imagination of *The Wizard of Oz* viewed through a BIPOC and queer lens\, Our Oz is an entirely new work being presented on stage for the first time. Professors José Casas (head of the playwriting minor in the Department of Theatre & Drama) and Jake Hooker (head of drama at the Residential College) have led an ensemble of students from SMTD and the Residential College in exploring and experimenting with the tropes and images of multiple renditions from the Land of Oz as originally conceived by L. Frank Baum. The resulting work is fresh\, insightful\, and reflective of the times we live in.\n\nDiscount of 10% off ticket price when you purchase 4 or more student tickets.\n \nRecommended Ages: 13+
UID:122787-21849641@events.umich.edu
URL:https://events.umich.edu/event/122787
CLASS:PUBLIC
STATUS:CONFIRMED
CATEGORIES:Theater,Storytelling,Social Impact,North Campus,LGBT
LOCATION:Walgreen Drama Center
CONTACT:
END:VEVENT
BEGIN:VEVENT
DTSTAMP:20250305T120012
DTSTART;TZID=America/Detroit:20250410T193000
DTEND;TZID=America/Detroit:20250410T210000
SUMMARY:Other:Revive
DESCRIPTION:Come and discover hidden gems in the Bible!  Every Thursday night\, 7:30-9:00PM\, we will have Revive at 2210 ABC in the Michigan Union.  Our usual agenda for this event includes singing\, hearing a spoken message\, and having breakout discussion.  This is a great opportunity to meet others who love the Lord Jesus and to learn more about His Word!  See you there!! 🙂\"Your word is a lamp to my feet / And a light to my path.\" (Psalm 119:105)
UID:130354-21865795@events.umich.edu
URL:https://events.umich.edu/event/130354
CLASS:PUBLIC
STATUS:CONFIRMED
CATEGORIES:
LOCATION:Michigan Union, 2210 ABC (Second Floor)
CONTACT:
END:VEVENT
END:VCALENDAR