BEGIN:VCALENDAR
VERSION:2.0
PRODID:-//UM//UM*Events//EN
CALSCALE:GREGORIAN
BEGIN:VTIMEZONE
TZID:America/Detroit
TZURL:http://tzurl.org/zoneinfo/America/Detroit
X-LIC-LOCATION:America/Detroit
BEGIN:DAYLIGHT
TZOFFSETFROM:-0500
TZOFFSETTO:-0400
TZNAME:EDT
DTSTART:20070311T020000
RRULE:FREQ=YEARLY;BYMONTH=3;BYDAY=2SU
END:DAYLIGHT
BEGIN:STANDARD
TZOFFSETFROM:-0400
TZOFFSETTO:-0500
TZNAME:EST
DTSTART:20071104T020000
RRULE:FREQ=YEARLY;BYMONTH=11;BYDAY=1SU
END:STANDARD
END:VTIMEZONE
BEGIN:VEVENT
DTSTAMP:20250305T131508
DTSTART;TZID=America/Detroit:20250411T080000
DTEND;TZID=America/Detroit:20250411T170000
SUMMARY:Exhibition:CREES Exhibition. Threading the Needle: Vestiges of Colonialism and Femininity\, an installation by Gluklya
DESCRIPTION:Gluklya’s work is a powerful example of socially engaged art at the intersections of gender\, class\, and cultural identity. By focusing on experiences of female textile workers in Kyrgyzstan\, the artist explores the often-overlooked stories of women affected by Soviet and post-Soviet colonialism. \"Threading the Needle: Vestiges of Colonialism and Femininity\" retells their stories using a diverse range of media — film\, sculpture\, watercolors\, and felt tapestries. Unfolding the implications of economic and societal pressures on women\, Gluklya explores issues of poverty\, isolation\, and exploitation among the garment workers.\n   \n   Personal stories are woven into a broader social context — such as the legacy of the \"Likbez\" (liquidation of illiteracy) campaign among women in Central Asia during Soviet rule and entrenched patriarchal traditions\, like \"Ala Kachuu\" (bride-kidnapping). This dynamic — where colonization and modernization intertwine the individual lives they touch — raises questions about cultural identity and the ethical borders of decolonized research.\n\nThis exhibition was curated by CREES alumna Dianne Beal (BA REES '79). See more of her work here: https://www.diannebeal.com/curatorial.\n   \nIf there is anything we can do to make this event accessible to you\, please contact us at crees@umich.edu. Please be aware that advance notice is necessary as some accommodations may require more time for the university to arrange.
UID:132161-21870488@events.umich.edu
URL:https://events.umich.edu/event/132161
CLASS:PUBLIC
STATUS:CONFIRMED
CATEGORIES:eastern europe,art
LOCATION:Weiser Hall - Gallery, Room 547
CONTACT:
END:VEVENT
BEGIN:VEVENT
DTSTAMP:20240910T113929
DTSTART;TZID=America/Detroit:20250411T080000
DTEND;TZID=America/Detroit:20250411T170000
SUMMARY:Exhibition:WCEE Exhibition. Threads of Tradition: The Art of Ukrainian Vyshyvanka
DESCRIPTION:The act of embroidering and weaving designs onto cloth is deeply rooted in Ukrainian traditions. Embellished clothing (sorochky)\, ritual cloths (rushnyky)\, and household textiles accompany a person from birth until death\, punctuating important life events in between. A variety of embroidery patterns are used throughout Ukraine\; some stitches are universally known\, while others are region-specific. Ukrainian embroidered clothing is now officially celebrated with an annual Vyshyvanka Day observed throughout the world in May.\n\nTo see photos and read more about exhibited items\, visit https://myumi.ch/AZedA\n   \n   The embroideries and textiles exhibited are from the private collections of Arnie Klein\, Solomia Soroka\, Katerina Sirinyok-Dolgaryova\, and from the Ukrainian American Archives & Museum located in Hamtramck\, Michigan.\n   \n   The exhibit opens on September 5\, 2024\, in 1010 Weiser Hall\, 500 Church Street\, Ann Arbor. Contact weisercenter@umich.edu to schedule a viewing.\n\n*The exhibition is cosponsored by the Ukrainian American Archives & Museum*.\n\nIf there is anything we can do to make this event accessible to you\, please contact us. Please be aware that advance notice is necessary as some accommodations may require more time for the university to arrange.
UID:123893-21855068@events.umich.edu
URL:https://events.umich.edu/event/123893
CLASS:PUBLIC
STATUS:CONFIRMED
CATEGORIES:visual arts,Art
LOCATION:Weiser Hall - Room 1010
CONTACT:
END:VEVENT
BEGIN:VEVENT
DTSTAMP:20250219T082619
DTSTART;TZID=America/Detroit:20250411T090000
DTEND;TZID=America/Detroit:20250411T170000
SUMMARY:Exhibition:Andy Ross Exhibition
DESCRIPTION:The pieces here are from a large series of works made over the last several years. In them\, Ross explores humor and personal meaning through absurd juxtapositions of pairs of wildly varied images. Each single image is stripped of its original context (be it\, for example\, a history book\, an instruction manual\, or a magazine advertisement)\, placed on a white background like some kind of specimen\, and presented afresh with a new “companion image.” These companion images confront\, contrast and converse with each other\, and thereby build new relationships\, narratives\, jokes\, and contexts.\n\nAndy Ross grew up in Macomb County\, and has been making art in various mediums since the 1970s. He received a BFA degree from College for Creative Studies\, and an MFA degree from University of Michigan. He has taught photography\, art\, and web design at colleges in California and Michigan. His photographs and collages have been exhibited in schools\, galleries\, and museums across the United States.
UID:130827-21867098@events.umich.edu
URL:https://events.umich.edu/event/130827
CLASS:PUBLIC
STATUS:CONFIRMED
CATEGORIES:Art,North Campus,Humanities,Free,Exhibition,Culture,African American
LOCATION:North Campus Research Complex Building 18 - Connection Gallery
CONTACT:
END:VEVENT
BEGIN:VEVENT
DTSTAMP:20241218T142819
DTSTART;TZID=America/Detroit:20250411T090000
DTEND;TZID=America/Detroit:20250411T170000
SUMMARY:Exhibition:Angkorian Homecoming
DESCRIPTION:Informed by her experience as a refugee\, Phung Huynh’s projects explore the complexities of displacement\, assimilation\, and cultural negotiation among Cambodian and Vietnamese refugees who have resettled in the United States. She creates detailed graphite portraits on pink donut boxes to highlight the stories of Southeast Asians who have survived war trauma and genocide. Huynh’s serigraph prints about Donut Kids foreground intergenerational gaps as well as bridging the refugee parent and American child through the narratives of Cambodian American children who were raised by donut shop owners in California. Huynh’s most recent work of drawings of Cambodian Buddhist statue heads and photographic prints of decapitated statue bodies on fabric addresses the repatriation of looted Cambodian antiquities in the context of challenging the legacy of colonialism\, unethical museum practices\, and the refugee’s desire to return home. Complete details at https://lsa.umich.edu/humanities/gallery/current-exhibitions/phung-huynh.html.
UID:130113-21865466@events.umich.edu
URL:https://events.umich.edu/event/130113
CLASS:PUBLIC
STATUS:CONFIRMED
CATEGORIES:Exhibition,Art,Asia,Culture,history,Visual Arts
LOCATION:202 S. Thayer - Institute for the Humanities Gallery
CONTACT:
END:VEVENT
BEGIN:VEVENT
DTSTAMP:20250325T124154
DTSTART;TZID=America/Detroit:20250411T090000
DTEND;TZID=America/Detroit:20250411T163000
SUMMARY:Exhibition:Breaking with Tradition
DESCRIPTION:Artist John Rizzo is exhibiting individual mixed-media sculptures that bridge across art\, design\, and craft. Using a combination of materials that are historically perceived as precious John's work distorts\, disrupts\, and re-contextualizes perceptions of materials and their values. His work is at once \, colorful \, playful \, layered and deeply self-reflective in its personal narrative.
UID:131384-21868409@events.umich.edu
URL:https://events.umich.edu/event/131384
CLASS:PUBLIC
STATUS:CONFIRMED
CATEGORIES:artists and curators,Art,Visual Arts,free,Exhibition,arts at michigan,arts,artists
LOCATION:East Quadrangle - RC Art Gallery
CONTACT:
END:VEVENT
BEGIN:VEVENT
DTSTAMP:20250123T124159
DTSTART;TZID=America/Detroit:20250411T090000
DTEND;TZID=America/Detroit:20250411T100000
SUMMARY:Exercise / Fitness:Chair Aerobics
DESCRIPTION:Lifetime Fitness classes are offered at Briarwood Mall in the JCPenney wing. No experience necessary. Classes are specifically designed for older adults\, however\, everyone is welcome. LTF classes are free\, however\, please consider making a $2/person per class donation as our classes are funded strictly through donations. No registration is necessary\, simply attend when it fits your schedule. Chair Aerobics classes are carefully structured to include a warm-up\, a pre-aerobic stretch\, sitting and standing aerobics\, strength training\, a cooldown\, and a final stretch.
UID:131663-21868921@events.umich.edu
URL:https://events.umich.edu/event/131663
CLASS:PUBLIC
STATUS:CONFIRMED
CATEGORIES:fitness,Health & Wellness
LOCATION:Off Campus Location - JCPenney Wing
CONTACT:
END:VEVENT
END:VCALENDAR