BEGIN:VCALENDAR
VERSION:2.0
PRODID:-//UM//UM*Events//EN
CALSCALE:GREGORIAN
BEGIN:VTIMEZONE
TZID:America/Detroit
TZURL:http://tzurl.org/zoneinfo/America/Detroit
X-LIC-LOCATION:America/Detroit
BEGIN:DAYLIGHT
TZOFFSETFROM:-0500
TZOFFSETTO:-0400
TZNAME:EDT
DTSTART:20070311T020000
RRULE:FREQ=YEARLY;BYMONTH=3;BYDAY=2SU
END:DAYLIGHT
BEGIN:STANDARD
TZOFFSETFROM:-0400
TZOFFSETTO:-0500
TZNAME:EST
DTSTART:20071104T020000
RRULE:FREQ=YEARLY;BYMONTH=11;BYDAY=1SU
END:STANDARD
END:VTIMEZONE
BEGIN:VEVENT
DTSTAMP:20250402T131306
DTSTART;TZID=America/Detroit:20250409T100000
DTEND;TZID=America/Detroit:20250409T110000
SUMMARY:Social / Informal Gathering:IOE community event
DESCRIPTION:IOE community event with Washtenaw Dairy Doughnuts \n10:00 AM- 11:00 AM
UID:134612-21874585@events.umich.edu
URL:https://events.umich.edu/event/134612
CLASS:PUBLIC
STATUS:CONFIRMED
CATEGORIES:Graduate Students,Industrial And Operations Engineering,Michigan Engineering,North Campus,Undergraduate Students
LOCATION:Industrial and Operations Engineering Building - Community Suite Room 1700
CONTACT:
END:VEVENT
BEGIN:VEVENT
DTSTAMP:20250110T170530
DTSTART;TZID=America/Detroit:20250409T100000
DTEND;TZID=America/Detroit:20250409T200000
SUMMARY:Other:Leaves Under the Lens
DESCRIPTION:The leaf surface is a dynamic landscape where tiny\, specialized structures help plants interact with the world around them. Let’s bring this world into view! Join us for an exhibit that highlights the complex and often beautiful anatomy of leaves from the Matthaei collection. Plants throughout the conservatory will be paired with microscope photographs and micro-CT scans that illustrate the otherwise invisible structures that protect leaves from chewing insects\, absorb (or repel!) water\, and even recruit “bodyguards”. You won’t look at leaves the same way again! \n\nThis project is a collaboration between MBGNA and the Weber and Vasconcelos labs in the Department of Ecology and Evolutionary Biology\, led by PhD student Rosemary Glos.
UID:130943-21867494@events.umich.edu
URL:https://events.umich.edu/event/130943
CLASS:PUBLIC
STATUS:CONFIRMED
CATEGORIES:Biology,eeb,Family,Free,In Person,science
LOCATION:Matthaei Botanical Gardens
CONTACT:
END:VEVENT
BEGIN:VEVENT
DTSTAMP:20250409T104258
DTSTART;TZID=America/Detroit:20250409T100000
DTEND;TZID=America/Detroit:20250409T110000
SUMMARY:Exhibition:Take Care: Student Art Exhibition
DESCRIPTION:Experience the 2025 Take Care Student Art Exhibition\, a heartfelt showcase of creativity\, resilience\, and healing.\n\nThrough visual art\, video\, performance\, and literary works\, students will share their unique perspectives on caring for oneself and others\, healing as a community\, and imagining a world where self-expression nurtures collective well-being.\n\nRiverbank Arts: January 10–February 14\nClosing Reception: February 14\, 6–9 p.m.\n\nDuderstadt Center Gallery: April 15–May 9\nOpening Reception: April 15\, 5–8 p.m.
UID:130900-21875276@events.umich.edu
URL:https://events.umich.edu/event/130900
CLASS:PUBLIC
STATUS:CONFIRMED
CATEGORIES:Art,Arts Initiative,Exhibition,Reception,Take Care,Well-being
LOCATION:Duderstadt Center - Duderstadt Center Gallery
CONTACT:
END:VEVENT
BEGIN:VEVENT
DTSTAMP:20250403T181620
DTSTART;TZID=America/Detroit:20250409T110000
DTEND;TZID=America/Detroit:20250409T190000
SUMMARY:Exhibition:8-BIT Music Exhibit: The Gallery
DESCRIPTION:MORE INFO: https://sites.lsa.umich.edu/8bitmusic/ \n\nThe 8-Bit Music Exhibit is a week-long exploration of the creation of the nostalgic\, retro tunes many have grown up with and come to love\, as well as a showcase of how such music has been reclaimed and repurposed for continued existence in the modern world. The gallery plans to guide viewers through a history of 8-bit music\, its significance to media and video games of its time\, and notable figures that influenced the legacy of the niched genre. In the workshop\, participants will learn how modern chiptune artists create music from Game Boys and the production software LSDJ\, and have the opportunity to create music of their own design. Throughout the end of the exhibit week\, we will celebrate the historic and modern legacies of 8-bit music in a set of live performances produced by Norah\, a seasoned chiptune artist.\n\nOur goal in developing this exhibit is to highlight 8-bit/chiptune music as a unique form of digital art celebrated for its sound\, cultural significance\, and innovation. Throughout the lifespans of the original hardware supporting this music\, artists often faced limitations due to hardware constraints. These difficulties led to early video game industry composers inventing new techniques and methods for music creation that have evolved over time and remain influential today.\n\nTHANK YOU to our co-sponsors and partners for your support in the creation of this event!\n-> U-M LSA Technology Services Digital Scholarship (https://lsa.umich.edu/technology-services/services/research-tools/digital-scholarship.html)\n-> U-M Digital Studies Institute (https://www.digitalstudies.umich.edu/)\n-> U-M Arts Initiative (https://arts.umich.edu/arts-initiative)\n-> Neutral Zone (https://www.neutral-zone.org/event-list/2025/4/11/free-tech-workshop-chiptune-8-bit)\n-> Ann Arbor District Libraries (https://aadl.org/)\n-> Ypsilanti District Libraries (https://www.ypsilibrary.org/)\n-> Pinball Pete's in Ann Arbor (https://www.pinballpetes.org/copy-of-east-lansing-location)\n-> Video Game Music Club (VGMC) (https://maizepages.umich.edu/organization/vgmc)\n-> WolvSec (https://wolvsec.org/)\n-> LGBTQ+ Michigan (https://websites.umich.edu/~lgbtqmichigan/#)\n-> Ann Arbor Fighting Game Community at the University of Michigan (FGC) (https://maizepages.umich.edu/organization/a2fgc)
UID:134668-21874693@events.umich.edu
URL:https://events.umich.edu/event/134668
CLASS:PUBLIC
STATUS:CONFIRMED
CATEGORIES:Digital Culture,Digital Media,Exhibition,Free,In Person,Music,Video Games
LOCATION:Shapiro Library - Clark Commons
CONTACT:
END:VEVENT
BEGIN:VEVENT
DTSTAMP:20240130T121550
DTSTART;TZID=America/Detroit:20250409T110000
DTEND;TZID=America/Detroit:20250409T170000
SUMMARY:Exhibition:A Gathering
DESCRIPTION:Welcome. Make Yourself At Home.\n \nA Gathering brings together the newest works of art to enter UMMA’s collection — many on display here for the first time. \n \nAs a free\, public museum\, UMMA staff takes care of art for the benefit of the community and society at large. The works on view in this exhibition\, all brought into the Museum between 2019 and the present\, shows how institutions like UMMA are becoming more permeable to societal challenges\, and more nimble in responding to them in service to all in their communities. In this exhibition you will find works that reflect on how global migrations\, race\, gender\, and ecological change shape the way we engage with the world and inform our visions for the future.\n \nThis collection of artistic engagements with issues give us tools to envision who we want to be as individuals\, as a museum\, and as a society\, connected to one another across space and experience.\n \nSo gather here to take in these latest works of art brought here for you. Gather here to be engulfed in their forms and meanings\, to discuss their takes\, to learn\, to disagree. Gather to relax\, make a friend\, drink a coffee\, finish the daily Wordle. Gather to feel full\, to be moved and inspired by all the possible imaginations of what is yet to come.\n \nCurated by Félix Zamora Gómez Irving Stenn\, Jr. Fellow in Public Humanities & Museum Pedagogy\n\nLead support for this exhibition is provided by Lizzie and Jonathan Tisch\, the Richard and Rosann Noel Endowment\, and the University of Michigan Office of the Provost.\n 
UID:107870-21818086@events.umich.edu
URL:https://events.umich.edu/event/107870
CLASS:PUBLIC
STATUS:CONFIRMED
CATEGORIES:Art,Exhibition,Free,Humanities,Museum,Staff,UMMA
LOCATION:Museum of Art - Lizzie and Jonathan Tisch Apse
CONTACT:
END:VEVENT
BEGIN:VEVENT
DTSTAMP:20250324T135348
DTSTART;TZID=America/Detroit:20250409T110000
DTEND;TZID=America/Detroit:20250409T120000
SUMMARY:Workshop / Seminar:MCDB Seminar> Why do gram-negative bacteria have an outer membrane?
DESCRIPTION:Host: James Bardwell
UID:133588-21873278@events.umich.edu
URL:https://events.umich.edu/event/133588
CLASS:PUBLIC
STATUS:CONFIRMED
CATEGORIES:Biology,Biosciences,Bsbsigns,Natural Sciences,Science
LOCATION:Biological Sciences Building - 1010
CONTACT:
END:VEVENT
END:VCALENDAR