BEGIN:VCALENDAR
VERSION:2.0
PRODID:-//UM//UM*Events//EN
CALSCALE:GREGORIAN
BEGIN:VTIMEZONE
TZID:America/Detroit
TZURL:http://tzurl.org/zoneinfo/America/Detroit
X-LIC-LOCATION:America/Detroit
BEGIN:DAYLIGHT
TZOFFSETFROM:-0500
TZOFFSETTO:-0400
TZNAME:EDT
DTSTART:20070311T020000
RRULE:FREQ=YEARLY;BYMONTH=3;BYDAY=2SU
END:DAYLIGHT
BEGIN:STANDARD
TZOFFSETFROM:-0400
TZOFFSETTO:-0500
TZNAME:EST
DTSTART:20071104T020000
RRULE:FREQ=YEARLY;BYMONTH=11;BYDAY=1SU
END:STANDARD
END:VTIMEZONE
BEGIN:VEVENT
DTSTAMP:20250117T100624
DTSTART;TZID=America/Detroit:20250411T110000
DTEND;TZID=America/Detroit:20250411T115000
SUMMARY:Meeting:LingAMod
DESCRIPTION:The language across modalities discussion group provides a space for students\, faculty\, and community members to discuss research that spans the modes of human communication -- speech\, sign\, gesture\, and more. Our group meets to discuss research articles and to informally present ongoing research. All meetings have captioning or ASL-English interpreting.
UID:131336-21868211@events.umich.edu
URL:https://events.umich.edu/event/131336
CLASS:PUBLIC
STATUS:CONFIRMED
CATEGORIES:Discussion Group,Gesture,Sign,Speech
LOCATION:Lorch Hall - 455
CONTACT:
END:VEVENT
BEGIN:VEVENT
DTSTAMP:20250212T120014
DTSTART;TZID=America/Detroit:20250411T110000
DTEND;TZID=America/Detroit:20250411T140000
SUMMARY:Careers / Jobs:LSA Internship Scholarship Office Hours
DESCRIPTION:Do you have questions about the LSA Internship Scholarship? Drop in during our virtual office hours! Whether you need help with your application or have any other questions\, we’re here to help. Pop into our Zoom session at a time that works for you. These drop-in style office hours are designed for students who have questions regarding the LSA Internship Scholarship Application or internship eligibility requirements. \n\n\n\nClick Here to Sign Up for your timeslot today!\n\n\n\nThe priority deadline for the scholarship is April 1!\n\n\n\nCant make it? Check out our other dates below:\n\nFebruary 28\, 11am-2pm\n\nMarch 14\, 11am-2pm\n\nMarch 28\, 12-3pm\n\nApril 4\, 11am-2pm\n\nApril 11\, 11am-2pm\n\nApril 25\, 11am-2pm\n\nMay 9\, 12-3pm
UID:132632-21871547@events.umich.edu
URL:https://events.umich.edu/event/132632
CLASS:PUBLIC
STATUS:CONFIRMED
CATEGORIES:Career
LOCATION:Off Campus Location
CONTACT:
END:VEVENT
BEGIN:VEVENT
DTSTAMP:20250411T102027
DTSTART;TZID=America/Detroit:20250411T110000
DTEND;TZID=America/Detroit:20250411T120000
SUMMARY:Workshop / Seminar:OGPS Faculty Corner Series Winter 2025
DESCRIPTION:This is a monthly in-person event designed to provide insights\, advice\, and knowledge to you as an emerging academic. Each event features a faculty member discussing topics pertinent to starting an academic career focusing on research. You will get to hear from faculty about their career trajectories and how they navigated their transition from trainee to faculty member. You will also have an opportunity to network with the faculty member as well as other trainees.Aims and Objectives:To provide a platform where trainees can learn from faculty experiences and knowledge.To address and discuss pertinent issues and topics relevant to the biomedical/medical field and life sciences.To foster networking and community-building opportunities among trainees and faculty.To promote a culture of continuous learning and improvement\, equipping trainees with the necessary skills and information for the faculty profession needed to transition into academia.
UID:130372-21865921@events.umich.edu
URL:https://events.umich.edu/event/130372
CLASS:PUBLIC
STATUS:CONFIRMED
CATEGORIES:Sessions
LOCATION:THSL 2955
CONTACT:
END:VEVENT
BEGIN:VEVENT
DTSTAMP:20250411T104428
DTSTART;TZID=America/Detroit:20250411T110000
DTEND;TZID=America/Detroit:20250411T130000
SUMMARY:Meeting:Responsive Readership & Anthropological Dialogues
DESCRIPTION:Lecture: April 10\, 4-6pm\nRLL Commons\, MLB 4314\n\nWorkshop: April 11\, 11am - 1pm\nRLL Commons\, MLB 4314\n\nReframing old debates about the relationship between comparative literature and the social sciences\, Professor Brock asks what literary studies and anthropology still have to learn from one another. What does contemporary anthropological theory have to say about the ethics of approaching a multicultural curriculum? Conversely\, how do fictional accounts of ethnographic and pseudo-ethnographic encounters foreground literary-studies methodology as an indispensable tool for navigating intercultural spaces?
UID:134145-21873934@events.umich.edu
URL:https://events.umich.edu/event/134145
CLASS:PUBLIC
STATUS:CONFIRMED
CATEGORIES:intercultural,Latin America,Interdisciplinary,International,Language,Media,multicultural,Philosophy,Research,Romance Languages And Literatures,Talk,Workshop,Global,In Person,Anthropology,Applications,Books,Communications,comparative literature,Culture,Discussion,Education,Free
LOCATION:Modern Languages Building - RLL Commons (MLB 4314)
CONTACT:
END:VEVENT
BEGIN:VEVENT
DTSTAMP:20250327T181506
DTSTART;TZID=America/Detroit:20250411T110000
DTEND;TZID=America/Detroit:20250411T170000
SUMMARY:Exhibition:stop-loss
DESCRIPTION:stop-loss\, the 2025 MFA Thesis Exhibition\,​ is on view at the Stamps Gallery from March 22— April 12\, 2025. The exhibition features the work of MFA students Hannah Buchanan\, Sam Griffith\, Andy Maticorena Kajie\, Laura Mackie\, Okyoung Noh\, Charlie Reynolds\, and Darren Spirk. \nJoin us to celebrate the work of MFA graduate students at the Opening Reception on March 21 from 6 — 8 p.m. Refreshments will be served and artists will be present. 
UID:132763-21871785@events.umich.edu
URL:https://events.umich.edu/event/132763
CLASS:PUBLIC
STATUS:CONFIRMED
CATEGORIES:Art
LOCATION:Off Campus Location
CONTACT:
END:VEVENT
BEGIN:VEVENT
DTSTAMP:20250328T112102
DTSTART;TZID=America/Detroit:20250411T110000
DTEND;TZID=America/Detroit:20250411T130000
SUMMARY:Fair / Festival:Zine Mini-Fest
DESCRIPTION:Join us for this year's University of Michigan Zine Mini-Fest on Friday\, April 11 from 11am to 1pm in Hatcher Library Gallery. \n\nWe will have a makerspace for folks interested in making a zine\, as well as students and community members sharing their works. All welcome!\n\nThis event is organized by English 221: Zine What You Mean! and Writing 160: DIY Cultures.
UID:134455-21874372@events.umich.edu
URL:https://events.umich.edu/event/134455
CLASS:PUBLIC
STATUS:CONFIRMED
CATEGORIES:Workshop,Free,Festival,Arts Initiative
LOCATION:Hatcher Graduate Library - 1st Floor Gallery
CONTACT:
END:VEVENT
END:VCALENDAR