BEGIN:VCALENDAR
VERSION:2.0
PRODID:-//UM//UM*Events//EN
CALSCALE:GREGORIAN
BEGIN:VTIMEZONE
TZID:America/Detroit
TZURL:http://tzurl.org/zoneinfo/America/Detroit
X-LIC-LOCATION:America/Detroit
BEGIN:DAYLIGHT
TZOFFSETFROM:-0500
TZOFFSETTO:-0400
TZNAME:EDT
DTSTART:20070311T020000
RRULE:FREQ=YEARLY;BYMONTH=3;BYDAY=2SU
END:DAYLIGHT
BEGIN:STANDARD
TZOFFSETFROM:-0400
TZOFFSETTO:-0500
TZNAME:EST
DTSTART:20071104T020000
RRULE:FREQ=YEARLY;BYMONTH=11;BYDAY=1SU
END:STANDARD
END:VTIMEZONE
BEGIN:VEVENT
DTSTAMP:20240620T181506
DTSTART;TZID=America/Detroit:20250411T110200
DTEND;TZID=America/Detroit:20250411T170000
SUMMARY:Exhibition:Michelle Hinojosa: Logcabins
DESCRIPTION:Stamps Gallery commissioned Michelle Hinojosa (MFA\, 2023) to reimagine the pillars on Division Street that flank the Gallery. Hinojosa has created log cabin quilts to adorn the columns in front of Stamps Gallery. The log cabin quilts traditionally represent the warm hearth at the center of a home. This installation reflects on the interplay between home\, placemaking\, labor\, and intergenerational memories of migration. Rather than quilting cotton designed to softly embrace the body\, these quilts are sewn from outdoor grade\, UV-resistant polyester. The quilt is an ode to Hinojosa’s grandmother who illegally crossed the US/Mexico border holding her babies and her quilts. As she and her family drove across the United States to work in the fields of the Salinas Valley\, the quilts offered a safe space for her and her family. Hinojosa celebrates their resilience to her grandmother and elders while also drawing attention to precarity and violence experienced by refugees and migrants crossing the US-Mexico border in our present today.\nArtist’s bio:\nMichelle Inez Hinojosa is an artist\, educator\, and researcher whose work is informed by Indigenous and Latine/x/a/o studies. Born and raised in Texas\, she earned her Bachelor of Fine Arts degree in both drawing and painting and art education with a minor in art history at the University of North Texas. She holds a Master of Fine Arts from the University of Michigan. She works with quilting\, bead weaving\, embroidery\, jewelry\, transparent film installations\, painting\, ceramics\, and sculpture to honor and explore the history of migration in her family and humanize the current discourse around migration still occurring at the southern border. Alongside her artwork she maintains a writing practice to re-story\, re-make\, and re-claim the often subordinated narratives of Latinx\, Chicanx\, Mexican\, and Texican peoples. \n\nRecently\, Hinojosa was named an inaugural Creative Careers Artist in Residence at the University of Michigan\, she has also attended residencies at Mildred's Lane (Pennsylvania)\, Anderson Ranch Art Center (Aspen\, CO) and The Cedars Union (Dallas\, TX). 
UID:122384-21848872@events.umich.edu
URL:https://events.umich.edu/event/122384
CLASS:PUBLIC
STATUS:CONFIRMED
CATEGORIES:Art
LOCATION:Off Campus Location
CONTACT:
END:VEVENT
BEGIN:VEVENT
DTSTAMP:20241014T132523
DTSTART;TZID=America/Detroit:20250411T120000
DTEND;TZID=America/Detroit:20250411T133000
SUMMARY:Workshop / Seminar:Adult ASD Workshop
DESCRIPTION:Have you wondered if you have an undiagnosed Autism Spectrum Disorder (ASD)? This workshop\, presented by the Mary A. Rackham Institute (MARI) mental health clinics\, is to help educate adults who suspect they may have ASD. The online workshop also explores when ASD testing is recommended\, what to expect with testing\, and resources for next steps. This is also a workshop for people who have loved ones they suspect may have undiagnosed ASD in adulthood.\n\nThe workshop is lead by a licensed\, clinical mental health professional. Participants can submit questions or topics of concern during registration and during the workshop via anonymous Q & A.\n\nWhile there are numerous sessions to choose from\, you only need to attend one session\, as the same material is presented each time.
UID:127820-21859726@events.umich.edu
URL:https://events.umich.edu/event/127820
CLASS:PUBLIC
STATUS:CONFIRMED
CATEGORIES:Autism,Virtual,Workshop
LOCATION:Off Campus Location
CONTACT:
END:VEVENT
BEGIN:VEVENT
DTSTAMP:20250421T113230
DTSTART;TZID=America/Detroit:20250411T120000
DTEND;TZID=America/Detroit:20250411T160000
SUMMARY:Exhibition:Bloody Work: Lexington and Concord 1775
DESCRIPTION:The William L. Clements Library is pleased to announce a forthcoming exhibition in recognition of the 250th Anniversary of the military hostilities that began the American Revolutionary War. The Battles of Lexington and Concord are firmly established in American memory as the culmination of a range of governmental\, political\, economic\, and social tensions that amplified in the decade leading up to 1775. In this exhibit\, visitors will have the opportunity to see original historical manuscript letters\, documents\, newspapers\, and artwork that reveal aspects of the bloody work of Empire and individual alike in April 1775.\n\nAmong the items on display will be Commander in Chief of the British Army\, General Thomas Gage's draft orders for the Concord Expedition\, April 18\, 1775\; a bundle of letters collected by former Sons of Liberty supporter Dr. Benjamin Church\, which he secretly turned over to British Army intelligence\; letters by Silas Deane\, John Hancock\, and Rachel Revere\; and much more.\n\nOpen weekdays from 12-4 pm.
UID:134875-21875498@events.umich.edu
URL:https://events.umich.edu/event/134875
CLASS:PUBLIC
STATUS:CONFIRMED
CATEGORIES:american culture,Library,american history,Americana,Ann Arbor,Exhibit,Exhibition,Free,history,libraries
LOCATION:William Clements Library
CONTACT:
END:VEVENT
BEGIN:VEVENT
DTSTAMP:20250407T223224
DTSTART;TZID=America/Detroit:20250411T120000
DTEND;TZID=America/Detroit:20250411T130000
SUMMARY:Workshop / Seminar:Frontiers in Scientific Machine Learning Seminar 12: Operator Networks Based on Numerical Analysis
DESCRIPTION:11th April 2025\, 12pm -1pm\nVenue: 2636 GGBA and Zoom \nZoom Link: https://umich.zoom.us/j/97823527756?pwd=H01BbvtuG5q02Wzb8LJvhUnvijlAIe.1\n\nAbstract: We propose a novel approach for solving parametric partial differential equations (PDEs) using an operator network. This method combines the strengths of deep learning with traditional numerical techniques\, specifically the finite element or spectral element methods\, to address parametric PDEs ranging from singularly perturbed convection-diffusion equations to the Navier-Stokes equations\, all without requiring paired input-output training data. Through extensive experiments on various benchmark problems\, our approach has demonstrated excellent performance across diverse settings\, showcasing its versatility in terms of accuracy\, generalization\, and computational efficiency. The proposed framework holds significant potential for applications in fields where PDEs are critical for modeling complex domains with diverse boundary conditions and singular behavior. Additionally\, we provide a rigorous theoretical convergence analysis\, grounded in numerical analysis\, to further support our approach.\n\nBio: As an Associate Professor at Seoul National University\, Youngjoon Hong focuses his research on the mathematics of machine learning and its applications in scientific computing. He earned his Ph.D. in Mathematics with a minor in Scientific Computing from Indiana University under the guidance of Professor Roger Temam\, where he developed a strong foundation in theoretical analysis and computational techniques. During his postdoctoral work at the University of Illinois at Chicago with Professors Jerry Bona and David Nicholls\, he conducted research on electromagnetic and water waves\, further honing his problem-solving skills. He later initiated independent studies on the use of neural networks in scientific research\, leading to a focused research program at San Diego State University\, where he began investigating neural network approximation within scientific machine learning. Currently\, his work is dedicated to developing theoretical frameworks that enhance the reliability and applicability of neural networks in addressing complex scientific and engineering challenges.
UID:134709-21874775@events.umich.edu
URL:https://events.umich.edu/event/134709
CLASS:PUBLIC
STATUS:CONFIRMED
CATEGORIES:Ai In Science And Engineering,Sciml,Scientific Computing,North Campus,Machine Learning,Deep Learning
LOCATION:GG Brown Laboratory - 2636
CONTACT:
END:VEVENT
BEGIN:VEVENT
DTSTAMP:20250411T112031
DTSTART;TZID=America/Detroit:20250411T120000
DTEND;TZID=America/Detroit:20250411T133000
SUMMARY:Workshop / Seminar:Global Sip & Paint: Celebrating Heritage
DESCRIPTION:Reflect cultural heritage in a fun and unique way by painting while sipping and partaking in cultural drinks and snacks from around the world! A light lunch will also be served. 
UID:134437-21874358@events.umich.edu
URL:https://events.umich.edu/event/134437
CLASS:PUBLIC
STATUS:CONFIRMED
CATEGORIES:Sessions
LOCATION:OGPS Lounge
CONTACT:
END:VEVENT
BEGIN:VEVENT
DTSTAMP:20250414T090112
DTSTART;TZID=America/Detroit:20250411T120000
DTEND;TZID=America/Detroit:20250411T140000
SUMMARY:Social / Informal Gathering:Go Blue - Mobile AI at U-M: Swag Giveaway
DESCRIPTION:Meet the Emerging Technology team from ITS on campus to learn about Go Blue\, the new AI mobile app for the U-M Community. Come by our table to download the app\, ask questions\, and grab some exclusive Go Blue swag! \n\n\nLearn more about Go Blue at https://goblueai.umich.edu\n\nDownload Go Blue for iOS: https://apps.apple.com/us/app/go-blue-ai/id6740406959\nDownload Go Blue for Android: https://play.google.com/store/apps/details?id=edu.umich.mobile.goblue
UID:134013-21873889@events.umich.edu
URL:https://events.umich.edu/event/134013
CLASS:PUBLIC
STATUS:CONFIRMED
CATEGORIES:Artificial Intelligence,Go Blue App,Generative Ai,Genai,Free,In Person,U-m Gpt,Its,information technology,information and technology
LOCATION:Duderstadt Center
CONTACT:
END:VEVENT
END:VCALENDAR