BEGIN:VCALENDAR
VERSION:2.0
PRODID:-//UM//UM*Events//EN
CALSCALE:GREGORIAN
BEGIN:VTIMEZONE
TZID:America/Detroit
TZURL:http://tzurl.org/zoneinfo/America/Detroit
X-LIC-LOCATION:America/Detroit
BEGIN:DAYLIGHT
TZOFFSETFROM:-0500
TZOFFSETTO:-0400
TZNAME:EDT
DTSTART:20070311T020000
RRULE:FREQ=YEARLY;BYMONTH=3;BYDAY=2SU
END:DAYLIGHT
BEGIN:STANDARD
TZOFFSETFROM:-0400
TZOFFSETTO:-0500
TZNAME:EST
DTSTART:20071104T020000
RRULE:FREQ=YEARLY;BYMONTH=11;BYDAY=1SU
END:STANDARD
END:VTIMEZONE
BEGIN:VEVENT
DTSTAMP:20260112T144046
DTSTART;TZID=America/Detroit:20250411T120000
DTEND;TZID=America/Detroit:20250411T123000
SUMMARY:Well-being:Heartfulness Guided Meditation
DESCRIPTION:Heartfulness Guided Meditation is a weekly\, drop-in program designed to help you Mental well-being. \n\nAll U-M students\, faculty\, and staff are welcome to participate in guided meditation practice with a trainer every Friday at noon over Zoom (details to join are provided below). No prior experience with meditation is required. \n\n*What will you learn?*\n\nThe guided meditation practice involves three simple steps: relaxation\, rejuvenation\, and meditation.\n\nRelaxation brings your body to a calm\, steady posture creating a stillness at the physical level\, and prepares the mind for meditation. We follow this with a rejuvenation method to detox the mind to let go of stress and complex emotions\, and will leave you feeling light and refreshed. Lastly\, learning to meditate by being mindful of your heart will connect you with yourself by listening to your heart’s voice. \n\n*Why Meditate?*\n\nWhile physical fitness keeps our bodies in shape\, meditation is an exercise for the mind and mental wellness. In addition to the measurable benefits mentally and physically\, many people benefit from an unquantifiable inner poise and harmony. \n\n*Please take Learn to Meditate session if you are new to the practice. These sessions are offered Monthly.* https://events.umich.edu/event/128708\n\n*Event Details*\n\nHeartfulness Guided Meditation \nFridays from 12-12:30 p.m. ET (except during university season days / holidays)\nJoin Via Zoom Meeting\nRegister to receive Passcode (see “Related links”\n\n\nThis wellness program is coordinated by ITS Teaching & Learning and provided at no cost by heartfulness.org.
UID:88544-21865084@events.umich.edu
URL:https://events.umich.edu/event/88544
CLASS:PUBLIC
STATUS:CONFIRMED
CATEGORIES:Well-being,Health & Wellness,Free
LOCATION:Off Campus Location
CONTACT:
END:VEVENT
BEGIN:VEVENT
DTSTAMP:20250205T181828
DTSTART;TZID=America/Detroit:20250411T120000
DTEND;TZID=America/Detroit:20250411T123000
SUMMARY:Performance:Jenna Moon\, carillon
DESCRIPTION:SMTD doctoral alumna Jenna Moon performs on the Charles Baird Carillon\, an instrument of 53 bronze bells located inside the Burton Memorial Tower. The largest bell\, which strikes the hour\, weighs 12 tons\, while the smallest bell\, 4½ octaves above\, weighs just 15 pounds.\n\nThirty-minute recitals are performed on the Charles Baird Carillon at noon every weekday that classes are in session\, followed by visitor Q&A with the carillonist. The bell chamber may be accessed via a combination of elevator and stairs. Take the elevator to the highest floor possible (floor 8)\, and then climb two flights of stairs (39 steps) to the bell chamber (floor 10). Hearing protection earmuffs are provided for visitors. Be prepared to walk on ice and snow in the bell chamber during winter. Built in 1936\, the Charles Baird Carillon is not ADA accessible. Visitors with mobility concerns are invited to visit the Lurie Carillon.
UID:132409-21870893@events.umich.edu
URL:https://events.umich.edu/event/132409
CLASS:PUBLIC
STATUS:CONFIRMED
CATEGORIES:Talk,Music,Free,Alumni
LOCATION:Burton Memorial Tower
CONTACT:
END:VEVENT
BEGIN:VEVENT
DTSTAMP:20241220T141055
DTSTART;TZID=America/Detroit:20250411T120000
DTEND;TZID=America/Detroit:20250411T130000
SUMMARY:Social / Informal Gathering:LSA Mentorship Program Celebration Luncheon
DESCRIPTION:The LSA Mentorship Program celebration luncheon will be a full-cohort\, in-person celebration event for the Program’s conclusion. This event will be an opportunity for all students participating in the Academic Year 2022-2023 LSA Mentorship Program to get to know each other\, share program experiences\, and celebrate their hard work and progress throughout the program.\n\nAbout the LSA Mentorship Program:\n\nThe LSA Mentorship Program brings together current LSA undergrads with LSA alums in a 1-1 match with the goal of supporting students as they activate the alum network in pursuit of their career development. In the program\, there are opportunities for students to learn both directly from their alum match through regular guided meetings and via events for students to practice networking with the alum mentors\, whose identities span majors\, industries\, identities\, and experiences.\n\nYou should attend this session if you are:\n\n24-25 LSA Mentorship Program Mentee cohort\n\n \n\nWhat you’ll gain by attending:\n\nAn opportunity to connect with fellow program mentees and mentors\n\nRSVP today to reserve your spot for this upcoming workshop. Lunch will be provided. Once your RSVP is complete\, you’ll receive a confirmation email with the event details. \n\n\nThe Opportunity Hub aims to deliver inclusive and accessible experiences and welcomes all LSA students to participate. This event is on the first floor of a wheelchair accessible building which includes wheelchair-accessible restrooms on the first floor\, a gender-inclusive and accessible restroom on the first floor as well\, and places to sit or stand during the event. To request other accommodations please contact LSA Hub Events at lsa.hubevents@umich.edu  or 734-763-4674 so we can make arrangements.
UID:129728-21864470@events.umich.edu
URL:https://events.umich.edu/event/129728
CLASS:PUBLIC
STATUS:CONFIRMED
CATEGORIES:Food,Mentorship,Luncheon,Lsa Opportunity Hub,Transfer Student Center
LOCATION:LSA Building - 1040 - Multipurpose Room
CONTACT:
END:VEVENT
BEGIN:VEVENT
DTSTAMP:20250320T151941
DTSTART;TZID=America/Detroit:20250411T120000
DTEND;TZID=America/Detroit:20250411T130000
SUMMARY:Workshop / Seminar:Mapping the inner world of cells
DESCRIPTION:Cellular processes are orchestrated by many biomolecules in a spatially and temporally coordinated manner within a tiny volume. To uncover the underlying organizational principles and their functional relevance\, we take microscopy visualization as the primary approach to systematically map their spatial localization\, temporal dynamics\, and activity profiles. By combining small tags engineered from split fluorescence proteins and CRISPR/Cas9-mediated gene editing\, we have enabled the creation of the OpenCell library: > 1300 human cell lines with endogenously tagged proteins for both microscopy visualization and biochemical analysis. We have further developed the deep-learning framework to connect cellular images of proteins to their amino acid sequences.
UID:125337-21854757@events.umich.edu
URL:https://events.umich.edu/event/125337
CLASS:PUBLIC
STATUS:CONFIRMED
CATEGORIES:Biophysics
LOCATION:Chemistry Dow Lab - 1640
CONTACT:
END:VEVENT
BEGIN:VEVENT
DTSTAMP:20250318T121814
DTSTART;TZID=America/Detroit:20250411T120000
DTEND;TZID=America/Detroit:20250411T130000
SUMMARY:Workshop / Seminar:MCDB Seminar> Engineering Plant Immunity by Leveraging Kinase-Mediated Defense Responses
DESCRIPTION:Host: Libo Shan
UID:132915-21872065@events.umich.edu
URL:https://events.umich.edu/event/132915
CLASS:PUBLIC
STATUS:CONFIRMED
CATEGORIES:Science,Research,Plant Biology,Natural Sciences,Bsbsigns,Biosciences,Biology,Basic Science
LOCATION:Biological Sciences Building - 1060
CONTACT:
END:VEVENT
BEGIN:VEVENT
DTSTAMP:20250806T162329
DTSTART;TZID=America/Detroit:20250411T120000
DTEND;TZID=America/Detroit:20250411T124500
SUMMARY:Film Screening:Sea Monsters
DESCRIPTION:The film follows a curious and adventurous Dolichorhynchops – familiarly known as a ‘dolly’ – as she travels through the most dangerous oceans in history. Along the way\, she encounters long-necked plesiosaurs\, giant turtles\, enormous fish\, fierce sharks\, and the most dangerous sea monster of all– the mosasaur.
UID:121866-21875797@events.umich.edu
URL:https://events.umich.edu/event/121866
CLASS:PUBLIC
STATUS:CONFIRMED
CATEGORIES:Museum,museums,natural history museum
LOCATION:Museum of Natural History
CONTACT:
END:VEVENT
END:VCALENDAR