BEGIN:VCALENDAR
VERSION:2.0
PRODID:-//UM//UM*Events//EN
CALSCALE:GREGORIAN
BEGIN:VTIMEZONE
TZID:America/Detroit
TZURL:http://tzurl.org/zoneinfo/America/Detroit
X-LIC-LOCATION:America/Detroit
BEGIN:DAYLIGHT
TZOFFSETFROM:-0500
TZOFFSETTO:-0400
TZNAME:EDT
DTSTART:20070311T020000
RRULE:FREQ=YEARLY;BYMONTH=3;BYDAY=2SU
END:DAYLIGHT
BEGIN:STANDARD
TZOFFSETFROM:-0400
TZOFFSETTO:-0500
TZNAME:EST
DTSTART:20071104T020000
RRULE:FREQ=YEARLY;BYMONTH=11;BYDAY=1SU
END:STANDARD
END:VTIMEZONE
BEGIN:VEVENT
DTSTAMP:20250402T121506
DTSTART;TZID=America/Detroit:20250411T120000
DTEND;TZID=America/Detroit:20250411T170000
SUMMARY:Exhibition:Warped Routes: 2025 MFA First Year Exhibition
DESCRIPTION:This annual celebration of the work of Stamps MFA in Art candidates features work by first-year students:\nMichelle CieloszczykMike MartinRiver BerryMichael King\, Jr.Fiona HofferZoë Dong\nThe 2025 MFA First Year Exhibition takes place March 28 - April 19 at the Stamps Graduate/Faculty Studios\, 1919 Green Rd\, Ann Arbor\, MI 48109.\nJoin us at the public exhibition reception on Friday\, March 28 from 6-8pm (no RSVP required).\nViewings March 29-April 19 are available by appointment only\; please contact Michael King\, Jr. to arrange a visit.
UID:134133-21873914@events.umich.edu
URL:https://events.umich.edu/event/134133
CLASS:PUBLIC
STATUS:CONFIRMED
CATEGORIES:Art
LOCATION:Off Campus Location
CONTACT:
END:VEVENT
BEGIN:VEVENT
DTSTAMP:20250313T101307
DTSTART;TZID=America/Detroit:20250411T123000
DTEND;TZID=America/Detroit:20250411T130000
SUMMARY:Tours:Mid-Day Morsel | Drop-In Tour
DESCRIPTION:Looking for something to feed your brain on your lunch hour? The Mid-Day Morsel tour at the Kelsey Museum is a 30-minute taste of ancient Mediterranean history and artifact highlights in the Kelsey collection. Mid-Day Morsel tours begin at 12:30 PM. No registration is needed. Tour participants should gather at our Maynard Street entrance a few minutes before the tour is scheduled to start.\n\nWhile we do not allow food at the Kelsey Museum\, there are numerous lunch options near us on campus. Check out the UMMA Café at the Museum of Art and Darwin’s Café at the Museum of Natural History before or after your tour of the Kelsey.\n\nThis event is free and open to all visitors. If you have any questions or concerns regarding accessing this event\, please visit our accessibility page at https://myumi.ch/zwPkd or contact the education office by calling (734) 647-4167. We ask for advance notice as some accommodations may require more time for the university to arrange.
UID:133811-21873587@events.umich.edu
URL:https://events.umich.edu/event/133811
CLASS:PUBLIC
STATUS:CONFIRMED
CATEGORIES:Ancient Egypt,Tour,Museum,Mediterranean,History,Free,Archaeology,Ancient Rome,Ancient Middle East,Ancient Greece
LOCATION:Kelsey Museum of Archaeology
CONTACT:
END:VEVENT
BEGIN:VEVENT
DTSTAMP:20250411T122032
DTSTART;TZID=America/Detroit:20250411T130000
DTEND;TZID=America/Detroit:20250411T140000
SUMMARY:Workshop / Seminar:[Race\, Gender and Feminist Philosophy Working Group] April 11: Mendoza
DESCRIPTION:Hello! Thanks to those of you who attended last Friday for a great discussion! Our final meeting of this semester will be next Friday\, April 11\, from 1-2 PM in 2271 Angell. We'll be discussing José Jorge Mendoza's paper \"'GO BACK TO WHERE YOU CAME FROM!' Racism\, Xenophobia\, and White Nationalism\" (2023)\, attached below. We are planning to order brunch from aMa bistro\, so please RSVP here by April 10 if you'd like to join. If you'd like to join in on zoom\, the link is here. Hope to see many of you there!Best\, Yixuan & AG 
UID:134502-21874449@events.umich.edu
URL:https://events.umich.edu/event/134502
CLASS:PUBLIC
STATUS:CONFIRMED
CATEGORIES:Sessions
LOCATION:2271 Angell Hall
CONTACT:
END:VEVENT
BEGIN:VEVENT
DTSTAMP:20250131T084503
DTSTART;TZID=America/Detroit:20250411T130000
DTEND;TZID=America/Detroit:20250411T140000
SUMMARY:Social / Informal Gathering:Kreativwerkstatt
DESCRIPTION:Chat in German and express yourself creatively. Crafting\, coloring\, painting\, drawing\, knitting\, sewing\, crochet\, embroidery\, origami? You will combine speaking German\, any level welcome\, beginners included\, and creatively expressing yourself. You are encouraged to bring your own materials or (ongoing) projects\, but we will also provide some materials and prompts each week. Contact Laura Okkema (lokkema@umich.edu) or Iris Zapf-Garcia (iriszaga@umich.edu.) with questions.
UID:131293-21868147@events.umich.edu
URL:https://events.umich.edu/event/131293
CLASS:PUBLIC
STATUS:CONFIRMED
CATEGORIES:Germanic Languages And Literatures,German Studies,German
LOCATION:Modern Languages Building - 3030
CONTACT:
END:VEVENT
BEGIN:VEVENT
DTSTAMP:20250127T085902
DTSTART;TZID=America/Detroit:20250411T130000
DTEND;TZID=America/Detroit:20250411T140000
SUMMARY:Meeting:PhonDi
DESCRIPTION:Phondi is a discussion and research group for students and faculty at U-M and nearby universities who have interests in phonetics and phonology. We meet roughly biweekly during the academic year to present our research\, discuss \"hot\" topics in the field\, and practice upcoming conference or other presentations. We welcome anyone with interests in phonetics and phonology to join us.
UID:131898-21869369@events.umich.edu
URL:https://events.umich.edu/event/131898
CLASS:PUBLIC
STATUS:CONFIRMED
CATEGORIES:Phonology,Phonetics,Discussion Group
LOCATION:Off Campus Location - Lorch 473
CONTACT:
END:VEVENT
BEGIN:VEVENT
DTSTAMP:20250205T181828
DTSTART;TZID=America/Detroit:20250411T132000
DTEND;TZID=America/Detroit:20250411T135000
SUMMARY:Performance:Jenna Moon & Mitty Ma\, carillon
DESCRIPTION:SMTD doctoral alumna Jenna Moon & graduate student Mitty Ma perform on the Ann & Robert H. Lurie Carillon\, an instrument of 60 bells with the lowest bell (bourdon) weighing 6 tons.\n\nThirty-minute recitals are performed on the Lurie Carillon every weekday that classes are in session. During these recitals\, visitors may take the elevator to level 2 to view the largest bells\, or to level 3 to see the carillonist performing. (Visitors subject to acrophobia are recommended to visit level 2 only.) An optional spiral stairway between levels 2 and 3 allows for up-close views of some of the largest bells.
UID:132410-21870894@events.umich.edu
URL:https://events.umich.edu/event/132410
CLASS:PUBLIC
STATUS:CONFIRMED
CATEGORIES:Talk,North Campus,Music,Free,Alumni
LOCATION:Lurie Ann & Robert H. Tower
CONTACT:
END:VEVENT
END:VCALENDAR