BEGIN:VCALENDAR
VERSION:2.0
PRODID:-//UM//UM*Events//EN
CALSCALE:GREGORIAN
BEGIN:VTIMEZONE
TZID:America/Detroit
TZURL:http://tzurl.org/zoneinfo/America/Detroit
X-LIC-LOCATION:America/Detroit
BEGIN:DAYLIGHT
TZOFFSETFROM:-0500
TZOFFSETTO:-0400
TZNAME:EDT
DTSTART:20070311T020000
RRULE:FREQ=YEARLY;BYMONTH=3;BYDAY=2SU
END:DAYLIGHT
BEGIN:STANDARD
TZOFFSETFROM:-0400
TZOFFSETTO:-0500
TZNAME:EST
DTSTART:20071104T020000
RRULE:FREQ=YEARLY;BYMONTH=11;BYDAY=1SU
END:STANDARD
END:VTIMEZONE
BEGIN:VEVENT
DTSTAMP:20260112T132416
DTSTART;TZID=America/Detroit:20250411T133000
DTEND;TZID=America/Detroit:20250411T150000
SUMMARY:Workshop / Seminar:Digital Accessibility Office Hours
DESCRIPTION:Got questions about digital accessibility\, Title II compliance\, or how to make digital content accessible? \n\n-Come to virtual drop-in office hours!\n-Every 2nd and 4th Friday of the month\n-1:30 - 3:00pm \n-Zoom Meeting ID 935 9909 5960\n-Digital accessibility experts available to help you\n\nOpen to everyone from all U-M campuses (Ann Arbor\, Dearborn\, Flint\, Michigan Medicine).\n\nCan’t make it to Office Hours but have a question? Contact us (https://accessibility.umich.edu/contact-services)!\n\nIf you need accommodations to participate in office hours\, let us know by emailing ADAcoordinator@umich.edu.
UID:132601-21871407@events.umich.edu
URL:https://events.umich.edu/event/132601
CLASS:PUBLIC
STATUS:CONFIRMED
CATEGORIES:Accessibility,Communication,Digital Accessibility,Disability,Faculty,Graduate Students,Office Hours,Staff,Undergraduate Students,Virtual
LOCATION:Off Campus Location
CONTACT:
END:VEVENT
BEGIN:VEVENT
DTSTAMP:20240906T085450
DTSTART;TZID=America/Detroit:20250411T133000
DTEND;TZID=America/Detroit:20250411T153000
SUMMARY:Other:IPE Friday Free Passport Photos for Engineering Students
DESCRIPTION:Need a passport photo for a passport or visa application? International Programs in Engineering (IPE) has got you covered! \n\n-Fall & Winter Semester Only\n-Fridays 1:30-3:30pm at the IPE Office (245 Chrysler Center)\n-No Appointment Needed\n-Not During Exam Week or Holidays\n\nThis service is for CoE undergraduate and graduate students. \nFor best results\, wear darker colored\, solid (non patterned) shirt/top
UID:53322-21850440@events.umich.edu
URL:https://events.umich.edu/event/53322
CLASS:PUBLIC
STATUS:CONFIRMED
CATEGORIES:Engineering,Graduate,International,Undergraduate,Undergraduate Students
LOCATION:Chrysler Center - 245
CONTACT:
END:VEVENT
BEGIN:VEVENT
DTSTAMP:20241223T142001
DTSTART;TZID=America/Detroit:20250411T133000
DTEND;TZID=America/Detroit:20250411T150000
SUMMARY:Workshop / Seminar:Money and Meaning in the Climate Change Debate: Organizational Power\, Cultural Resonance\, and the Shaping of American Media Discourse
DESCRIPTION:In this research\, I investigate why some framings of climate change are publicized in American mainstream media while others are not\, examining organizational power and cultural resonance as two paths through which messages may gain visibility. First\, I use automated text-analysis to identify climate change frames in interest groups’ press releases (N=1\,768)\, coding frames for features believed to heighten cultural resonance. Then\, I use plagiarism-detection software to identify which messages were publicized in three major newspapers from 1985-2014. I find that policy messages from structurally-powerful interest groups such as business coalitions have received disproportionate media attention in the US climate debate. However\, organizational resources alone are not determinative of messages’ success. Political messages are also more likely to receive visibility when they leverage sources of cultural power\, such as by appealing to the latent worldviews of American audiences or their pragmatic concerns at particular historical moments. Results suggest both cultural and organizational power have shaped the perspectives given visibility in the American climate change debate\, while also describing limits on either form of power to determine media discourse.
UID:130315-21865745@events.umich.edu
URL:https://events.umich.edu/event/130315
CLASS:PUBLIC
STATUS:CONFIRMED
CATEGORIES:Business,Capitalism,Center For Social Solutions,climate,Digital Cultures,Discussion,Free,In Person,Interdisciplinary,Media,Organizational Studies,seminar,Social Impact,Sociology,Speaker,Talk
LOCATION:Ross School of Business - R0220
CONTACT:
END:VEVENT
BEGIN:VEVENT
DTSTAMP:20250312T114639
DTSTART;TZID=America/Detroit:20250411T140000
DTEND;TZID=America/Detroit:20250411T160000
SUMMARY:Workshop / Seminar:Connect & Inspire: LSA Mentorship Meet & Greet
DESCRIPTION:Join your student peers and alums from an active LSA community for an afternoon of connections where you’ll explore the impact 1:1 mentoring can have on your own undergraduate journey and career development. Learn about mentoring through first-hand experiences from students who just completed the year-long LSA Mentorship Program (more info on that below). You can mix and mingle with alum mentors from a range of majors and industries and get a taste of the kind of career advice you can receive over the course of next year. With the school year almost over\, take advantage of this on-campus event to connect with LSA alums and fellow students in a low-stakes environment where you can ask any questions\, practice connecting with professions\, and find your people within LSA.\n\nYou should attend this session if you are:\nAn LSA student interested in connecting with LSA alums and peers\nCurious about the LSA Mentorship Program\, and how you can be a part of it next year\nLooking for ways to build and your own U-M network\n\nWhat you’ll gain by attending:\nAn opportunity to be in community with LSA students and alums \nThe chance to learn about the LSA Mentorship Program and how to apply\nPractice connecting with LSA alums in a low-stakes environment\n\nRSVP now to be a part of the conversation. Lunch will be provide\nRSVP today to reserve your spot for this upcoming workshop. Once your RSVP is complete\, you’ll receive a confirmation email with the event details. \n\nThe Opportunity Hub aims to deliver inclusive and accessible experiences and welcomes all LSA students to participate. This event is on the first floor of a wheelchair accessible building which includes wheelchair-accessible restrooms on the first floor\, a gender-inclusive and accessible restroom on the first floor as well\, and places to sit or stand during the event. To request other accommodations please contact LSA Hub Events at lsa.hubevents@umich.edu  or 734-763-4674 so we can make arrangements.
UID:129839-21864633@events.umich.edu
URL:https://events.umich.edu/event/129839
CLASS:PUBLIC
STATUS:CONFIRMED
CATEGORIES:Lsa Opportunity Hub,Networking,Panel,Professional Development,Undergraduate Students,Workshop
LOCATION:LSA Building - 1040
CONTACT:
END:VEVENT
BEGIN:VEVENT
DTSTAMP:20250408T163202
DTSTART;TZID=America/Detroit:20250411T140000
DTEND;TZID=America/Detroit:20250411T160000
SUMMARY:Community Service:Friday Stewardship Day!
DESCRIPTION:This week's stewardship workday will be held on Friday\, April 4th\, at the Arboretum from 2:00-4:00 PM. Please meet at the west entrance to Dow Field near the pines (GPS coordinates 42°16'57.4\"N 83°43'01.4\"W).\n\nWe will be cutting invasive shrubs and trees in the Arb to restore habitat for native plants and animals. By removing invasives we are making space for the native plants that sustain our local animal species.\n\nSaturday\, April 12\, St. Pierre Wetland Workday!\nJoin Environ 391 students from 12-4 at the UM-owned St. Pierre wetland. Vans will depart from campus at noon and you will return by 4 pm. An RSVP from all attendees is required by Thursday at noon. Please email Jason Krick (masonbee@umich.edu) if you plan on attending!
UID:134804-21875260@events.umich.edu
URL:https://events.umich.edu/event/134804
CLASS:PUBLIC
STATUS:CONFIRMED
CATEGORIES:arboretum,native plants,Student Org,Sustainability,Volunteer
LOCATION:Nichols Arboretum
CONTACT:
END:VEVENT
BEGIN:VEVENT
DTSTAMP:20250331T141126
DTSTART;TZID=America/Detroit:20250411T140000
DTEND;TZID=America/Detroit:20250411T170000
SUMMARY:Conference / Symposium:Graduate Research Showcase
DESCRIPTION:Join us as we feature and celebrate the current research being conducted within Michigan Kinesiology labs and centers. PhD and master's students will share their research via oral and poster presentations.\n\nRefreshments served. No RSVP needed!
UID:134512-21874451@events.umich.edu
URL:https://events.umich.edu/event/134512
CLASS:PUBLIC
STATUS:CONFIRMED
CATEGORIES:Kinesiology
LOCATION:School of Kinesiology Building - Second floor commons
CONTACT:
END:VEVENT
END:VCALENDAR