BEGIN:VCALENDAR
VERSION:2.0
PRODID:-//UM//UM*Events//EN
CALSCALE:GREGORIAN
BEGIN:VTIMEZONE
TZID:America/Detroit
TZURL:http://tzurl.org/zoneinfo/America/Detroit
X-LIC-LOCATION:America/Detroit
BEGIN:DAYLIGHT
TZOFFSETFROM:-0500
TZOFFSETTO:-0400
TZNAME:EDT
DTSTART:20070311T020000
RRULE:FREQ=YEARLY;BYMONTH=3;BYDAY=2SU
END:DAYLIGHT
BEGIN:STANDARD
TZOFFSETFROM:-0400
TZOFFSETTO:-0500
TZNAME:EST
DTSTART:20071104T020000
RRULE:FREQ=YEARLY;BYMONTH=11;BYDAY=1SU
END:STANDARD
END:VTIMEZONE
BEGIN:VEVENT
DTSTAMP:20250312T081627
DTSTART;TZID=America/Detroit:20250411T150000
DTEND;TZID=America/Detroit:20250411T160000
SUMMARY:Lecture / Discussion:William Gould Dow Distinguished Lecture\, \"Silicon Photonic Integrated Circuits with Integrated Lasers\"
DESCRIPTION:Dr. John Bowers is the 23rd recipient of the William Gould Dow Distinguished Lectureship. A reception will immediately follow his talk. \n\nTremendous progress is being made at silicon photonic foundries around the world to improve the performance\, yield and capability of photonic integrated circuits (PICs) and that is opening up new markets\, including quantum computing and sensing.  These results will be described with an emphasis on integrating lasers to Si\, SiN and TFLN PICs and the improvements in laser and system performance that are possible. \n\nAbout the speaker \n\nJohn Bowers is Director of the Institute for Energy Efficiency and a professor in the Departments of Electrical and Computer Engineering and Materials at the University of California\, Santa Barbara. His research interests are primarily concerned with silicon photonics\, optoelectronic devices\, optical switching and transparent optical networks and quantum dot lasers. Bowers received the M.S. and Ph.D. degrees from Stanford University and then worked for AT&T Bell Laboratories before joining UCSB.  Bowers is a fellow of the IEEE\, OSA and the American Physical Society\, and a recipient of the IEEE Photonics Award\, OSA/IEEE Tyndall Award\, the IEEE LEOS William Streifer Award and the South Coast Business and Technology Entrepreneur of the Year Award. He is a member of the National Academy of Engineering and the National Academy of Inventors.
UID:133751-21873510@events.umich.edu
URL:https://events.umich.edu/event/133751
CLASS:PUBLIC
STATUS:CONFIRMED
CATEGORIES:College Of Engineering,Computer Engineering,Computer Science,Computer Science And Engineering,Electrical And Computer Engineering,Electrical Engineering and Computer Science,engineering,Lecture
LOCATION:Electrical Engineering and Computer Science Building - 1500 EECS
CONTACT:
END:VEVENT
BEGIN:VEVENT
DTSTAMP:20250411T152028
DTSTART;TZID=America/Detroit:20250411T153000
DTEND;TZID=America/Detroit:20250411T170000
SUMMARY:Workshop / Seminar:Bouchet Graduate Honor Society Reception
DESCRIPTION:Celebrate the 2024 Bouchet Graduate Honor Society inductees! Join us for remarks from Dean Solomon and Three-Minute Thesis presentations from our new class of inductees. This event is hybrid. Refreshments will be served.
UID:134028-21873795@events.umich.edu
URL:https://events.umich.edu/event/134028
CLASS:PUBLIC
STATUS:CONFIRMED
CATEGORIES:Sessions
LOCATION:Assembly Hall, Rackham Graduate School
CONTACT:
END:VEVENT
BEGIN:VEVENT
DTSTAMP:20250409T125011
DTSTART;TZID=America/Detroit:20250411T153000
DTEND;TZID=America/Detroit:20250411T170000
SUMMARY:Reception / Open House:Bouchet Graduate Honor Society Reception
DESCRIPTION:\nCelebrate the 2024 Bouchet Graduate Honor Society inductees! Join us for remarks from Dean Solomon and Three-Minute Thesis presentations from our new class of inductees. This event is hybrid. Refreshments will be served.\nRegistration is required at https://myumi.ch/Z2ZR5.\n\nWe want to ensure full and equitable participation in our events. If an accommodation would promote your full participation in this event\, please follow the registration link to indicate your accommodation requirements. Please let us know as soon as possible in order to have adequate time\, preferably one week\, to arrange for your requested accommodations or an effective alternative.
UID:134050-21873816@events.umich.edu
URL:https://events.umich.edu/event/134050
CLASS:PUBLIC
STATUS:CONFIRMED
CATEGORIES:Graduate Students,Rgs Events
LOCATION:Rackham Graduate School (Horace H.)
CONTACT:
END:VEVENT
BEGIN:VEVENT
DTSTAMP:20250225T134819
DTSTART;TZID=America/Detroit:20250411T153000
DTEND;TZID=America/Detroit:20250411T163000
SUMMARY:Lecture / Discussion:Smith Lecture - Guleed Ali\, Stony Brook University
DESCRIPTION:The formation of vast lakes in the arid basins of the western United States marks one of the most profound hydroclimatic changes of the Quaternary. These ancient lakes\,\nserving as natural rain gauges\, record dramatic fluctuations in water availability\, evident from shorelines carved high above modern valley floors. Despite more than a century of\ninvestigation\, the climatic drivers of these lake high stands are debated\, primarily due to disagreements over their timing. The prevailing hypothesis\, based mainly on radiocarbon-dated lake carbonates\, now holds that these lake high stands occurred early in the deglaciation\, between 18 and 15 ka\, during Heinrich Stadial 1\, an interval of rapid\nglobal warming and pronounced northern hemisphere seasonality. However\, potential biases in radiocarbon dating and calibration uncertainty leaves these age determinations\nand climatic interpretations open to question.\n\nTo address the limitations\, my collaborators and I applied the uranium-series method to date lake and groundwater carbonates from the Mono Basin in east-central California. Our results corroborate previous studies linking the high stands to Heinrich Stadial 1\, but the increased precision of our uranium-series ages refines the timing of the\nhigh stand to a narrower interval\, between 16.1 and 15.9 ka. This high-resolution chronology reveals the brevity of the wet forcing and suggests a more precise correlation\nto Heinrich Event 1—a sudden\, short-lived surge of ice and meltwater that was discharged from the Laurentide Ice Sheet into the North Atlantic about 16 ka. This\nraises the intriguing possibility that the transient but extreme climatic impact of Heinrich Event 1 may be the precise cause for the dramatic wetting that lifted western U.S. lakes to levels higher than any attained in tens of thousands of years.
UID:123509-21851013@events.umich.edu
URL:https://events.umich.edu/event/123509
CLASS:PUBLIC
STATUS:CONFIRMED
CATEGORIES:Lecture
LOCATION:1100 North University Building - 1528
CONTACT:
END:VEVENT
BEGIN:VEVENT
DTSTAMP:20250411T181527
DTSTART;TZID=America/Detroit:20250411T160000
DTEND;TZID=America/Detroit:20250319T010000
SUMMARY:Sporting Event:Baseball vs Mount St. Mary's
DESCRIPTION:Baseball vs Mount St. Mary's
UID:134060-21873826@events.umich.edu
URL:https://events.umich.edu/event/134060
CLASS:PUBLIC
STATUS:CONFIRMED
CATEGORIES:Athletics,Athletics - Baseball
LOCATION:Ray Fisher Baseball Stadium
CONTACT:
END:VEVENT
BEGIN:VEVENT
DTSTAMP:20250411T152029
DTSTART;TZID=America/Detroit:20250411T160000
DTEND;TZID=America/Detroit:20250411T180000
SUMMARY:Workshop / Seminar:F.A.M. Fridays
DESCRIPTION:Reflecting on the Trotter Multicultural Center's evolving cultural and behavioral impact through art.
UID:127299-21858828@events.umich.edu
URL:https://events.umich.edu/event/127299
CLASS:PUBLIC
STATUS:CONFIRMED
CATEGORIES:Sessions
LOCATION:Trotter Multicultural Center - Multipurpose Rooms and Sankofa Lounge
CONTACT:
END:VEVENT
END:VCALENDAR