BEGIN:VCALENDAR
VERSION:2.0
PRODID:-//UM//UM*Events//EN
CALSCALE:GREGORIAN
BEGIN:VTIMEZONE
TZID:America/Detroit
TZURL:http://tzurl.org/zoneinfo/America/Detroit
X-LIC-LOCATION:America/Detroit
BEGIN:DAYLIGHT
TZOFFSETFROM:-0500
TZOFFSETTO:-0400
TZNAME:EDT
DTSTART:20070311T020000
RRULE:FREQ=YEARLY;BYMONTH=3;BYDAY=2SU
END:DAYLIGHT
BEGIN:STANDARD
TZOFFSETFROM:-0400
TZOFFSETTO:-0500
TZNAME:EST
DTSTART:20071104T020000
RRULE:FREQ=YEARLY;BYMONTH=11;BYDAY=1SU
END:STANDARD
END:VTIMEZONE
BEGIN:VEVENT
DTSTAMP:20250408T121622
DTSTART;TZID=America/Detroit:20250411T170000
DTEND;TZID=America/Detroit:20250411T210000
SUMMARY:Meeting:U-M Hip Hop Community x Dojo Open Mic
DESCRIPTION:The University of Michigan Hip Hop Community partners with the Dojo Open Mic for a special event\, featuring performances by the Dojo crew\, panel discussion\, and community open mic. Performers: Bring 1-2 beats on a flash drive.\n\nThe Dojo is a local hip hop community from Ypsilanti that hosts some incredible open mic events every month at the Regal Beagle. If you're a rapper\, this is your opportunity to collaborate with other artists and showcase your skills in a welcoming environment. If you make beats\, this is your chance to collaborate with rappers during their performances. If you dance\, come vibe with us as well! As we continue to build our community\, we’re also planning future events that will celebrate other elements of hip hop\, including graffiti\, urban fashion\, and skateboarding. So\, please join us and help strengthen our community!\n\nLocation: 1435-WDC (Studio 2)\, Walgreen Drama Center\n\nAbout Us: The U-M Hip Hop Community began its activities under the provisional name \"Hip Hop Coalition\" in February\, with our first open meeting. The idea was initially sparked by Musicology professor Gustavo Souza Marques (Gusmão) and grad student Kiana 'KC' Cook\, who soon connected with other colleagues from the Dance Department: Lecturer Kryslin 'Tony' Frazier and grad student Tim Tsang. Recently\, rapper and U-M staff member Nickie P joined the effort. Our main goal is to bridge the gap between academia and street culture\, with a particular focus on collaborating with local communities.\n\nQuestions? Email gusmao@umich.edu or frazierk@umich.edu
UID:134785-21875116@events.umich.edu
URL:https://events.umich.edu/event/134785
CLASS:PUBLIC
STATUS:CONFIRMED
CATEGORIES:North Campus,Music,Interdisciplinary,Free,Discussion,Dance,Culture
LOCATION:Walgreen Drama Center
CONTACT:
END:VEVENT
BEGIN:VEVENT
DTSTAMP:20250305T120028
DTSTART;TZID=America/Detroit:20250411T173000
DTEND;TZID=America/Detroit:20250411T230000
SUMMARY:Exercise / Fitness:Detroit Pistons Greek Heritage Night
DESCRIPTION:The Hellenic Student Association will be traveling to Little Caesars Arena to celebrate Greek Heritage Night with the Detroit Pistons! Link to Purchase Tickets: https://forms.gle/36asyPkxkoT6Hq2B6When: Friday\, April 11\, 2025 @ 7:00pm\, Detroit Pistons Vs. Milwaukee Bucks and Giannis Antetokounmpo Price: Ticket Cost: $25Info: Comes with transportation\, HSA group seating\, custom Pistons Greek Heritage Night Jersey\, free throw on court after the game\, and group recognition on the Jumbotron!  Tickets will be available for purchase up until Sunday\, March 16st.  
UID:132342-21870781@events.umich.edu
URL:https://events.umich.edu/event/132342
CLASS:PUBLIC
STATUS:CONFIRMED
CATEGORIES:
LOCATION:Little Caesars Arena
CONTACT:
END:VEVENT
BEGIN:VEVENT
DTSTAMP:20250403T121650
DTSTART;TZID=America/Detroit:20250411T173000
DTEND;TZID=America/Detroit:20250411T183000
SUMMARY:Performance:Eric Head\, piano
DESCRIPTION:Graduate student in collaborative piano Eric Head performs a master's degree recital.
UID:134053-21873819@events.umich.edu
URL:https://events.umich.edu/event/134053
CLASS:PUBLIC
STATUS:CONFIRMED
CATEGORIES:North Campus,Music,Free
LOCATION:Earl V. Moore Building - Britton Recital Hall
CONTACT:
END:VEVENT
BEGIN:VEVENT
DTSTAMP:20250410T102755
DTSTART;TZID=America/Detroit:20250411T173000
DTEND;TZID=America/Detroit:20250411T190000
SUMMARY:Social / Informal Gathering:Tea & Sweets Social
DESCRIPTION:Celebrate Arab American Heritage Month with a relaxing tea gathering at the Grace Lee Boggs Multicultural Lounge. Enjoy teas and sweets while connecting with others and appreciating cultural traditions.
UID:134858-21875484@events.umich.edu
URL:https://events.umich.edu/event/134858
CLASS:PUBLIC
STATUS:CONFIRMED
CATEGORIES:Culture,Community Engagement
LOCATION:Baits House II - Grace Lee Boggs Multicultural Lounge
CONTACT:
END:VEVENT
BEGIN:VEVENT
DTSTAMP:20250305T120027
DTSTART;TZID=America/Detroit:20250411T180000
DTEND;TZID=America/Detroit:20250411T200000
SUMMARY:Other:Annual Runway of Dreams Foundation at the University of Michigan Fashion Show
DESCRIPTION:Runway of Dreams UMich is hosting its annual Adaptive apparel fashion show\, which aims to showcase the beauty of adaptive fashion and raise awareness about the importance of inclusive design. This year\, the show will take place in the Hussey room of the Michigan League in Ann Arbor on Friday\, April 11th\, from 6 to 8 p.m. Stay tuned for updates and get ready to watch our incredible guests unleash their inner models on the runway. 
UID:132265-21870681@events.umich.edu
URL:https://events.umich.edu/event/132265
CLASS:PUBLIC
STATUS:CONFIRMED
CATEGORIES:
LOCATION:Michigan League
CONTACT:
END:VEVENT
BEGIN:VEVENT
DTSTAMP:20250411T181515
DTSTART;TZID=America/Detroit:20250411T180000
DTEND;TZID=America/Detroit:20250411T193000
SUMMARY:Lecture / Discussion:Artist Talk: George Vargas\, Ana Luisa Cardona\, and Jesse Gonzalez
DESCRIPTION:During the fervent years of the 1970s at the University of Michigan\, a pioneering group of Latina/o students formed La Raza Art and Media Collective. Through self-organized exhibitions\, cultural gatherings\, and its journal\, the collective gathered artists\, art historians\, poets\, and journalists to voice the cultural and political expression of Chicano\, Hispanic\, and Latinx communities on campus and beyond. Members of the organization went on to become regional and national leaders in Latinx art and activism\, education\, community and political advocacy\, and public arts.\n \nRAM Collective co-founders George Vargas\, Ana Luisa Cardona\, and Jesse Gonzalez will discuss the lasting impact of this seminal moment in Latinx history at the University and their connections to the broader Latinx Midwest. They will share perspectives on Chicanx and Latinx student activism\, DIY publications and new media in the 1970s\, and the development of a network of like-minded organizations around the country that centered art as an act of politics and self-definition.\n \nThis program is presented in connection with the UMMA exhibition “La Raza Art and Media Collective\, 1975 – Today” and serves as the keynote event of Latinx Midwest History\, a 2-day symposium taking place April 11-12\, 2025.  The exhibition revisits the 50th anniversary of the foundation of RAM Collective to reflect on the profound impact of these visionary creators and the vital contributions of Latinx artists to Michigan’s cultural landscape on campus and beyond.\n \nFree and open to the public. No registration required.\n 
UID:131306-21868161@events.umich.edu
URL:https://events.umich.edu/event/131306
CLASS:PUBLIC
STATUS:CONFIRMED
CATEGORIES:UMMA,Art,Talk,Museum
LOCATION:Museum of Art - Helmut Stern Auditorium
CONTACT:
END:VEVENT
END:VCALENDAR