BEGIN:VCALENDAR
VERSION:2.0
PRODID:-//UM//UM*Events//EN
CALSCALE:GREGORIAN
BEGIN:VTIMEZONE
TZID:America/Detroit
TZURL:http://tzurl.org/zoneinfo/America/Detroit
X-LIC-LOCATION:America/Detroit
BEGIN:DAYLIGHT
TZOFFSETFROM:-0500
TZOFFSETTO:-0400
TZNAME:EDT
DTSTART:20070311T020000
RRULE:FREQ=YEARLY;BYMONTH=3;BYDAY=2SU
END:DAYLIGHT
BEGIN:STANDARD
TZOFFSETFROM:-0400
TZOFFSETTO:-0500
TZNAME:EST
DTSTART:20071104T020000
RRULE:FREQ=YEARLY;BYMONTH=11;BYDAY=1SU
END:STANDARD
END:VTIMEZONE
BEGIN:VEVENT
DTSTAMP:20250403T121651
DTSTART;TZID=America/Detroit:20250411T190000
DTEND;TZID=America/Detroit:20250411T203000
SUMMARY:Performance:Micah Huisman\, voice
DESCRIPTION:Undergraduate student Micah Huisman\, bass\, performs a senior recital.
UID:134644-21874653@events.umich.edu
URL:https://events.umich.edu/event/134644
CLASS:PUBLIC
STATUS:CONFIRMED
CATEGORIES:North Campus,Music,Free
LOCATION:Stearns Building - Cady Room
CONTACT:
END:VEVENT
BEGIN:VEVENT
DTSTAMP:20250410T101435
DTSTART;TZID=America/Detroit:20250411T190000
DTEND;TZID=America/Detroit:20250411T210000
SUMMARY:Film Screening:Moonlight Watch Party
DESCRIPTION:Come celebrate U-M Pride Month by joining the Alice Lloyd Multicultural Lounge Assistant and Diversity Peer Educator for a showing of the hit movie\, Moonlight! Movie snacks provided!\n\nAll are Welcome!
UID:134599-21874581@events.umich.edu
URL:https://events.umich.edu/event/134599
CLASS:PUBLIC
STATUS:CONFIRMED
CATEGORIES:Movie Night,housing,free,Food
LOCATION:Alice Lloyd Hall - Vicky Barner Multicultural Lounge
CONTACT:
END:VEVENT
BEGIN:VEVENT
DTSTAMP:20240611T181720
DTSTART;TZID=America/Detroit:20250411T191500
DTEND;TZID=America/Detroit:20250411T194500
SUMMARY:Lecture / Discussion:Pre-Concert Lecture: University Symphony Orchestra
DESCRIPTION:This lecture begins at 7:15 pm before the 8:00 pm USO performance.
UID:122692-21849538@events.umich.edu
URL:https://events.umich.edu/event/122692
CLASS:PUBLIC
STATUS:CONFIRMED
CATEGORIES:Concert,Free,Lecture,Music,Talk
LOCATION:Hill Auditorium - Lower Level Lobby
CONTACT:
END:VEVENT
BEGIN:VEVENT
DTSTAMP:20250401T181704
DTSTART;TZID=America/Detroit:20250411T193000
DTEND;TZID=America/Detroit:20250411T213000
SUMMARY:Performance:\"Blood At The Root\" by Dominique Morisseau
DESCRIPTION:Liv Morris's senior directing thesis\, *Blood At The Root* by Dominique Morisseau\, follows an ensemble of high schoolers through the \"miscarriage of justice\, racial double standards\, and the crises in relations between [people] of all classes.\" This production also aims to echo the mistreatment of underrepresented students under an education system that concedes to its long rooted history of disenfranchisement following the University of Michigan's decision to dissolve all Diversity\, Equity and Inclusion initiatives on campus. \n\nPerformances:\nThursday 4/10 show @ 7:30 \nFriday 4/11 shows @ 7:30 and 11:00 pm \nSaturday 4/12 show @ 2:00 pm - *a Cookout will follow the performance* \n\nPresented in partial fulfillment of the requirements for the degree Bachelor of Fine Arts in Theatre Performance: Directing.
UID:134575-21874552@events.umich.edu
URL:https://events.umich.edu/event/134575
CLASS:PUBLIC
STATUS:CONFIRMED
CATEGORIES:North Campus,Social Impact,Storytelling,Theater,Free
LOCATION:Walgreen Drama Center - Newman Studio
CONTACT:
END:VEVENT
BEGIN:VEVENT
DTSTAMP:20240806T153650
DTSTART;TZID=America/Detroit:20250411T193000
DTEND;TZID=America/Detroit:20250411T210000
SUMMARY:Performance:Kurt Elling Celebrates Weather Report
DESCRIPTION:Known for his singular combination of robust swing and poetic insight\, the two-time Grammy winner brings his one-of-a-kind brand of contemporary lyricism and vocal ingenuity to vocal jazz. His voice is instantly recognizable\, embracing listeners with his warm\, rich baritone and navigating the full span of his four-octave range as a virtuoso improviser and compelling storyteller. This celebration of Weather Report\, one of jazz’s great supergroups\, which was active in the 1970s and early 80s\, will reimagine the fusion band’s iconic songs in addition to new arrangements inspired by their constellation of musicians. The program will include “A Remark You Made\,” “Three Views of a Secret\,” and “Continuum\,” among other influential compositions from the Weather Report sphere. This concert celebration features Grammy Award-winning drummer and Weather Report alumnus Peter Erskine in his UMS debut.\n\nFeatured Artists:\nKurt Elling\, vocals\nJoey Calderazzo\, piano\nMike Moreno\, guitars\nEssiet Okon Essiet\, bass\nPeter Erskine\, drums
UID:121999-21847962@events.umich.edu
URL:https://events.umich.edu/event/121999
CLASS:PUBLIC
STATUS:CONFIRMED
CATEGORIES:performance,American Culture,piano,Social,UMS,ums jazz series,university musical society,Voice,Well-being,arts,Energy,Percussion,Culture,concert,bass,artists,Art,Ann Arbor,Interdisciplinary,music,Mindfulness,Michigan Theater,Jazz,In Person,Humanities
LOCATION:Off Campus Location
CONTACT:
END:VEVENT
BEGIN:VEVENT
DTSTAMP:20250407T121624
DTSTART;TZID=America/Detroit:20250411T200000
DTEND;TZID=America/Detroit:20250411T213000
SUMMARY:Performance:[Cancelled] Jasmine Lucia Wong\, piano
DESCRIPTION:This performance has been cancelled. We apologize for any inconvenience.
UID:134054-21873820@events.umich.edu
URL:https://events.umich.edu/event/134054
CLASS:PUBLIC
STATUS:CONFIRMED
CATEGORIES:North Campus,Music,Free
LOCATION:Earl V. Moore Building - Britton Recital Hall
CONTACT:
END:VEVENT
END:VCALENDAR