BEGIN:VCALENDAR
VERSION:2.0
PRODID:-//UM//UM*Events//EN
CALSCALE:GREGORIAN
BEGIN:VTIMEZONE
TZID:America/Detroit
TZURL:http://tzurl.org/zoneinfo/America/Detroit
X-LIC-LOCATION:America/Detroit
BEGIN:DAYLIGHT
TZOFFSETFROM:-0500
TZOFFSETTO:-0400
TZNAME:EDT
DTSTART:20070311T020000
RRULE:FREQ=YEARLY;BYMONTH=3;BYDAY=2SU
END:DAYLIGHT
BEGIN:STANDARD
TZOFFSETFROM:-0400
TZOFFSETTO:-0500
TZNAME:EST
DTSTART:20071104T020000
RRULE:FREQ=YEARLY;BYMONTH=11;BYDAY=1SU
END:STANDARD
END:VTIMEZONE
BEGIN:VEVENT
DTSTAMP:20250325T160811
DTSTART;TZID=America/Detroit:20250411T200000
DTEND;TZID=America/Detroit:20250411T223000
SUMMARY:Tours:Astronomy Night
DESCRIPTION:Experience History and Astronomy at the Judy & Stanley Frankel Detroit Observatory!\n\n \n\nObservatory Tours - 1 hour guided tour of the Detroit Observatory\, including Historic Telescope Observing of the seasonal night sky. Tours begin at 8:00\, 8:30\, 9:00\, and 9:00 PM.\nWalk-ins - begins at 8:00pm. Includes telescope observing with the historic Fitz refractor. Walk-ins welcome\, but space is limited.\n \n\nAll visitors\, including walk-ins\, are welcome to patio telescope observing and all hands-on activities at the observatory! Telescope observing is only if weather permits. Only register for one time slot. Groups larger than 5 should contact the observatory. Missed time slots will be made available to walk-ins\, so please arrive on time.
UID:134347-21874230@events.umich.edu
URL:https://events.umich.edu/event/134347
CLASS:PUBLIC
STATUS:CONFIRMED
CATEGORIES:Astronomers,astronomy,bentley historical library,tour,Telescopes,telescope viewing,Telescope Observation,Science,observing,museums,Museum,free,educational,Education
LOCATION:Detroit Observatory
CONTACT:
END:VEVENT
BEGIN:VEVENT
DTSTAMP:20250407T181642
DTSTART;TZID=America/Detroit:20250411T200000
DTEND;TZID=America/Detroit:20250411T213000
SUMMARY:Performance:Darren Lee\, jazz tenor saxophone
DESCRIPTION:Undergraduate student Darren Lee performs a final senior recital with jazz ensemble accompaniment.
UID:134772-21875038@events.umich.edu
URL:https://events.umich.edu/event/134772
CLASS:PUBLIC
STATUS:CONFIRMED
CATEGORIES:North Campus,Free,Music
LOCATION:Earl V. Moore Building - McIntosh Theatre
CONTACT:
END:VEVENT
BEGIN:VEVENT
DTSTAMP:20250318T181744
DTSTART;TZID=America/Detroit:20250411T200000
DTEND;TZID=America/Detroit:20250411T213000
SUMMARY:Performance:John Morefield\, piano
DESCRIPTION:Doctoral student in collaborative piano John Morefield presents a dissertation lecture recital.
UID:134055-21873821@events.umich.edu
URL:https://events.umich.edu/event/134055
CLASS:PUBLIC
STATUS:CONFIRMED
CATEGORIES:Free,North Campus,Music
LOCATION:Walgreen Drama Center - Stamps Auditorium
CONTACT:
END:VEVENT
BEGIN:VEVENT
DTSTAMP:20250130T124834
DTSTART;TZID=America/Detroit:20250411T200000
SUMMARY:Performance:Laith Al-Saadi
DESCRIPTION:“A cross between Danny Gatton and Buddy Guy at their best” –Guitar World\n\nIn 2016\, Laith Al-Saadi won America’s hearts and a spot in the Season 10 finale of NBC’s “The Voice.” Now he’s bringing an authentic blend of blues\, soul and classic rock to audiences around the nation and the world. Laith Al-Saadi has always had the perfect combination of Midwestern hustle and incredible musical chops—honed at the University of Michigan school of music in his hometown of Ann Arbor\, and on stages across the country working with legends like Taj Mahal\, Luther Allison\, Buddy Guy\, Son Seals\, Gregg Allman\, and B.B. King. “Laith is one of the most diverse talents we have\,” said Maroon 5 frontman and “The Voice” coach Adam Levine. “Incredible guitar player\, incredible singer.” Audiences have agreed\, propelling Laith’s album “REAL” to the top of the blues chart for five weeks and the top 20 album chart for two weeks. Guitar Center has crowned him one of the top four blues guitarists in the United States.
UID:132025-21869806@events.umich.edu
URL:https://events.umich.edu/event/132025
CLASS:PUBLIC
STATUS:CONFIRMED
CATEGORIES:Ark,Mutotix
LOCATION:ARK Reserved
CONTACT:
END:VEVENT
BEGIN:VEVENT
DTSTAMP:20250227T184858
DTSTART;TZID=America/Detroit:20250411T200000
DTEND;TZID=America/Detroit:20250411T203000
SUMMARY:Other:Laser Queen
DESCRIPTION:Laser shows are coming to the UMMNH Planetarium & Dome Theater!\n\nFrom Feb. 28 through Apr. 26\, we will be featuring the biggest and best-loved hits of rock legends Queen on Friday and Saturday evenings. We will offer three shows each night at 6:00\, 7:00\, and 8:00 p.m. Seating is limited and reservations will be fulfilled on a first come\, first served basis.\n\nTickets are $10 per person and can be purchased at the door.\n\nTo book tickets in advance\, call: 734-764-0478\, Tuesday–Thursday 10am–3pm
UID:132146-21870425@events.umich.edu
URL:https://events.umich.edu/event/132146
CLASS:PUBLIC
STATUS:CONFIRMED
CATEGORIES:Music
LOCATION:Museum of Natural History - Planetarium &amp; Dome Theater
CONTACT:
END:VEVENT
BEGIN:VEVENT
DTSTAMP:20250403T121653
DTSTART;TZID=America/Detroit:20250411T200000
DTEND;TZID=America/Detroit:20250411T220000
SUMMARY:Performance:Our Oz
DESCRIPTION:A re-imagination of *The Wizard of Oz* viewed through a BIPOC and queer lens\, Our Oz is an entirely new work being presented on stage for the first time. Professors José Casas (head of the playwriting minor in the Department of Theatre & Drama) and Jake Hooker (head of drama at the Residential College) have led an ensemble of students from SMTD and the Residential College in exploring and experimenting with the tropes and images of multiple renditions from the Land of Oz as originally conceived by L. Frank Baum. The resulting work is fresh\, insightful\, and reflective of the times we live in.\n\nDiscount of 10% off ticket price when you purchase 4 or more student tickets.\n \nRecommended Ages: 13+
UID:122788-21849642@events.umich.edu
URL:https://events.umich.edu/event/122788
CLASS:PUBLIC
STATUS:CONFIRMED
CATEGORIES:LGBT,Theater,Storytelling,Social Impact,North Campus
LOCATION:Walgreen Drama Center - Arthur Miller Theatre
CONTACT:
END:VEVENT
END:VCALENDAR