BEGIN:VCALENDAR
VERSION:2.0
PRODID:-//UM//UM*Events//EN
CALSCALE:GREGORIAN
BEGIN:VTIMEZONE
TZID:America/Detroit
TZURL:http://tzurl.org/zoneinfo/America/Detroit
X-LIC-LOCATION:America/Detroit
BEGIN:DAYLIGHT
TZOFFSETFROM:-0500
TZOFFSETTO:-0400
TZNAME:EDT
DTSTART:20070311T020000
RRULE:FREQ=YEARLY;BYMONTH=3;BYDAY=2SU
END:DAYLIGHT
BEGIN:STANDARD
TZOFFSETFROM:-0400
TZOFFSETTO:-0500
TZNAME:EST
DTSTART:20071104T020000
RRULE:FREQ=YEARLY;BYMONTH=11;BYDAY=1SU
END:STANDARD
END:VTIMEZONE
BEGIN:VEVENT
DTSTAMP:20250409T121625
DTSTART;TZID=America/Detroit:20250411T200000
DTEND;TZID=America/Detroit:20250411T220000
SUMMARY:Performance:University Symphony Orchestra
DESCRIPTION:Please join us to send-off the musicians of the University Symphony Orchestra for their historic tour to South Africa and Carnegie Hall. USO Music Director and GRAMMY nominee Kenneth Kiesler leads this special\, curated program featuring 2025 GRAMMY winner\, soprano Karen Slack\, acclaimed South African soprano\, SMTD alumna Goitsemang Lehobye\, and renowned bass and SMTD faculty member Daniel Washington. Hill Auditorium will resound with an exciting mix of film and stage music by Leonard Bernstein and George Gershwin\, and William Dawson’s thrilling and powerful masterpiece\, the *Negro Folk Symphony*\, along with moving and joyful spirituals and inspiring South African nation building songs. Sure to be a memorable final concert of the 2024-2025 USO season!\n\nKenneth Kiesler\, conductor\nKaren Slack\, soprano\nGoitsemang Lehobye\, soprano\nDaniel Washington\, bass\n\nPROGRAM\n\nLEONARD BERNSTEIN\, *On the Waterfront* Suite \nGEORGE GERSHWIN\, *Porgy and Bess* Selections: *Summertime* - *I Got Plenty o’ Nuttin’* - *My Man’s Gone Now* - *Bess\, You Is My Woman Now*\nWILLIAM DAWSON\, *Negro Folk Symphony*\nHALE SMITH\, arr.\, *Witness*\nCARL DAVIS\, arr.\, *Deep River*  					      \nMARGARET BONDS\, arr.\, *You Can Tell the World*	     				     \nBOKWE\, S.A. Cock\, arr.\, *Plea from Africa*\nNYAMEZELE\, *Bawo Thixo Somandla*\n\n
UID:122693-21849539@events.umich.edu
URL:https://events.umich.edu/event/122693
CLASS:PUBLIC
STATUS:CONFIRMED
CATEGORIES:Concert,Free,Music
LOCATION:Hill Auditorium
CONTACT:
END:VEVENT
BEGIN:VEVENT
DTSTAMP:20250411T060335
DTSTART;TZID=America/Detroit:20250411T210000
DTEND;TZID=America/Detroit:20250411T230000
SUMMARY:Other:LAST Open House of the Semester!
DESCRIPTION:Come to the last open house of the semester\, brought to you by the Student Astronomical Society and the Department of Astronomy! 9-11 pm on the third floor of Angell Hall and the roof for observing (weather permitting).
UID:134884-21875663@events.umich.edu
URL:https://events.umich.edu/event/134884
CLASS:PUBLIC
STATUS:CONFIRMED
CATEGORIES:Student Org,telescope viewing,Astronomy,astrophysics,Free,Science
LOCATION:Angell Hall - 3118
CONTACT:
END:VEVENT
BEGIN:VEVENT
DTSTAMP:20250410T103024
DTSTART;TZID=America/Detroit:20250411T210000
DTEND;TZID=America/Detroit:20250411T230000
SUMMARY:Social / Informal Gathering:Read and Recharge in Bursley
DESCRIPTION:Join Bursley Hall's Multicultural Lounge Community Assistant in the Martin Luther King Jr. Multicultural Lounge to celebrate Library Week! There will be bookmark-making materials provided. Relax\, read\, and discuss your current reads with friends and members of your community!
UID:134859-21875485@events.umich.edu
URL:https://events.umich.edu/event/134859
CLASS:PUBLIC
STATUS:CONFIRMED
CATEGORIES:Community Engagement
LOCATION:Bursley Hall - Martin Luther King Jr. Multicultural Lounge
CONTACT:
END:VEVENT
BEGIN:VEVENT
DTSTAMP:20250401T181706
DTSTART;TZID=America/Detroit:20250411T230000
DTEND;TZID=America/Detroit:20250411T235500
SUMMARY:Performance:\"Blood At The Root\" by Dominique Morisseau
DESCRIPTION:Liv Morris's senior directing thesis\, *Blood At The Root* by Dominique Morisseau\, follows an ensemble of high schoolers through the \"miscarriage of justice\, racial double standards\, and the crises in relations between [people] of all classes.\" This production also aims to echo the mistreatment of underrepresented students under an education system that concedes to its long rooted history of disenfranchisement following the University of Michigan's decision to dissolve all Diversity\, Equity and Inclusion initiatives on campus. \n\nPerformances:\nThursday 4/10 show @ 7:30 \nFriday 4/11 shows @ 7:30 and 11:00 pm \nSaturday 4/12 show @ 2:00 pm - *a Cookout will follow the performance* \n\nPresented in partial fulfillment of the requirements for the degree Bachelor of Fine Arts in Theatre Performance: Directing.
UID:134576-21874553@events.umich.edu
URL:https://events.umich.edu/event/134576
CLASS:PUBLIC
STATUS:CONFIRMED
CATEGORIES:Theater,Storytelling,Social Impact,North Campus,Free
LOCATION:Walgreen Drama Center - Newman Studio
CONTACT:
END:VEVENT
BEGIN:VEVENT
DTSTAMP:20250305T120026
DTSTART;TZID=America/Detroit:20250412T000000
DTEND;TZID=America/Detroit:20250412T235959
SUMMARY:Other:Charleston Race Week
DESCRIPTION:Regatta
UID:132035-21869830@events.umich.edu
URL:https://events.umich.edu/event/132035
CLASS:PUBLIC
STATUS:CONFIRMED
CATEGORIES:
LOCATION:Patriots Point
CONTACT:
END:VEVENT
BEGIN:VEVENT
DTSTAMP:20250305T120025
DTSTART;TZID=America/Detroit:20250412T000000
DTEND;TZID=America/Detroit:20250412T235959
SUMMARY:Other:J70s--April
DESCRIPTION:Regatta
UID:131534-21868727@events.umich.edu
URL:https://events.umich.edu/event/131534
CLASS:PUBLIC
STATUS:CONFIRMED
CATEGORIES:
LOCATION:Coast Guard Academy
CONTACT:
END:VEVENT
END:VCALENDAR