BEGIN:VCALENDAR
VERSION:2.0
PRODID:-//UM//UM*Events//EN
CALSCALE:GREGORIAN
BEGIN:VTIMEZONE
TZID:America/Detroit
TZURL:http://tzurl.org/zoneinfo/America/Detroit
X-LIC-LOCATION:America/Detroit
BEGIN:DAYLIGHT
TZOFFSETFROM:-0500
TZOFFSETTO:-0400
TZNAME:EDT
DTSTART:20070311T020000
RRULE:FREQ=YEARLY;BYMONTH=3;BYDAY=2SU
END:DAYLIGHT
BEGIN:STANDARD
TZOFFSETFROM:-0400
TZOFFSETTO:-0500
TZNAME:EST
DTSTART:20071104T020000
RRULE:FREQ=YEARLY;BYMONTH=11;BYDAY=1SU
END:STANDARD
END:VTIMEZONE
BEGIN:VEVENT
DTSTAMP:20250124T095019
DTSTART;TZID=America/Detroit:20250412T080000
DTEND;TZID=America/Detroit:20250412T230000
SUMMARY:Exhibition:Being Mixed Race in a Mono-racially Organized World
DESCRIPTION:The exhibit \"Being Mixed Race in a Mono-racially Organized World: Interracial Identity in the U.S. and Around the World — What Research and Mixed Race People Tell Us\" is an exploration into the library's collections about the diversity of mixed race heritage. Through research\, narratives\, demographic data\, and a variety of visual and published materials\, explore multifaceted aspects of mixed race heritage with insights from many perspectives.\n\nThe 2020 U.S. Census illuminated a 276 percent increase in individuals who identify as \"two or more races\" since 2010. In recognition of the growing numbers of mixed race-identifying people at the University of Michigan\, throughout the country\, and across the globe\, we're excited to unveil this new exhibit — a unique exploration of changing demographics and intersectional identities.
UID:129721-21869110@events.umich.edu
URL:https://events.umich.edu/event/129721
CLASS:PUBLIC
STATUS:CONFIRMED
CATEGORIES:Diversity,Exhibition,Free,Library
LOCATION:Hatcher Graduate Library - Clark Library, 2nd Floor
CONTACT:
END:VEVENT
BEGIN:VEVENT
DTSTAMP:20250412T181514
DTSTART;TZID=America/Detroit:20250412T090000
DTEND;TZID=America/Detroit:20250412T160000
SUMMARY:Other:CitySpirit: A Walking Tour of Murals in Southwest Detroit
DESCRIPTION:Join us for a walking tour of historic and new murals in Southwest Detroit. Vito Valdez\, long-term resident and local mural expert\, will lead the event along with George Vargas\, founding member of La Raza Art and Media Collective and active artist and organizer in the public mural projects nationwide. Buses will take participants from UMMA to Detroit for this day-long event. Highlights will include CitySpirit\, a mural created by George Vargas and Martin Moreno in 1978 and the Legends graffiti wall of Vernor Highway.\n \nFree\, registration required. \n 
UID:133727-21873488@events.umich.edu
URL:https://events.umich.edu/event/133727
CLASS:PUBLIC
STATUS:CONFIRMED
CATEGORIES:Tour,Museum,Detroit,Art,UMMA
LOCATION:Museum of Art
CONTACT:
END:VEVENT
BEGIN:VEVENT
DTSTAMP:20250318T131504
DTSTART;TZID=America/Detroit:20250412T090000
SUMMARY:Performance:Detroit Day Trip
DESCRIPTION:For more information about this event\, please visit this link https://internationalcenter.umich.edu/events/detroit-day-trip.
UID:133993-21873767@events.umich.edu
URL:https://events.umich.edu/event/133993
CLASS:PUBLIC
STATUS:CONFIRMED
CATEGORIES:Mutotix
LOCATION:Z - GA 300
CONTACT:
END:VEVENT
BEGIN:VEVENT
DTSTAMP:20250226T104926
DTSTART;TZID=America/Detroit:20250412T090000
DTEND;TZID=America/Detroit:20250412T170000
SUMMARY:Exhibition:RAW Exhibit
DESCRIPTION:“RAW” is a 2024 printmaking portfolio featuring 25 15”x20” works on paper by a diverse group of primarily student artists\, organized by Professor Endi Poskovic of the Stamps Printmedia program. The hand-pulled prints in the set\, which has never been exhibited before\, span media from colorful laser cut woodblock prints\, to lithography\, to copper plate etching. The newly formed Stamps Student-led Exhibitions Committee (SEC) will curate and rotate selections of these prints in alignment with the portfolio’s theme—where time and effort transform raw potential.
UID:133001-21872228@events.umich.edu
URL:https://events.umich.edu/event/133001
CLASS:PUBLIC
STATUS:CONFIRMED
CATEGORIES:Exhibition,Art
LOCATION:Michigan Union - First Floor
CONTACT:
END:VEVENT
BEGIN:VEVENT
DTSTAMP:20241203T104657
DTSTART;TZID=America/Detroit:20250412T090000
DTEND;TZID=America/Detroit:20250412T200000
SUMMARY:Exhibition:The Bibliophile and the Library: Private-Press Books from the Collection of Bill Heidrich
DESCRIPTION:View beautifully illustrated books that stand as remarkable testaments to the work of twentieth-century small private presses\, which\, in contrast to the trend of mass commercialization\, produced limited editions that celebrated the uniqueness of manual craftsmanship. Features such as exquisite typeface design\, letterpress printing\, handmade paper\, traditional illustration techniques like woodcut and engraving\, and the inclusion of original art by renowned artists highlight the presses' dedication to artistry and detail.\n\nThe display opens with an edition of \"The Works of Geoffrey Chaucer\,\" published in 1896 by William Morris at his Kelmscott Press\, a pivotal press that greatly influenced the development of the private press movement as a means of preserving and revitalizing the fine printing and art traditions of the past. Additionally\, the exhibit includes some examples of artist’s proofs\, offering a glimpse into the intricate creative process behind these exceptional works.\n\nThese books are on loan from the collection of Bill Heidrich\, a long-time supporter of the University of Michigan Library.
UID:129585-21863791@events.umich.edu
URL:https://events.umich.edu/event/129585
CLASS:PUBLIC
STATUS:CONFIRMED
CATEGORIES:Library,Free,Exhibition,Books
LOCATION:Hatcher Graduate Library - Hatcher Gallery Exhibit Room, 1st floor
CONTACT:
END:VEVENT
BEGIN:VEVENT
DTSTAMP:20250123T125131
DTSTART;TZID=America/Detroit:20250412T090000
DTEND;TZID=America/Detroit:20250412T100000
SUMMARY:Well-being:Yoga
DESCRIPTION:Lifetime Fitness classes are offered at Briarwood Mall in the JCPenney wing. No experience necessary. Classes are specifically designed for older adults\, however\, everyone is welcome. LTF classes are free\, however\, please consider making a $2/person per class donation as our classes are funded strictly through donations. No registration is necessary\, simply attend when it fits your schedule. This yoga class blends mobility\, flexibility and balancing poses\, cultivating awareness of your body in space and connecting you to your breath - so you can leave feeling relaxed and centered. This is less of a workout and more focused on moving your body mindfully.
UID:131666-21868963@events.umich.edu
URL:https://events.umich.edu/event/131666
CLASS:PUBLIC
STATUS:CONFIRMED
CATEGORIES:Health & Wellness,fitness
LOCATION:Off Campus Location - JCPenney Wing
CONTACT:
END:VEVENT
END:VCALENDAR