BEGIN:VCALENDAR
VERSION:2.0
PRODID:-//UM//UM*Events//EN
CALSCALE:GREGORIAN
BEGIN:VTIMEZONE
TZID:America/Detroit
TZURL:http://tzurl.org/zoneinfo/America/Detroit
X-LIC-LOCATION:America/Detroit
BEGIN:DAYLIGHT
TZOFFSETFROM:-0500
TZOFFSETTO:-0400
TZNAME:EDT
DTSTART:20070311T020000
RRULE:FREQ=YEARLY;BYMONTH=3;BYDAY=2SU
END:DAYLIGHT
BEGIN:STANDARD
TZOFFSETFROM:-0400
TZOFFSETTO:-0500
TZNAME:EST
DTSTART:20071104T020000
RRULE:FREQ=YEARLY;BYMONTH=11;BYDAY=1SU
END:STANDARD
END:VTIMEZONE
BEGIN:VEVENT
DTSTAMP:20250110T170530
DTSTART;TZID=America/Detroit:20250412T100000
DTEND;TZID=America/Detroit:20250412T163000
SUMMARY:Other:Leaves Under the Lens
DESCRIPTION:The leaf surface is a dynamic landscape where tiny\, specialized structures help plants interact with the world around them. Let’s bring this world into view! Join us for an exhibit that highlights the complex and often beautiful anatomy of leaves from the Matthaei collection. Plants throughout the conservatory will be paired with microscope photographs and micro-CT scans that illustrate the otherwise invisible structures that protect leaves from chewing insects\, absorb (or repel!) water\, and even recruit “bodyguards”. You won’t look at leaves the same way again! \n\nThis project is a collaboration between MBGNA and the Weber and Vasconcelos labs in the Department of Ecology and Evolutionary Biology\, led by PhD student Rosemary Glos.
UID:130943-21867497@events.umich.edu
URL:https://events.umich.edu/event/130943
CLASS:PUBLIC
STATUS:CONFIRMED
CATEGORIES:Biology,eeb,Family,Free,In Person,science
LOCATION:Matthaei Botanical Gardens
CONTACT:
END:VEVENT
BEGIN:VEVENT
DTSTAMP:20250326T155759
DTSTART;TZID=America/Detroit:20250412T100000
DTEND;TZID=America/Detroit:20250412T110000
SUMMARY:Recreational / Games:Sustainable Living Experience Scavenger Hunt
DESCRIPTION:Sustainable Living Experience Scavenger Hunt\n\nThe Sustainable Living Experience invites you to a nature scavenger hunt.  Come get to know the students of the Sustainable Living Experience and practice your species identification skills.\n\nThis event is free and open to all UM students. \n\nContact for more information: hdaisy@umich.edu
UID:134405-21874321@events.umich.edu
URL:https://events.umich.edu/event/134405
CLASS:PUBLIC
STATUS:CONFIRMED
CATEGORIES:Earth Month,Nature,Outdoors,Sustainability
LOCATION:
CONTACT:
END:VEVENT
BEGIN:VEVENT
DTSTAMP:20250409T104258
DTSTART;TZID=America/Detroit:20250412T100000
DTEND;TZID=America/Detroit:20250412T110000
SUMMARY:Exhibition:Take Care: Student Art Exhibition
DESCRIPTION:Experience the 2025 Take Care Student Art Exhibition\, a heartfelt showcase of creativity\, resilience\, and healing.\n\nThrough visual art\, video\, performance\, and literary works\, students will share their unique perspectives on caring for oneself and others\, healing as a community\, and imagining a world where self-expression nurtures collective well-being.\n\nRiverbank Arts: January 10–February 14\nClosing Reception: February 14\, 6–9 p.m.\n\nDuderstadt Center Gallery: April 15–May 9\nOpening Reception: April 15\, 5–8 p.m.
UID:130900-21875279@events.umich.edu
URL:https://events.umich.edu/event/130900
CLASS:PUBLIC
STATUS:CONFIRMED
CATEGORIES:Art,Arts Initiative,Exhibition,Reception,Take Care,Well-being
LOCATION:Duderstadt Center - Duderstadt Center Gallery
CONTACT:
END:VEVENT
BEGIN:VEVENT
DTSTAMP:20250412T102024
DTSTART;TZID=America/Detroit:20250412T103000
DTEND;TZID=America/Detroit:20250412T120000
SUMMARY:Workshop / Seminar:ELI Conversation Circles “Spring has Sprung” All-Circle Gathering
DESCRIPTION:
UID:134550-21874505@events.umich.edu
URL:https://events.umich.edu/event/134550
CLASS:PUBLIC
STATUS:CONFIRMED
CATEGORIES:Sessions
LOCATION:Weiser Hall, Room 1010
CONTACT:
END:VEVENT
BEGIN:VEVENT
DTSTAMP:20250409T153100
DTSTART;TZID=America/Detroit:20250412T103000
DTEND;TZID=America/Detroit:20250412T113000
SUMMARY:Lecture / Discussion:Saturday Morning Physics | Van Loo Family SMP: Graduate Student Research Presentations
DESCRIPTION:Graduate student talks about the latest research from:\nOtávio Alves and Emilie LaVoie-Ingram (Physics Department)\n\nOtávio Alves will enlighten us about \"DESI: Surveying Dark Energy with 5000 Robots.\"\n\nEmile LaVoie-Ingram will explore \"Digging Up Dark Matter with Paleo-Detectors.\"\n\nWe also celebrate the Van Loo Family Lecture on this occasion. Join us in person or via live stream: https://myumi.ch/bEmjx\n\nMore information about the Saturday Morning Physics Lecture Series is available on our website: https://myumi.ch/9gmgn
UID:131618-21868840@events.umich.edu
URL:https://events.umich.edu/event/131618
CLASS:PUBLIC
STATUS:CONFIRMED
CATEGORIES:Basic Science,Free,Graduate,Graduate And Professional Students,Graduate Students,Lecture,Physics,Science,Smoke-free,Talk
LOCATION:Weiser Hall - 170 &amp; 182 Auditoriums
CONTACT:
END:VEVENT
BEGIN:VEVENT
DTSTAMP:20240130T121550
DTSTART;TZID=America/Detroit:20250412T110000
DTEND;TZID=America/Detroit:20250412T200000
SUMMARY:Exhibition:A Gathering
DESCRIPTION:Welcome. Make Yourself At Home.\n \nA Gathering brings together the newest works of art to enter UMMA’s collection — many on display here for the first time. \n \nAs a free\, public museum\, UMMA staff takes care of art for the benefit of the community and society at large. The works on view in this exhibition\, all brought into the Museum between 2019 and the present\, shows how institutions like UMMA are becoming more permeable to societal challenges\, and more nimble in responding to them in service to all in their communities. In this exhibition you will find works that reflect on how global migrations\, race\, gender\, and ecological change shape the way we engage with the world and inform our visions for the future.\n \nThis collection of artistic engagements with issues give us tools to envision who we want to be as individuals\, as a museum\, and as a society\, connected to one another across space and experience.\n \nSo gather here to take in these latest works of art brought here for you. Gather here to be engulfed in their forms and meanings\, to discuss their takes\, to learn\, to disagree. Gather to relax\, make a friend\, drink a coffee\, finish the daily Wordle. Gather to feel full\, to be moved and inspired by all the possible imaginations of what is yet to come.\n \nCurated by Félix Zamora Gómez Irving Stenn\, Jr. Fellow in Public Humanities & Museum Pedagogy\n\nLead support for this exhibition is provided by Lizzie and Jonathan Tisch\, the Richard and Rosann Noel Endowment\, and the University of Michigan Office of the Provost.\n 
UID:107870-21818089@events.umich.edu
URL:https://events.umich.edu/event/107870
CLASS:PUBLIC
STATUS:CONFIRMED
CATEGORIES:Art,Exhibition,Free,Humanities,Museum,Staff,UMMA
LOCATION:Museum of Art - Lizzie and Jonathan Tisch Apse
CONTACT:
END:VEVENT
END:VCALENDAR