BEGIN:VCALENDAR
VERSION:2.0
PRODID:-//UM//UM*Events//EN
CALSCALE:GREGORIAN
BEGIN:VTIMEZONE
TZID:America/Detroit
TZURL:http://tzurl.org/zoneinfo/America/Detroit
X-LIC-LOCATION:America/Detroit
BEGIN:DAYLIGHT
TZOFFSETFROM:-0500
TZOFFSETTO:-0400
TZNAME:EDT
DTSTART:20070311T020000
RRULE:FREQ=YEARLY;BYMONTH=3;BYDAY=2SU
END:DAYLIGHT
BEGIN:STANDARD
TZOFFSETFROM:-0400
TZOFFSETTO:-0500
TZNAME:EST
DTSTART:20071104T020000
RRULE:FREQ=YEARLY;BYMONTH=11;BYDAY=1SU
END:STANDARD
END:VTIMEZONE
BEGIN:VEVENT
DTSTAMP:20250303T063205
DTSTART;TZID=America/Detroit:20250409T120000
DTEND;TZID=America/Detroit:20250409T124500
SUMMARY:Careers / Jobs: Northern Trust 2025 Spring Learning Series: Part 5 - Insider Tipsfrom a Recruiter
DESCRIPTION:We will be hosting a set of 6 webinars/panels to learn moreabout Northern Trust called our Spring Learning Series. From this\, you can learn more about what different segments of our business do\, what potential career paths would look like\, hear from former interns who worked in these teams\, etc.&nbsp\;Within this specific event\, you will learn about the top skills we look for in interns and new graduates\,as well as tips for success in your job search process.&nbsp\;Please join via MS Teams for this event through the link provided\, andusing the following:Meeting ID:&nbsp\;275 859 469 506&nbsp\;Passcode:&nbsp\;aA24pJ9e &nbsp\;&nbsp\;If you experience issues with the MS Teams login\, below are the audio options to dial in:+1 312-319-1327Phone Conference ID: 908 132 87#&nbsp\;&nbsp\;Can't wait to see you there!&nbsp\;We encourage you to sign up for the full series! If interested\, please register for each session individually through the links below:&nbsp\;Part 1: Achieving Greater TogetherWednesday\, March 12th\, 2025\, 12:00PM- 12:45PM CSThttps://app.joinhandshake.com/events/1695603/share_previewPart 2: Blast from the Past Former Intern Panel (VIRTUAL)Wednesday\, March 19th\, 2025\,12:00PM - 12:45PM CSThttps://app.joinhandshake.com/events/1695607/share_previewPart 3: &nbsp\;Explore #LifeatNTWednesday\, March 26th\, 2025\, 12:00PM - 12:45PM CSThttps://app.joinhandshake.com/events/1695613/share_previewPart 4: Redefining the FinTechSpaceWednesday\, April 2nd\, 2025\, 12:00PM - 12:45PM CSThttps://app.joinhandshake.com/events/1695209/share_previewPart 5: Insider Tips from a RecruiterWednesday\, April 9th\, 2025\, 12:00PM - 12:45PM CSThttps://app.joinhandshake.com/events/1695599/share_previewPart 6: Blast from the Past Former Intern Panel (IN PERSON at one of our Chicago Offices)Wednesday\, April 16th\, 2025\, 2:00PM - 4:00PM CSThttps://app.joinhandshake.com/events/1695623/share_preview
UID:132315-21870754@events.umich.edu
URL:https://events.umich.edu/event/132315
CLASS:PUBLIC
STATUS:CONFIRMED
CATEGORIES:
LOCATION:
CONTACT:
END:VEVENT
BEGIN:VEVENT
DTSTAMP:20250327T102342
DTSTART;TZID=America/Detroit:20250409T120000
DTEND;TZID=America/Detroit:20250409T130000
SUMMARY:Lecture / Discussion:Brown Bag Seminar |  Effective $AdS_3/CFT_2$\; Life is simpler without black holes
DESCRIPTION:The holographic dual to string theory in $AdS_3 x N$ has always been a fundamental question in high-energy theoretical physics. To this day\, we don't know the answer to this question in full generality. In this talk\, I'll propose an effective holographic dual to type IIB string theory in $AdS_3 x N$ in the presence of pure NS-NS flux. The dual boundary CFT takes the form of a p-fold symmetric product of $(R_\phi \times N)$ deformed by a $\phi$-dependent $Z_2$-twisted marginal operator. I'll explain how an exact worldsheet computation allows us to identify this marginal operator. \n\nWhen the radius of $AdS_3$\, $R_{ads}$\, is sub-stringy\, the CFT spectrum doesn't contain neither a normalizable vacuum nor the BTZ black hole states. The proposed holographic duality in this case is an exact one. On the other hand\, when $R_{ads}/l_s >1$\, the full boundary CFT does have a normalizable vacuum and the BTZ black hole states at high energies. The proposed duality in this case is an effective one and holds only for the perturbative string states in the spectrum. Finally\, I'll quote some of the checks that have been performed to test this duality.
UID:130855-21867143@events.umich.edu
URL:https://events.umich.edu/event/130855
CLASS:PUBLIC
STATUS:CONFIRMED
CATEGORIES:Brown Bag Seminar,brown bag,Physics
LOCATION:Randall Laboratory - 3481
CONTACT:
END:VEVENT
BEGIN:VEVENT
DTSTAMP:20250404T081536
DTSTART;TZID=America/Detroit:20250409T120000
DTEND;TZID=America/Detroit:20250409T130000
SUMMARY:Well-being:Campus Mind Works: Imposter Syndrome
DESCRIPTION:Join us for a lunch workshop and wellness group where we will discuss how comparison contributes to imposter syndrome and strategies to promote positive self-image. Lunch will be provided. This FREE in-person educational wellness group is for students only and will include an interactive presentation facilitated by staff from the Eisenberg Family Depression Center and is a collaborative service with U-M Engineering's C.A.R.E. Center and the Newnan Academic Advising Center.\n\nRegistration is not required for in-person wellness groups\, but is recommended so there is enough lunch for all attendees. You can register on the Campus Mind Works website.
UID:134701-21874756@events.umich.edu
URL:https://events.umich.edu/event/134701
CLASS:PUBLIC
STATUS:CONFIRMED
CATEGORIES:Health & Wellness,Free,Food,Central Campus,Wellness,Well-being,Undergraduate Students,mental health
LOCATION:Mason Hall - G437
CONTACT:
END:VEVENT
BEGIN:VEVENT
DTSTAMP:20250321T172702
DTSTART;TZID=America/Detroit:20250409T120000
DTEND;TZID=America/Detroit:20250409T163000
SUMMARY:Social / Informal Gathering:Community Kickback: Come n Go Series
DESCRIPTION:Welcome to the Student Culture Lounge's (SCL) Come & Go Programming Series—a vibrant\, interactive experience for students to connect\, engage\, and unwind in a welcoming environment on North Campus. Our series offers a casual\, yet enriching opportunity to explore diverse topics and cultures through themed events\, featuring delicious food. Whether you're a new face or a familiar friend\, this series is designed to make you feel appreciated by the Office of Culture\, Community & Equity (OCCE) and to introduce or reconnect you with the SCL.\n\nEvents will take place from 12-1:30pm & 3-4:30pm\n\nUpcoming Event:\nApril 21 - Exam Week
UID:133660-21873358@events.umich.edu
URL:https://events.umich.edu/event/133660
CLASS:PUBLIC
STATUS:CONFIRMED
CATEGORIES:Graduate,Undergraduate,Community,Diversity,Engineering,Free,Graduate And Professional Students,Inclusion,Michigan Engineering,Multicultural,Undergraduate Students
LOCATION:Engineering Research Building (ERB - formerly IST) - Student Culture Lounge
CONTACT:
END:VEVENT
BEGIN:VEVENT
DTSTAMP:20250409T112032
DTSTART;TZID=America/Detroit:20250409T120000
DTEND;TZID=America/Detroit:20250409T130000
SUMMARY:Workshop / Seminar:dije Office 2024-2025
DESCRIPTION:The dije Office in the Marsal Family School of Education is eager to host a multitude of events for our community. Use this Sessions track to register for our upcoming programs. We look forward to seeing you soon!
UID:124630-21873332@events.umich.edu
URL:https://events.umich.edu/event/124630
CLASS:PUBLIC
STATUS:CONFIRMED
CATEGORIES:Sessions
LOCATION:Whitney Auditorium SEB 1315
CONTACT:
END:VEVENT
BEGIN:VEVENT
DTSTAMP:20250404T165121
DTSTART;TZID=America/Detroit:20250409T120000
DTEND;TZID=America/Detroit:20250409T130000
SUMMARY:Other:ELO | Travel Safety Plan 101
DESCRIPTION:During this virtual session\, U-M International Travel Safety Coordinator\, Wyatt Boykin will present important information about U-M's Travel Safety Plan and other required documentation for students who are traveling to countries which have been deemed to pose a higher risk for U-M students. Wyatt will discuss the requirements\, how to complete them using MCompass\, and will answer any questions related.
UID:134726-21874798@events.umich.edu
URL:https://events.umich.edu/event/134726
CLASS:PUBLIC
STATUS:CONFIRMED
CATEGORIES:Engaged Learning Office,Global Engagement
LOCATION:Off Campus Location
CONTACT:
END:VEVENT
END:VCALENDAR