BEGIN:VCALENDAR
VERSION:2.0
PRODID:-//UM//UM*Events//EN
CALSCALE:GREGORIAN
BEGIN:VTIMEZONE
TZID:America/Detroit
TZURL:http://tzurl.org/zoneinfo/America/Detroit
X-LIC-LOCATION:America/Detroit
BEGIN:DAYLIGHT
TZOFFSETFROM:-0500
TZOFFSETTO:-0400
TZNAME:EDT
DTSTART:20070311T020000
RRULE:FREQ=YEARLY;BYMONTH=3;BYDAY=2SU
END:DAYLIGHT
BEGIN:STANDARD
TZOFFSETFROM:-0400
TZOFFSETTO:-0500
TZNAME:EST
DTSTART:20071104T020000
RRULE:FREQ=YEARLY;BYMONTH=11;BYDAY=1SU
END:STANDARD
END:VTIMEZONE
BEGIN:VEVENT
DTSTAMP:20250402T121506
DTSTART;TZID=America/Detroit:20250412T120000
DTEND;TZID=America/Detroit:20250412T170000
SUMMARY:Exhibition:Warped Routes: 2025 MFA First Year Exhibition
DESCRIPTION:This annual celebration of the work of Stamps MFA in Art candidates features work by first-year students:\nMichelle CieloszczykMike MartinRiver BerryMichael King\, Jr.Fiona HofferZoë Dong\nThe 2025 MFA First Year Exhibition takes place March 28 - April 19 at the Stamps Graduate/Faculty Studios\, 1919 Green Rd\, Ann Arbor\, MI 48109.\nJoin us at the public exhibition reception on Friday\, March 28 from 6-8pm (no RSVP required).\nViewings March 29-April 19 are available by appointment only\; please contact Michael King\, Jr. to arrange a visit.
UID:134133-21873915@events.umich.edu
URL:https://events.umich.edu/event/134133
CLASS:PUBLIC
STATUS:CONFIRMED
CATEGORIES:Art
LOCATION:Off Campus Location
CONTACT:
END:VEVENT
BEGIN:VEVENT
DTSTAMP:20250412T181525
DTSTART;TZID=America/Detroit:20250412T120000
DTEND;TZID=America/Detroit:20250322T010000
SUMMARY:Sporting Event:Women's Tennis vs Oregon
DESCRIPTION:Women's Tennis vs Oregon
UID:134236-21874039@events.umich.edu
URL:https://events.umich.edu/event/134236
CLASS:PUBLIC
STATUS:CONFIRMED
CATEGORIES:Athletics,Athletics - Women's Tennis
LOCATION:Varsity Tennis Bldg
CONTACT:
END:VEVENT
BEGIN:VEVENT
DTSTAMP:20250403T121653
DTSTART;TZID=America/Detroit:20250412T123000
DTEND;TZID=America/Detroit:20250412T133000
SUMMARY:Performance:Roberto Campa\, saxophone
DESCRIPTION:Graduate student Roberto Campa performs a master's degree recital.
UID:134101-21873861@events.umich.edu
URL:https://events.umich.edu/event/134101
CLASS:PUBLIC
STATUS:CONFIRMED
CATEGORIES:Free,Music,North Campus
LOCATION:Walgreen Drama Center - Stamps Auditorium
CONTACT:
END:VEVENT
BEGIN:VEVENT
DTSTAMP:20250319T091422
DTSTART;TZID=America/Detroit:20250412T130000
DTEND;TZID=America/Detroit:20250412T160000
SUMMARY:Conference / Symposium:Beyond Human
DESCRIPTION:As artificial intelligence reshapes the boundaries of human creativity\, opera—a centuries-old art form—has the potential to stand at the forefront of this transformation. The University of Michigan AI Lab proudly presents Beyond Human a symposium exploring the intersection of AI\, music\, and theatrical storytelling. In conjunction with Detroit Opera’s highly anticipated world-premiere production of Così fan tutte (April 6-13)\, this event brings together visionaries from the fields of opera\, computer science\, design\, and robotics to examine how AI is revolutionizing composition\, performance\, and art.\n\nConversations with:\n– Yuval Sharon\, Detroit Opera\n– Deirdre Loughridge\, Northwestern\n– Michael Wellman\, U-M Computer Science & Engineering\n– Clare Croft\, U-M LSA\, SMTD\, Arts Initiative\n– Julie Zhu\, U-M SMTD\n– Carla Diana\, Diligent Robotics\, Cranbrook\n– David Levin\, U-Chicago\n– Patrícia Alves-Oliviera\, U-M Robotics\nFor those who would also like to see the opera\, you can acquire tickets at https://detroitopera.org/show/Cosi-fan-tutte/
UID:134064-21873829@events.umich.edu
URL:https://events.umich.edu/event/134064
CLASS:PUBLIC
STATUS:CONFIRMED
CATEGORIES:Ai In Science And Engineering,Art,Artificial Intelligence,ArtsEngine,Computer Engineering,Computer Science,Computer Vision,computing,Deep Learning,Electrical And Computer Engineering,Electrical Engineering and Computer Science,Free,Generative Ai,In Person,Machine Learning,Michigan Ai Lab,Michigan Robotics,Music,Natural Language Processing,Responsible Ai,Robotics,symposium
LOCATION:Chrysler Center - Chesebrough Auditorium
CONTACT:
END:VEVENT
BEGIN:VEVENT
DTSTAMP:20250220T074806
DTSTART;TZID=America/Detroit:20250412T130000
DTEND;TZID=America/Detroit:20250412T153000
SUMMARY:Film Screening:Korean Cinema NOW | Harbin | 하얼빈
DESCRIPTION:View the trailer at: https://youtu.be/APwvisWxjaI?si=S7zRZnQTrgryH91n\n\nSet in 1909\, \"Harbin\" follows a group of Korean freedom fighters as they embark on a bold mission to assassinate Japan's prime minister. Driven by their struggle for independence after Korea is annexed by Japan\, these courageous individuals risk everything in their fight for freedom. \n\nDirected by Woo Min-ho\n\nPresented in Korean with English Subtitles \n\nThe Korean Cinema NOW 2025 series features critical picks of recent Korean film hits. Screened at the State Theater\, all films are free and open to the public.\n\nIf there is anything we can do to make this event accessible to you\, please contact us. Please be aware that advance notice is necessary as some accommodations may require more time for the university to arrange.
UID:132880-21872008@events.umich.edu
URL:https://events.umich.edu/event/132880
CLASS:PUBLIC
STATUS:CONFIRMED
CATEGORIES:Film,Film Series,Korea
LOCATION:Off Campus Location
CONTACT:
END:VEVENT
BEGIN:VEVENT
DTSTAMP:20250412T181515
DTSTART;TZID=America/Detroit:20250412T130000
DTEND;TZID=America/Detroit:20250412T190000
SUMMARY:Performance:Music Showcase: End of Semester Student Performances
DESCRIPTION:Students from across the University of Michigan’s campus will perform in an end-of-semester showcase concert representing the diverse classes from the Music Studies Department at the School of Music\, Theatre & Dance. An eclectic range of pop and classical works will be performed by student groups and soloists from the introductory\, intermediate\, advanced and guitar ensemble classes\, the pop and hip-hop songwriting classes\, as well as soloists from the Michigan Guitar Society (MGS) and Michigan Songwriters Collective (MISC) Student Organizations. \n \nFree and open to the public. No registration required.\n 
UID:133728-21873489@events.umich.edu
URL:https://events.umich.edu/event/133728
CLASS:PUBLIC
STATUS:CONFIRMED
CATEGORIES:Art,Museum,Music,UMMA
LOCATION:Museum of Art - Helmut Stern Auditorium
CONTACT:
END:VEVENT
END:VCALENDAR