BEGIN:VCALENDAR
VERSION:2.0
PRODID:-//UM//UM*Events//EN
CALSCALE:GREGORIAN
BEGIN:VTIMEZONE
TZID:America/Detroit
TZURL:http://tzurl.org/zoneinfo/America/Detroit
X-LIC-LOCATION:America/Detroit
BEGIN:DAYLIGHT
TZOFFSETFROM:-0500
TZOFFSETTO:-0400
TZNAME:EDT
DTSTART:20070311T020000
RRULE:FREQ=YEARLY;BYMONTH=3;BYDAY=2SU
END:DAYLIGHT
BEGIN:STANDARD
TZOFFSETFROM:-0400
TZOFFSETTO:-0500
TZNAME:EST
DTSTART:20071104T020000
RRULE:FREQ=YEARLY;BYMONTH=11;BYDAY=1SU
END:STANDARD
END:VTIMEZONE
BEGIN:VEVENT
DTSTAMP:20250401T181707
DTSTART;TZID=America/Detroit:20250412T140000
DTEND;TZID=America/Detroit:20250412T160000
SUMMARY:Performance:\"Blood At The Root\" by Dominique Morisseau
DESCRIPTION:Liv Morris's senior directing thesis\, *Blood At The Root* by Dominique Morisseau\, follows an ensemble of high schoolers through the \"miscarriage of justice\, racial double standards\, and the crises in relations between [people] of all classes.\" This production also aims to echo the mistreatment of underrepresented students under an education system that concedes to its long rooted history of disenfranchisement following the University of Michigan's decision to dissolve all Diversity\, Equity and Inclusion initiatives on campus. \n\nPerformances:\nThursday 4/10 show @ 7:30 \nFriday 4/11 shows @ 7:30 and 11:00 pm \nSaturday 4/12 show @ 2:00 pm - *a Cookout will follow the performance* \n\nPresented in partial fulfillment of the requirements for the degree Bachelor of Fine Arts in Theatre Performance: Directing.
UID:134577-21874554@events.umich.edu
URL:https://events.umich.edu/event/134577
CLASS:PUBLIC
STATUS:CONFIRMED
CATEGORIES:Theater,Storytelling,Social Impact,North Campus,Free
LOCATION:Walgreen Drama Center - Newman Studio
CONTACT:
END:VEVENT
BEGIN:VEVENT
DTSTAMP:20250412T181525
DTSTART;TZID=America/Detroit:20250412T140000
DTEND;TZID=America/Detroit:20250322T010000
SUMMARY:Sporting Event:Baseball vs Mount St. Mary's
DESCRIPTION:Baseball vs Mount St. Mary's
UID:134237-21874040@events.umich.edu
URL:https://events.umich.edu/event/134237
CLASS:PUBLIC
STATUS:CONFIRMED
CATEGORIES:Athletics - Baseball,Athletics
LOCATION:Ray Fisher Baseball Stadium
CONTACT:
END:VEVENT
BEGIN:VEVENT
DTSTAMP:20250412T181058
DTSTART;TZID=America/Detroit:20250412T140000
SUMMARY:Performance:Bear Foot
DESCRIPTION:No description is provided. \nPlease visit https://mutotix.umich.edu/5703/5705 for more detail.
UID:134731-21874855@events.umich.edu
URL:https://events.umich.edu/event/134731
CLASS:PUBLIC
STATUS:CONFIRMED
CATEGORIES:Mutotix
LOCATION:GA - Mendelssohn
CONTACT:
END:VEVENT
BEGIN:VEVENT
DTSTAMP:20250209T170958
DTSTART;TZID=America/Detroit:20250412T140000
DTEND;TZID=America/Detroit:20250412T160000
SUMMARY:Performance:Bear Foot!
DESCRIPTION:Lou has no idea what they’re doing at Camp Lockheart. It’s their first time ever at a sleepaway camp\, and they’re worried they might not make any new friends – that is\, until they’re caught up in the schemes of two long-time troublemakers. Unfortunately for Lou’s peace of mind\, Ali and Day are dead set on leaving their mark on Lockheart before they age out at the end of the summer – to prove Bigfoot is real\, and secretly posing as one of their counselors. What could possibly go wrong?
UID:132550-21871234@events.umich.edu
URL:https://events.umich.edu/event/132550
CLASS:PUBLIC
STATUS:CONFIRMED
CATEGORIES:Comedy,Theater,Student Org,LGBT,Inclusion,In Person,Free,Diversity,Art
LOCATION:Lydia Mendelssohn Theatre
CONTACT:
END:VEVENT
BEGIN:VEVENT
DTSTAMP:20250301T181514
DTSTART;TZID=America/Detroit:20250412T140000
DTEND;TZID=America/Detroit:20250412T160000
SUMMARY:Performance:Okyoung Noh: Cross the Flow of Violence
DESCRIPTION:\"Dare to cross the flow of violence—with a broker as your guide.\"\nThis 40-minute interactive performance is led by the artist in the role of a “broker”—a figure who helps the perilous escape from North Korea to China for a price. Brokers play a significant role in guiding North Korean refugees across the Tumen River\, a heavily monitored border where armed guards patrol day and night.\nInspired by the story of Mrs. Kim\, a North Korean refugee who survived underwater while crossing the river\, the artist leads the audience through the exhibition space as if navigating the swirling flow of American imperialist violence in the trans-Pacific. The space becomes a fragmented landscape of memories\, witnesses\, and echoes—demanding that participants move through it with uncertainty\, urgency\, and resolve. \nAs Mrs. Kim once said\, “You either die or survive underwater.”\nTogether\, we submerge into this flow\, fumbling through the death\, pain\, and grit of those who came before us. Will we be able to connect to the flow and emerge on the other side of the land?\nThe performance will be followed by light snacks and a 15-minute Q&amp\;A session.\nRSVP required\; limited to 15 participants.\n \nArtist Bio\nOkyoung Noh is an interdisciplinary artist based in Ann Arbor\, Michigan\, and Seoul\, South Korea. She visualizes and interrogates the impact of American imperialist violence on Asian women across the trans-Pacific. Through performance\, video\, community engagement\, and multimedia installations\, Noh creates spaces where dis/misplaced bodies connect and reclaim power\, place\, and presence. Her work has been exhibited internationally at La MaMa (New York\, NY)\, Wave Pool Gallery (Cincinnati\, OH)\, the Athens Institute for Contemporary Art (Athens\, GA)\, Tribowl (South Korea)\, Hangaram Museum (South Korea)\, CICA Museum (South Korea)\, and Seoul Artist’s Platform_New &amp\; Young (South Korea)\, among others. Her videos have been recognized and featured in the Every Woman Biennial (New York\, NY)\, Indie Short Fest (Los Angeles\, CA)\, the Toronto International Women Film Festival (Canada)\, the Oakland Short Film Festival (Oakland\, CA)\, and the Freep Film Festival (Detroit\, MI)\, among others. Noh has been nominated for artist residencies at the Seoul Museum of Art and MASS MoCA\, where she will be an artist-in-residence in 2025.\nLearn more about the artist: www.oknoh.com
UID:132849-21871955@events.umich.edu
URL:https://events.umich.edu/event/132849
CLASS:PUBLIC
STATUS:CONFIRMED
CATEGORIES:Art
LOCATION:Off Campus Location
CONTACT:
END:VEVENT
BEGIN:VEVENT
DTSTAMP:20250407T093240
DTSTART;TZID=America/Detroit:20250412T140000
DTEND;TZID=America/Detroit:20250412T160000
SUMMARY:Reception / Open House:rEVOLUTION: Healing Through the Arts
DESCRIPTION:The SAPAC Survivor Empowerment and Ally Support (SEAS) program cordially invites you to our 20th annual art show and reception\, rEVOLUTION: Healing Through the Arts. This show aims to promote healing and empowerment through art and engage the community in topics of sexual assault\, intimate partner violence\, sexual and gender-based harassment\, and stalking. There will be a gala-style celebration of survivor healing and of the accomplishments of SAPAC SEAS. This event is open to everyone in the University of Michigan community. \n\nThere will be snacks\, beverages\, and desserts\, and the dress code is semi formal. \n\n\nJoin us Saturday April 12th from 2-4pm\, in the Henderson Room in the League!\n\nPlease RSVP using this form: https://forms.gle/WgEYxpVcDYsDpVV59
UID:134749-21874873@events.umich.edu
URL:https://events.umich.edu/event/134749
CLASS:PUBLIC
STATUS:CONFIRMED
CATEGORIES:Well-being,survivor,student org,Sexual Assault Awareness Month,sapac,free,Food,art
LOCATION:Michigan League - Henderson Room
CONTACT:
END:VEVENT
END:VCALENDAR