BEGIN:VCALENDAR
VERSION:2.0
PRODID:-//UM//UM*Events//EN
CALSCALE:GREGORIAN
BEGIN:VTIMEZONE
TZID:America/Detroit
TZURL:http://tzurl.org/zoneinfo/America/Detroit
X-LIC-LOCATION:America/Detroit
BEGIN:DAYLIGHT
TZOFFSETFROM:-0500
TZOFFSETTO:-0400
TZNAME:EDT
DTSTART:20070311T020000
RRULE:FREQ=YEARLY;BYMONTH=3;BYDAY=2SU
END:DAYLIGHT
BEGIN:STANDARD
TZOFFSETFROM:-0400
TZOFFSETTO:-0500
TZNAME:EST
DTSTART:20071104T020000
RRULE:FREQ=YEARLY;BYMONTH=11;BYDAY=1SU
END:STANDARD
END:VTIMEZONE
BEGIN:VEVENT
DTSTAMP:20250411T181615
DTSTART;TZID=America/Detroit:20250412T150000
DTEND;TZID=America/Detroit:20250412T160000
SUMMARY:Performance:Lauren Kim\, violin
DESCRIPTION:Undergraduate student Lauren Kim performs a recital.
UID:134103-21873863@events.umich.edu
URL:https://events.umich.edu/event/134103
CLASS:PUBLIC
STATUS:CONFIRMED
CATEGORIES:Free,Music,North Campus
LOCATION:Walgreen Drama Center - Stamps Auditorium
CONTACT:
END:VEVENT
BEGIN:VEVENT
DTSTAMP:20250319T181736
DTSTART;TZID=America/Detroit:20250412T150000
DTEND;TZID=America/Detroit:20250412T160000
SUMMARY:Performance:Lucy McDowell\, voice
DESCRIPTION:Undergraduate student Lucy McDowell\, soprano\, performs a senior recital.
UID:134102-21873862@events.umich.edu
URL:https://events.umich.edu/event/134102
CLASS:PUBLIC
STATUS:CONFIRMED
CATEGORIES:Free,Music,North Campus
LOCATION:Earl V. Moore Building - Britton Recital Hall
CONTACT:
END:VEVENT
BEGIN:VEVENT
DTSTAMP:20250319T181737
DTSTART;TZID=America/Detroit:20250412T150000
DTEND;TZID=America/Detroit:20250412T160000
SUMMARY:Performance:Luvyana Marquez\, viola
DESCRIPTION:Undergraduate student Luvyana Marquez performs a final senior recital.
UID:134104-21873864@events.umich.edu
URL:https://events.umich.edu/event/134104
CLASS:PUBLIC
STATUS:CONFIRMED
CATEGORIES:Free,Music,North Campus
LOCATION:Stearns Building - Cady Room
CONTACT:
END:VEVENT
BEGIN:VEVENT
DTSTAMP:20250305T120028
DTSTART;TZID=America/Detroit:20250412T160000
DTEND;TZID=America/Detroit:20250412T190000
SUMMARY:Exercise / Fitness:Hellenic Student Association 3v3 Basketball Tournament
DESCRIPTION:The Hellenic Student Association is proud to present their first annual 3v3 Basketball Tournament! Here are the details of the event:What: 64 team 3v3 basketball tournament (self-officiated games)Who: This event is limited to current U of M studentsWhen: Saturday\, April 12th\, 4-7pmWhere: Sports Coliseum (721 S 5th Ave Ann Arbor\, MI)Prize: Giannis Antetokounmpo shoes for each member of the winning team! Each team is limited to 3 members\, and the price is $45 per team ($15 per member). Teams that sign up on or before Friday\, February 28th save $15 ($30 per team\, $10 per member)! Anyone interested in registering a team can fill out this form: https://forms.gle/tsKwyre2TYHbaPZZ7 We hope to have representation from as many cultural clubs as possible\, and each club is also welcome to have multiple teams. If you have any questions\, please don’t hesitate to reach out to the HSA board at hsa.board@umich.edu. This will be a fun event with friendly competition and we can’t wait to see all of you there!
UID:132341-21870780@events.umich.edu
URL:https://events.umich.edu/event/132341
CLASS:PUBLIC
STATUS:CONFIRMED
CATEGORIES:
LOCATION:Sports Coliseum 
CONTACT:
END:VEVENT
BEGIN:VEVENT
DTSTAMP:20250410T103315
DTSTART;TZID=America/Detroit:20250412T170000
DTEND;TZID=America/Detroit:20250412T190000
SUMMARY:Social / Informal Gathering:DIY Faux Succulents in North Quad
DESCRIPTION:Celebrate spring with a fun and creative night at the Edward Said Multicultural Lounge! Craft fun succulents using art supplies. Bring your creativity and friends—everyone is welcome!
UID:134860-21875486@events.umich.edu
URL:https://events.umich.edu/event/134860
CLASS:PUBLIC
STATUS:CONFIRMED
CATEGORIES:Crafts,Community Engagement
LOCATION:North Quad - Edward Said Multicultural Lounge
CONTACT:
END:VEVENT
BEGIN:VEVENT
DTSTAMP:20250402T121429
DTSTART;TZID=America/Detroit:20250412T170000
DTEND;TZID=America/Detroit:20250412T190000
SUMMARY:Film Screening:Italian Film Festival USA
DESCRIPTION:All films are in Italian with English subtitles FREE ADMISSION!\nAbout the festival:\nThe Italian Film Festival USA is the largest festival dedicated exclusively to contemporary Italian cinema in the United States. It presents new\, feature-length comedies\, dramas\, documentaries and even short and animated films. They all share iconic Italian locations and language that resonate with audiences worldwide\, and offers an opportunity to discover a new wave of young Italian film artists without hopping on a plane.\n\nFor the complete festival schedule visit italianfilmfests.org.\nThe Italian Film Festival USA is presented under the auspices of the Consulate of Italy in Detroit. \n\n*Screenings:*\n\nSaturday\, April 12\, 5:00 pm - Rackham Amphiteatre\n*A Dark Story* (Una storia nera) by Leonardo D’Agostini\nItaly\, 2024 - 100 min.\nin Italian with English subtitles\n\nVito and Carla have been separated for a long time. They have three children together and loved each other desperately before hatred took the place of love. Now Vito has a new life and Carla has a new partner: everyone feels as if tragedy has been averted and destiny is on their side. At least\, until that day--that evening--when Vito disappears without a trace. His disappearance sets in motion an investigation of everyone's past. But\, in cases like this\, does a single\, irrefutable truth really exist?\nFrom the novel of the same title by Antonella Lattanzi\nhttps://youtu.be/WJlzZzSbmn8 \n\n---\n\nSaturday\, April 12\, 7:30 pm - Rackham Amphiteatre\n*My Place Is Here* (Il mio posto è qui) by Cristiano Bortone and Daniela Porto\nItaly\, 2024 - 110 min.\nin Italian with English subtitles\n\nCalabria\, 1940. Marta and Michele are in love. But Michele does not return from the war and Marta\, who became pregnant before he left\, gives birth to little Michelangelo. To save the family's honor\, her father promises her in marriage to Gino\, a man she doesn't love\, an older widower with two children.\nDuring the preparations\, Marta meets Lorenzo\, the parish priest's assistant\, known in the village as \"the wedding man\,” for his refined taste used to help brides plan their big day. Despite initial reticence\, a deep friendship soon develops between the two\, and Marta begins to imagine a different world in which she can live with freedom and dignity.\nFrom the novel of the same title by Daniela Porto.\nhttps://youtu.be/5a5ZG2G3igM\n\n—\n\nSunday\, April 13\, 4:00 pm - Rackham Amphiteatre\n*Liliana* by Ruggero Gabbai\nItaly\, 2024 - 97 min.\nin Italian with English subtitles\n\nLiliana is a documentary that gathers Senator-for-life Liliana Segre's testimony of her arrest\, deportation\, and poignant final farewell to her father. The film is built around the juxtapositions\, cross-references\, and contrasts between the historical record and a contemporary portrait of one of the most important women on the Italian scene. It highlights lesser-known aspects of the Senator\, revealing a modern cultural and political figure who is passionate about conveying a message of freedom and equality to the younger generations.\nhttps://youtu.be/h1CAhnFDR0I\n\n—\n\nSPECIAL SCREENING PRESENTED BY THE CONSULATE OF ITALY IN DETROIT AND THE DANTE ALIGHIERI SOCIETY OF MICHIGAN\, AS PART OF LOVEITDETROIT\nSunday\, April 13\, 6:00 PM – Rackham Amphitheatre\n*Cabrini* by Alejandro Gómez Monteverde\nUSA\, 2024 – 142 min.\nIn English and Italian with English subtitles\n\nThe screening will be preceded by a Q&A with Cristiana Dell’Anna\, who portrays Mother Cabrini in the film. The Q&A will start promptly at 6:00 PM and space is limited. Seating cannot be guaranteed as it is on a first come first serve basis.\n\nArriving in New York City in 1889\, Italian immigrant Francesca Cabrini is met with disease\, crime\, and impoverished children. Undeterred\, she embarks on a bold mission to persuade the mayor to provide housing and health care for society’s most vulnerable. Despite language barriers and fragile health\, Cabrini’s entrepreneurial spirit drives her to build an unprecedented empire of hope that changes the world.
UID:134269-21874069@events.umich.edu
URL:https://events.umich.edu/event/134269
CLASS:PUBLIC
STATUS:CONFIRMED
CATEGORIES:Language,Community,Culture,Romance Languages And Literatures,italian,Free,film screening,film
LOCATION:Rackham Graduate School (Horace H.) - Amphitheatre
CONTACT:
END:VEVENT
END:VCALENDAR