BEGIN:VCALENDAR
VERSION:2.0
PRODID:-//UM//UM*Events//EN
CALSCALE:GREGORIAN
BEGIN:VTIMEZONE
TZID:America/Detroit
TZURL:http://tzurl.org/zoneinfo/America/Detroit
X-LIC-LOCATION:America/Detroit
BEGIN:DAYLIGHT
TZOFFSETFROM:-0500
TZOFFSETTO:-0400
TZNAME:EDT
DTSTART:20070311T020000
RRULE:FREQ=YEARLY;BYMONTH=3;BYDAY=2SU
END:DAYLIGHT
BEGIN:STANDARD
TZOFFSETFROM:-0400
TZOFFSETTO:-0500
TZNAME:EST
DTSTART:20071104T020000
RRULE:FREQ=YEARLY;BYMONTH=11;BYDAY=1SU
END:STANDARD
END:VTIMEZONE
BEGIN:VEVENT
DTSTAMP:20250412T181525
DTSTART;TZID=America/Detroit:20250412T170000
DTEND;TZID=America/Detroit:20250322T010000
SUMMARY:Sporting Event:Softball vs Rutgers
DESCRIPTION:Softball vs Rutgers
UID:134238-21874041@events.umich.edu
URL:https://events.umich.edu/event/134238
CLASS:PUBLIC
STATUS:CONFIRMED
CATEGORIES:Athletics,Athletics - Softball
LOCATION:Alumni Field
CONTACT:
END:VEVENT
BEGIN:VEVENT
DTSTAMP:20250319T181739
DTSTART;TZID=America/Detroit:20250412T173000
DTEND;TZID=America/Detroit:20250412T183000
SUMMARY:Performance:Alice Askren\, voice
DESCRIPTION:Undergraduate student Alice Askren performs a recital.
UID:134107-21873867@events.umich.edu
URL:https://events.umich.edu/event/134107
CLASS:PUBLIC
STATUS:CONFIRMED
CATEGORIES:Free,Music,North Campus
LOCATION:Stearns Building - Cady Room
CONTACT:
END:VEVENT
BEGIN:VEVENT
DTSTAMP:20250401T181709
DTSTART;TZID=America/Detroit:20250412T173000
DTEND;TZID=America/Detroit:20250412T183000
SUMMARY:Performance:Jacqueline Groves\, clarinet
DESCRIPTION:Undergraduate student Jacqueline Groves performs a senior recital.
UID:134105-21873865@events.umich.edu
URL:https://events.umich.edu/event/134105
CLASS:PUBLIC
STATUS:CONFIRMED
CATEGORIES:Free,Music,North Campus
LOCATION:Earl V. Moore Building - Britton Recital Hall
CONTACT:
END:VEVENT
BEGIN:VEVENT
DTSTAMP:20250407T181644
DTSTART;TZID=America/Detroit:20250412T173000
DTEND;TZID=America/Detroit:20250412T183000
SUMMARY:Performance:Noah Stoker\, saxophone
DESCRIPTION:Graduate student Noah Stoker performs a master's degree recital.
UID:134106-21873866@events.umich.edu
URL:https://events.umich.edu/event/134106
CLASS:PUBLIC
STATUS:CONFIRMED
CATEGORIES:Free,Music,North Campus
LOCATION:Walgreen Drama Center - Stamps Auditorium
CONTACT:
END:VEVENT
BEGIN:VEVENT
DTSTAMP:20250227T184858
DTSTART;TZID=America/Detroit:20250412T180000
DTEND;TZID=America/Detroit:20250412T183000
SUMMARY:Other:Laser Queen
DESCRIPTION:Laser shows are coming to the UMMNH Planetarium & Dome Theater!\n\nFrom Feb. 28 through Apr. 26\, we will be featuring the biggest and best-loved hits of rock legends Queen on Friday and Saturday evenings. We will offer three shows each night at 6:00\, 7:00\, and 8:00 p.m. Seating is limited and reservations will be fulfilled on a first come\, first served basis.\n\nTickets are $10 per person and can be purchased at the door.\n\nTo book tickets in advance\, call: 734-764-0478\, Tuesday–Thursday 10am–3pm
UID:132146-21870407@events.umich.edu
URL:https://events.umich.edu/event/132146
CLASS:PUBLIC
STATUS:CONFIRMED
CATEGORIES:Music
LOCATION:Museum of Natural History - Planetarium &amp; Dome Theater
CONTACT:
END:VEVENT
BEGIN:VEVENT
DTSTAMP:20250305T120017
DTSTART;TZID=America/Detroit:20250412T180000
DTEND;TZID=America/Detroit:20250412T190000
SUMMARY:Exercise / Fitness:Star Wars Padawan Training
DESCRIPTION:Join us to learn some lightsaber choreography\, play fight\, and practice your saber swings at the Union. Bring a lightsaber if you have one\, if not we have extra to borrow!!
UID:130803-21866899@events.umich.edu
URL:https://events.umich.edu/event/130803
CLASS:PUBLIC
STATUS:CONFIRMED
CATEGORIES:
LOCATION:Kuenzel Room -- Union 1st Floor 
CONTACT:
END:VEVENT
END:VCALENDAR