BEGIN:VCALENDAR
VERSION:2.0
PRODID:-//UM//UM*Events//EN
CALSCALE:GREGORIAN
BEGIN:VTIMEZONE
TZID:America/Detroit
TZURL:http://tzurl.org/zoneinfo/America/Detroit
X-LIC-LOCATION:America/Detroit
BEGIN:DAYLIGHT
TZOFFSETFROM:-0500
TZOFFSETTO:-0400
TZNAME:EDT
DTSTART:20070311T020000
RRULE:FREQ=YEARLY;BYMONTH=3;BYDAY=2SU
END:DAYLIGHT
BEGIN:STANDARD
TZOFFSETFROM:-0400
TZOFFSETTO:-0500
TZNAME:EST
DTSTART:20071104T020000
RRULE:FREQ=YEARLY;BYMONTH=11;BYDAY=1SU
END:STANDARD
END:VTIMEZONE
BEGIN:VEVENT
DTSTAMP:20250402T121429
DTSTART;TZID=America/Detroit:20250412T193000
DTEND;TZID=America/Detroit:20250412T210000
SUMMARY:Film Screening:Italian Film Festival USA
DESCRIPTION:All films are in Italian with English subtitles FREE ADMISSION!\nAbout the festival:\nThe Italian Film Festival USA is the largest festival dedicated exclusively to contemporary Italian cinema in the United States. It presents new\, feature-length comedies\, dramas\, documentaries and even short and animated films. They all share iconic Italian locations and language that resonate with audiences worldwide\, and offers an opportunity to discover a new wave of young Italian film artists without hopping on a plane.\n\nFor the complete festival schedule visit italianfilmfests.org.\nThe Italian Film Festival USA is presented under the auspices of the Consulate of Italy in Detroit. \n\n*Screenings:*\n\nSaturday\, April 12\, 5:00 pm - Rackham Amphiteatre\n*A Dark Story* (Una storia nera) by Leonardo D’Agostini\nItaly\, 2024 - 100 min.\nin Italian with English subtitles\n\nVito and Carla have been separated for a long time. They have three children together and loved each other desperately before hatred took the place of love. Now Vito has a new life and Carla has a new partner: everyone feels as if tragedy has been averted and destiny is on their side. At least\, until that day--that evening--when Vito disappears without a trace. His disappearance sets in motion an investigation of everyone's past. But\, in cases like this\, does a single\, irrefutable truth really exist?\nFrom the novel of the same title by Antonella Lattanzi\nhttps://youtu.be/WJlzZzSbmn8 \n\n---\n\nSaturday\, April 12\, 7:30 pm - Rackham Amphiteatre\n*My Place Is Here* (Il mio posto è qui) by Cristiano Bortone and Daniela Porto\nItaly\, 2024 - 110 min.\nin Italian with English subtitles\n\nCalabria\, 1940. Marta and Michele are in love. But Michele does not return from the war and Marta\, who became pregnant before he left\, gives birth to little Michelangelo. To save the family's honor\, her father promises her in marriage to Gino\, a man she doesn't love\, an older widower with two children.\nDuring the preparations\, Marta meets Lorenzo\, the parish priest's assistant\, known in the village as \"the wedding man\,” for his refined taste used to help brides plan their big day. Despite initial reticence\, a deep friendship soon develops between the two\, and Marta begins to imagine a different world in which she can live with freedom and dignity.\nFrom the novel of the same title by Daniela Porto.\nhttps://youtu.be/5a5ZG2G3igM\n\n—\n\nSunday\, April 13\, 4:00 pm - Rackham Amphiteatre\n*Liliana* by Ruggero Gabbai\nItaly\, 2024 - 97 min.\nin Italian with English subtitles\n\nLiliana is a documentary that gathers Senator-for-life Liliana Segre's testimony of her arrest\, deportation\, and poignant final farewell to her father. The film is built around the juxtapositions\, cross-references\, and contrasts between the historical record and a contemporary portrait of one of the most important women on the Italian scene. It highlights lesser-known aspects of the Senator\, revealing a modern cultural and political figure who is passionate about conveying a message of freedom and equality to the younger generations.\nhttps://youtu.be/h1CAhnFDR0I\n\n—\n\nSPECIAL SCREENING PRESENTED BY THE CONSULATE OF ITALY IN DETROIT AND THE DANTE ALIGHIERI SOCIETY OF MICHIGAN\, AS PART OF LOVEITDETROIT\nSunday\, April 13\, 6:00 PM – Rackham Amphitheatre\n*Cabrini* by Alejandro Gómez Monteverde\nUSA\, 2024 – 142 min.\nIn English and Italian with English subtitles\n\nThe screening will be preceded by a Q&A with Cristiana Dell’Anna\, who portrays Mother Cabrini in the film. The Q&A will start promptly at 6:00 PM and space is limited. Seating cannot be guaranteed as it is on a first come first serve basis.\n\nArriving in New York City in 1889\, Italian immigrant Francesca Cabrini is met with disease\, crime\, and impoverished children. Undeterred\, she embarks on a bold mission to persuade the mayor to provide housing and health care for society’s most vulnerable. Despite language barriers and fragile health\, Cabrini’s entrepreneurial spirit drives her to build an unprecedented empire of hope that changes the world.
UID:134269-21874070@events.umich.edu
URL:https://events.umich.edu/event/134269
CLASS:PUBLIC
STATUS:CONFIRMED
CATEGORIES:film,Romance Languages And Literatures,Language,italian,Free,film screening,Culture,Community
LOCATION:Rackham Graduate School (Horace H.) - Amphitheatre
CONTACT:
END:VEVENT
BEGIN:VEVENT
DTSTAMP:20250407T181646
DTSTART;TZID=America/Detroit:20250412T193000
DTEND;TZID=America/Detroit:20250412T203000
SUMMARY:Performance:Lamenting Darkness: The Lamentations of the Prophet Jeremiah
DESCRIPTION:Composed for performances during Holy Week in 1714\, François Couperin's *Leçons de Ténèbres* (\"Tenebrae Readings\,\" or \"Lessons of Darkness\") profoundly set to music the ancient text of the Lamentations of the Prophet Jeremiah. Featuring two sopranos\, viola da gamba\, and keyboard\, this sacred vocal chamber music is unequalled in elegance\, passion\, contrition\, and pure sonic pleasure.\n\nPresented by the Department of Organ\, and featuring SMTD student performers:\nAngela Bonello\, soprano\nMarisa Redding\, soprano\nYoungeun Lee\, viola da gamba\nT. Logan Rees\, organ and harpsichord
UID:134759-21874974@events.umich.edu
URL:https://events.umich.edu/event/134759
CLASS:PUBLIC
STATUS:CONFIRMED
CATEGORIES:Free,Music
LOCATION:Off Campus Location
CONTACT:
END:VEVENT
BEGIN:VEVENT
DTSTAMP:20250123T102622
DTSTART;TZID=America/Detroit:20250412T200000
SUMMARY:Performance:Afro Dominicano
DESCRIPTION:Afro Dominicano is a World Music band that centers its music on what they call Afro Caribbean soul. They blend traditional folkloric genres from the Dominican Republic such as Perico Ripiao\, Palo\, Merengue de Orquesta\, Bachata with Reggae\, Bembe\, Calypso\, and Samba\, Funk\, Rock\, and other African rhythms. They have completely impacted the performance art industry by breaking the barrier of the musical genre\; seamlessly entering and exiting them with grace and expertise. Afro Dominicano is not just a band but a social movement\, they believe in uniting individuals from all around the world through their music. This can be experienced during their live performances\, where race and ethnicity disappear because despite all our differences we all have something in common\; our love for music\, and that unites us.
UID:131634-21868856@events.umich.edu
URL:https://events.umich.edu/event/131634
CLASS:PUBLIC
STATUS:CONFIRMED
CATEGORIES:Ark,Mutotix
LOCATION:ARK Reserved
CONTACT:
END:VEVENT
BEGIN:VEVENT
DTSTAMP:20250331T181702
DTSTART;TZID=America/Detroit:20250412T200000
DTEND;TZID=America/Detroit:20250412T213000
SUMMARY:Performance:Aidan Krieger\, violin
DESCRIPTION:Undergraduate student Aidan Krieger performs a senior recital.
UID:134108-21873868@events.umich.edu
URL:https://events.umich.edu/event/134108
CLASS:PUBLIC
STATUS:CONFIRMED
CATEGORIES:Music,Free,North Campus
LOCATION:Walgreen Drama Center - Stamps Auditorium
CONTACT:
END:VEVENT
BEGIN:VEVENT
DTSTAMP:20250403T181643
DTSTART;TZID=America/Detroit:20250412T200000
DTEND;TZID=America/Detroit:20250412T210000
SUMMARY:Performance:Electronic Chamber Music
DESCRIPTION:A concert of original electronic dance music inspired by Detroit Techno\, composed by students and performed live on electronic and acoustic instruments.\n\nMichael Gurevich\, director\nPresented by the Department of Performing Arts Technology\n\n*Please note\, this venue has a limited capacity\; seats are available to event attendees on a first-come\, first-served basis.* - Doors open at 7:45 pm.\n\nTRACKLIST\n01 Wet Spaceship\n02 Möcröwöve\n03 Frögmöde\n04 Natalia's Piece\n05 Amapi-Techno\n06 Planetary\n07 WAY BACK JAM
UID:134689-21874716@events.umich.edu
URL:https://events.umich.edu/event/134689
CLASS:PUBLIC
STATUS:CONFIRMED
CATEGORIES:Concert,North Campus,Music,Free
LOCATION:Earl V. Moore Building - Chip Davis Technology Studio
CONTACT:
END:VEVENT
BEGIN:VEVENT
DTSTAMP:20250411T121616
DTSTART;TZID=America/Detroit:20250412T200000
DTEND;TZID=America/Detroit:20250412T213000
SUMMARY:Performance:Jiyeon Lee\, piano
DESCRIPTION:Graduate student Jiyeon Lee performs in a chamber music recital.
UID:134846-21875342@events.umich.edu
URL:https://events.umich.edu/event/134846
CLASS:PUBLIC
STATUS:CONFIRMED
CATEGORIES:Free,Music,North Campus
LOCATION:Stearns Building - Cady Room
CONTACT:
END:VEVENT
END:VCALENDAR