BEGIN:VCALENDAR
VERSION:2.0
PRODID:-//UM//UM*Events//EN
CALSCALE:GREGORIAN
BEGIN:VTIMEZONE
TZID:America/Detroit
TZURL:http://tzurl.org/zoneinfo/America/Detroit
X-LIC-LOCATION:America/Detroit
BEGIN:DAYLIGHT
TZOFFSETFROM:-0500
TZOFFSETTO:-0400
TZNAME:EDT
DTSTART:20070311T020000
RRULE:FREQ=YEARLY;BYMONTH=3;BYDAY=2SU
END:DAYLIGHT
BEGIN:STANDARD
TZOFFSETFROM:-0400
TZOFFSETTO:-0500
TZNAME:EST
DTSTART:20071104T020000
RRULE:FREQ=YEARLY;BYMONTH=11;BYDAY=1SU
END:STANDARD
END:VTIMEZONE
BEGIN:VEVENT
DTSTAMP:20250227T184858
DTSTART;TZID=America/Detroit:20250412T200000
DTEND;TZID=America/Detroit:20250412T203000
SUMMARY:Other:Laser Queen
DESCRIPTION:Laser shows are coming to the UMMNH Planetarium & Dome Theater!\n\nFrom Feb. 28 through Apr. 26\, we will be featuring the biggest and best-loved hits of rock legends Queen on Friday and Saturday evenings. We will offer three shows each night at 6:00\, 7:00\, and 8:00 p.m. Seating is limited and reservations will be fulfilled on a first come\, first served basis.\n\nTickets are $10 per person and can be purchased at the door.\n\nTo book tickets in advance\, call: 734-764-0478\, Tuesday–Thursday 10am–3pm
UID:132146-21870443@events.umich.edu
URL:https://events.umich.edu/event/132146
CLASS:PUBLIC
STATUS:CONFIRMED
CATEGORIES:Music
LOCATION:Museum of Natural History - Planetarium &amp; Dome Theater
CONTACT:
END:VEVENT
BEGIN:VEVENT
DTSTAMP:20250408T181633
DTSTART;TZID=America/Detroit:20250412T200000
DTEND;TZID=America/Detroit:20250412T220000
SUMMARY:Performance:Men's Glee Club Spring Concert
DESCRIPTION:The fan-favorite student organization continues years of tradition with their annual spring concert. \n\nDr. Michael Mitchell joins as a visiting professor for this semester\, and will direct the Men’s Glee Club. Mitchell is a professor of music at Oakland University\, where he serves as director of choral activities and conducts the Oakland Chorale\, the University Chorus\, and the Symphony Chorus.\n\n*Not available as part of the Flex Series package.* \n\nRecommended Ages: 3+
UID:122811-21849668@events.umich.edu
URL:https://events.umich.edu/event/122811
CLASS:PUBLIC
STATUS:CONFIRMED
CATEGORIES:Music,Concert
LOCATION:Hill Auditorium
CONTACT:
END:VEVENT
BEGIN:VEVENT
DTSTAMP:20250403T121701
DTSTART;TZID=America/Detroit:20250412T200000
DTEND;TZID=America/Detroit:20250412T220000
SUMMARY:Performance:Our Oz
DESCRIPTION:A re-imagination of *The Wizard of Oz* viewed through a BIPOC and queer lens\, Our Oz is an entirely new work being presented on stage for the first time. Professors José Casas (head of the playwriting minor in the Department of Theatre & Drama) and Jake Hooker (head of drama at the Residential College) have led an ensemble of students from SMTD and the Residential College in exploring and experimenting with the tropes and images of multiple renditions from the Land of Oz as originally conceived by L. Frank Baum. The resulting work is fresh\, insightful\, and reflective of the times we live in.\n\nDiscount of 10% off ticket price when you purchase 4 or more student tickets.\n \nRecommended Ages: 13+
UID:122789-21849643@events.umich.edu
URL:https://events.umich.edu/event/122789
CLASS:PUBLIC
STATUS:CONFIRMED
CATEGORIES:LGBT,Theater,Storytelling,Social Impact,North Campus
LOCATION:Walgreen Drama Center - Arthur Miller Theatre
CONTACT:
END:VEVENT
BEGIN:VEVENT
DTSTAMP:20250412T181039
DTSTART;TZID=America/Detroit:20250412T200000
SUMMARY:Performance:SSW Spring Gala
DESCRIPTION:No description is provided. \nPlease visit https://mutotix.umich.edu/5613/5614 for more detail.
UID:134014-21873790@events.umich.edu
URL:https://events.umich.edu/event/134014
CLASS:PUBLIC
STATUS:CONFIRMED
CATEGORIES:Mutotix
LOCATION:GA - Pendelton Room
CONTACT:
END:VEVENT
BEGIN:VEVENT
DTSTAMP:20250403T121702
DTSTART;TZID=America/Detroit:20250412T210000
DTEND;TZID=America/Detroit:20250412T220000
SUMMARY:Performance:Steve Wilson with U-M Jazz Faculty at Blue LLama Jazz Club
DESCRIPTION:The Department of Jazz at the University of Michigan School of Music\, Theatre & Dance in partnership with the Blue LLama Jazz Club presents saxophonist Steve Wilson in performance with Jazz faculty Andy Milne\, Robert Hurst\, Nate Winn and Kris Johnson. \n\nSteve Wilson has attained ubiquitous status in the studio and on the stage with the greatest names in jazz. A bandleader in his own right\, *Jazz Times* calls him “the consummate saxophonist-composer and “one of the finest alto and soprano saxophonists of our time.” A musician’s musician\, Wilson has brought his distinctive sound to more than 100 recordings led by such celebrated and wide-ranging artists as Chick Corea\, George Duke\, Michael Brecker\, Dave Holland\, Dianne Reeves\, Bill Bruford\, Gerald Wilson\, Maria Schneider\, Joe Henderson\, Charlie Byrd\, Billy Childs\, Karrin Allyson\, Don Byron\, Bill Stewart\, James Williams\, and Mulgrew Miller among many others. Wilson has eight recordings under his own name\, leading and collaborating with such stellar musicians as Lewis Nash\, Carl Allen\, Steve Nelson\, Cyrus Chestnut\, Greg Hutchinson\, Dennis Irwin\, James Genus\, Larry Grenadier\, Ray Drummond\, Ben Riley\, Nicholas Payton\, Orrin Evans\, Ugonna Okegwo and Bill Stewart.\n\nThis performance is presented in collaboration with the SMTD Department of Jazz & Contemporary Improvisation.\n\n*Cover charge required for admission. Show times at 6:30 and 9:00 pm.*
UID:134418-21874336@events.umich.edu
URL:https://events.umich.edu/event/134418
CLASS:PUBLIC
STATUS:CONFIRMED
CATEGORIES:Faculty,Music
LOCATION:Off Campus Location
CONTACT:
END:VEVENT
BEGIN:VEVENT
DTSTAMP:20250305T120026
DTSTART;TZID=America/Detroit:20250413T000000
DTEND;TZID=America/Detroit:20250413T235959
SUMMARY:Other:Charleston Race Week
DESCRIPTION:Regatta
UID:132035-21869831@events.umich.edu
URL:https://events.umich.edu/event/132035
CLASS:PUBLIC
STATUS:CONFIRMED
CATEGORIES:
LOCATION:Patriots Point
CONTACT:
END:VEVENT
END:VCALENDAR