BEGIN:VCALENDAR
VERSION:2.0
PRODID:-//UM//UM*Events//EN
CALSCALE:GREGORIAN
BEGIN:VTIMEZONE
TZID:America/Detroit
TZURL:http://tzurl.org/zoneinfo/America/Detroit
X-LIC-LOCATION:America/Detroit
BEGIN:DAYLIGHT
TZOFFSETFROM:-0500
TZOFFSETTO:-0400
TZNAME:EDT
DTSTART:20070311T020000
RRULE:FREQ=YEARLY;BYMONTH=3;BYDAY=2SU
END:DAYLIGHT
BEGIN:STANDARD
TZOFFSETFROM:-0400
TZOFFSETTO:-0500
TZNAME:EST
DTSTART:20071104T020000
RRULE:FREQ=YEARLY;BYMONTH=11;BYDAY=1SU
END:STANDARD
END:VTIMEZONE
BEGIN:VEVENT
DTSTAMP:20250327T120137
DTSTART;TZID=America/Detroit:20250409T120000
DTEND;TZID=America/Detroit:20250409T130000
SUMMARY:Social / Informal Gathering:IOE faculty-student lunch with Assistant Professor Amelia Warden
DESCRIPTION:Space is limited\, so please only sign up for this event if you are sure you will be able to attend. Spots for this lunch will be filled on a first come\, first served basis\, and a waitlist will be formed after all spots have been filled. If you get a spot\, a calendar invite will be sent to you. Please respond to the invite accordingly so we can ensure that we fill all lunch spots.\n\nLunch will be provided\; please select your lunch option in the form. If you have any questions\, please email Blake and Nolan (IOE-SLB-President@umich.edu).
UID:134427-21874345@events.umich.edu
URL:https://events.umich.edu/event/134427
CLASS:PUBLIC
STATUS:CONFIRMED
CATEGORIES:Graduate,Graduate Students,Industrial And Operations Engineering,Undergraduate,Undergraduate Students
LOCATION:Industrial and Operations Engineering Building - 1650
CONTACT:
END:VEVENT
BEGIN:VEVENT
DTSTAMP:20241210T132616
DTSTART;TZID=America/Detroit:20250409T120000
DTEND;TZID=America/Detroit:20250409T124500
SUMMARY:Well-being:Lunchtime Yoga
DESCRIPTION:Lunchtime yoga is an opportunity to provide your body with some gentle movement\, strengthening\, stretching and balancing.  We will use the poses (asanas) to reconnect with your senses\, to breathe some life back into ourselves\, find internal balance and to recover from the   efforts of the work week.  The focus is on calm reconnection with ourselves rather than working out.  Please bring a mat and a water bottle.  This class will be held at the School of Kinesiology on the 4th floor in room 4099.  This class will be held each Wednesday from March 12 through April 16.
UID:129888-21864746@events.umich.edu
URL:https://events.umich.edu/event/129888
CLASS:PUBLIC
STATUS:CONFIRMED
CATEGORIES:Health & Wellness,yoga
LOCATION:School of Kinesiology Building - 4099
CONTACT:
END:VEVENT
BEGIN:VEVENT
DTSTAMP:20250321T181718
DTSTART;TZID=America/Detroit:20250409T120000
DTEND;TZID=America/Detroit:20250409T123000
SUMMARY:Performance:Meghan Wysocki\, carillon
DESCRIPTION:Meghan Wysocki performs on the Charles Baird Carillon\, an instrument of 53 bronze bells located inside the Burton Memorial Tower. The largest bell\, which strikes the hour\, weighs 12 tons\, while the smallest bell\, 4½ octaves above\, weighs just 15 pounds.\n\nThirty-minute recitals are performed on the Charles Baird Carillon at noon every weekday that classes are in session\, followed by visitor Q&A with the carillonist. The bell chamber may be accessed via a combination of elevator and stairs. Take the elevator to the highest floor possible (floor 8)\, and then climb two flights of stairs (39 steps) to the bell chamber (floor 10). Hearing protection earmuffs are provided for visitors. Be prepared to walk on ice and snow in the bell chamber during winter. Built in 1936\, the Charles Baird Carillon is not ADA accessible. Visitors with mobility concerns are invited to visit the Lurie Carillon.
UID:132406-21870890@events.umich.edu
URL:https://events.umich.edu/event/132406
CLASS:PUBLIC
STATUS:CONFIRMED
CATEGORIES:Free,Music,Talk
LOCATION:Burton Memorial Tower
CONTACT:
END:VEVENT
BEGIN:VEVENT
DTSTAMP:20250402T121506
DTSTART;TZID=America/Detroit:20250409T120000
DTEND;TZID=America/Detroit:20250409T170000
SUMMARY:Exhibition:Warped Routes: 2025 MFA First Year Exhibition
DESCRIPTION:This annual celebration of the work of Stamps MFA in Art candidates features work by first-year students:\nMichelle CieloszczykMike MartinRiver BerryMichael King\, Jr.Fiona HofferZoë Dong\nThe 2025 MFA First Year Exhibition takes place March 28 - April 19 at the Stamps Graduate/Faculty Studios\, 1919 Green Rd\, Ann Arbor\, MI 48109.\nJoin us at the public exhibition reception on Friday\, March 28 from 6-8pm (no RSVP required).\nViewings March 29-April 19 are available by appointment only\; please contact Michael King\, Jr. to arrange a visit.
UID:134133-21873912@events.umich.edu
URL:https://events.umich.edu/event/134133
CLASS:PUBLIC
STATUS:CONFIRMED
CATEGORIES:Art
LOCATION:Off Campus Location
CONTACT:
END:VEVENT
BEGIN:VEVENT
DTSTAMP:20250120T151032
DTSTART;TZID=America/Detroit:20250409T130000
DTEND;TZID=America/Detroit:20250409T150000
SUMMARY:Well-being:\"Let's Talk\": Informal\, Drop-In Mental Health Counseling
DESCRIPTION:Trained mental health counselors are now available for drop-in conversations at different times and locations across campus\, including at Trotter\, the Spectrum Center\, South Quad\, the International Center\, and Bursley.\n\nThis informal\, confidential “office hours” style can be a great fit for students unsure about formal counseling\; for those with a specific\, time-limited concern they’d like to talk through\; or those seeking information on campus resources. Please note: this is not meant for crisis or emergency support.\n\n\"Let's Talk\" will run from January 20th 2025 to April 25th 2025. There will be no drop-ins the week of Spring Break (March 3rd - 7th). \n\nMonday: 11:00 am - 1:00 pm with Markie Silverman\, Ph.D.\, LP\, Room 2035 in Trotter Multicultural Center\nTuesday: 1:00 pm - 3:00 pm with Marcella A. Beaumont\, Ph.D.\, Room 3032 in The Spectrum Center (Michigan Union)\nWednesday: 1:00 pm - 3:00 pm with Emily Malinowski\, LMSW\, Room 1721A in South Quad Housing\nThursday: 2:00 pm - 4:00 pm with Ling Liu\, Ph.D. & Chunyu Xu\, M.Ed.\, M.S.Ed.\, Conference Room in the International Center\nFriday: 10:00 am - 12:00 pm with Kayla Douglas\, LMSW\, and Emily Powers\, LLMSW\, Room 2329B in Bursley Housing
UID:131469-21868546@events.umich.edu
URL:https://events.umich.edu/event/131469
CLASS:PUBLIC
STATUS:CONFIRMED
CATEGORIES:Accessible,Casual,Confidential,Drop-in,free,Health & Wellness,health and wellness,health communication,Inclusion,mental health,Mindfulness,relationship,relationships,Undergraduate,Undergraduate Students,university health service,Well-being
LOCATION:South Quad - 1721A
CONTACT:
END:VEVENT
BEGIN:VEVENT
DTSTAMP:20250403T181530
DTSTART;TZID=America/Detroit:20250409T130000
DTEND;TZID=America/Detroit:20250409T143000
SUMMARY:Workshop / Seminar:8-BIT Music Exhibit: The Workshop
DESCRIPTION:MORE INFO: https://sites.lsa.umich.edu/8bitmusic/\nRSVP is required. RSVP HERE: https://sessions.studentlife.umich.edu/track/event/session/92827\n\nIN THE WORKSHOP\, participants will learn how modern chiptune artists create music from Game Boys and the production software LSDJ\, and have the opportunity to create music of their own design. This is one featured event of the larger 8-Bit Music Exhibit.\n\nThe 8-Bit Music Exhibit is a week-long exploration of the creation of the nostalgic\, retro tunes many have grown up with and come to love\, as well as a showcase of how such music has been reclaimed and repurposed for continued existence in the modern world. \n\nOur goal in developing this exhibit is to highlight 8-bit/chiptune music as a unique form of digital art celebrated for its sound\, cultural significance\, and innovation. Throughout the lifespans of the original hardware supporting this music\, artists often faced limitations due to hardware constraints. These difficulties led to early video game industry composers inventing new techniques and methods for music creation that have evolved over time and remain influential today.\n\nTHANK YOU to our co-sponsors and partners for your support in the creation of this event!\n-> U-M LSA Technology Services Digital Scholarship (https://lsa.umich.edu/technology-services/services/research-tools/digital-scholarship.html)\n-> U-M Digital Studies Institute (https://www.digitalstudies.umich.edu/)\n-> U-M Arts Initiative (https://arts.umich.edu/arts-initiative)\n-> Neutral Zone (https://www.neutral-zone.org/event-list/2025/4/11/free-tech-workshop-chiptune-8-bit)\n-> Ann Arbor District Libraries (https://aadl.org/)\n-> Ypsilanti District Libraries (https://www.ypsilibrary.org/)\n-> Pinball Pete's in Ann Arbor (https://www.pinballpetes.org/copy-of-east-lansing-location)\n-> Video Game Music Club (VGMC) (https://maizepages.umich.edu/organization/vgmc)\n-> WolvSec (https://wolvsec.org/)\n-> LGBTQ+ Michigan (https://websites.umich.edu/~lgbtqmichigan/#)\n-> Ann Arbor Fighting Game Community at the University of Michigan (FGC) (https://maizepages.umich.edu/organization/a2fgc)
UID:134669-21874696@events.umich.edu
URL:https://events.umich.edu/event/134669
CLASS:PUBLIC
STATUS:CONFIRMED
CATEGORIES:Digital Culture,Digital Media,Exhibition,Free,In Person,Music,Video Games,Workshop
LOCATION:Hatcher Graduate Library - Hatcher Gallery
CONTACT:
END:VEVENT
END:VCALENDAR