BEGIN:VCALENDAR
VERSION:2.0
PRODID:-//UM//UM*Events//EN
CALSCALE:GREGORIAN
BEGIN:VTIMEZONE
TZID:America/Detroit
TZURL:http://tzurl.org/zoneinfo/America/Detroit
X-LIC-LOCATION:America/Detroit
BEGIN:DAYLIGHT
TZOFFSETFROM:-0500
TZOFFSETTO:-0400
TZNAME:EDT
DTSTART:20070311T020000
RRULE:FREQ=YEARLY;BYMONTH=3;BYDAY=2SU
END:DAYLIGHT
BEGIN:STANDARD
TZOFFSETFROM:-0400
TZOFFSETTO:-0500
TZNAME:EST
DTSTART:20071104T020000
RRULE:FREQ=YEARLY;BYMONTH=11;BYDAY=1SU
END:STANDARD
END:VTIMEZONE
BEGIN:VEVENT
DTSTAMP:20250304T131641
DTSTART;TZID=America/Detroit:20250413T120000
DTEND;TZID=America/Detroit:20250413T133000
SUMMARY:Performance:Trumpet Studio Recital
DESCRIPTION:Trumpet students of Professor Robert Sullivan perform a recital.
UID:133403-21873077@events.umich.edu
URL:https://events.umich.edu/event/133403
CLASS:PUBLIC
STATUS:CONFIRMED
CATEGORIES:Free,Music,North Campus
LOCATION:Walgreen Drama Center - Stamps Auditorium
CONTACT:
END:VEVENT
BEGIN:VEVENT
DTSTAMP:20250402T121506
DTSTART;TZID=America/Detroit:20250413T120000
DTEND;TZID=America/Detroit:20250413T170000
SUMMARY:Exhibition:Warped Routes: 2025 MFA First Year Exhibition
DESCRIPTION:This annual celebration of the work of Stamps MFA in Art candidates features work by first-year students:\nMichelle CieloszczykMike MartinRiver BerryMichael King\, Jr.Fiona HofferZoë Dong\nThe 2025 MFA First Year Exhibition takes place March 28 - April 19 at the Stamps Graduate/Faculty Studios\, 1919 Green Rd\, Ann Arbor\, MI 48109.\nJoin us at the public exhibition reception on Friday\, March 28 from 6-8pm (no RSVP required).\nViewings March 29-April 19 are available by appointment only\; please contact Michael King\, Jr. to arrange a visit.
UID:134133-21873916@events.umich.edu
URL:https://events.umich.edu/event/134133
CLASS:PUBLIC
STATUS:CONFIRMED
CATEGORIES:Art
LOCATION:Off Campus Location
CONTACT:
END:VEVENT
BEGIN:VEVENT
DTSTAMP:20250413T181524
DTSTART;TZID=America/Detroit:20250413T120000
DTEND;TZID=America/Detroit:20250322T010000
SUMMARY:Sporting Event:Women's Lacrosse vs Johns Hopkins
DESCRIPTION:Women's Lacrosse vs Johns Hopkins
UID:134240-21874043@events.umich.edu
URL:https://events.umich.edu/event/134240
CLASS:PUBLIC
STATUS:CONFIRMED
CATEGORIES:Athletics,Athletics - Women's Lacrosse
LOCATION:U-M Lacrosse Stadium
CONTACT:
END:VEVENT
BEGIN:VEVENT
DTSTAMP:20250414T004336
DTSTART;TZID=America/Detroit:20250413T123000
DTEND;TZID=America/Detroit:20250413T130000
SUMMARY:Tours:Tour: Walking with Whales
DESCRIPTION:Discover a world where prehistoric whales had four limbs and walked on land! Learn about how whales and dolphins made the transition from land back into the water as you examine specimens that were distant or direct ancestors to modern cetaceans (whales\, dolphins\, and porpoises).
UID:125536-21875750@events.umich.edu
URL:https://events.umich.edu/event/125536
CLASS:PUBLIC
STATUS:CONFIRMED
CATEGORIES:Museum,natural history museum
LOCATION:Museum of Natural History
CONTACT:
END:VEVENT
BEGIN:VEVENT
DTSTAMP:20250413T181525
DTSTART;TZID=America/Detroit:20250413T130000
DTEND;TZID=America/Detroit:20250323T010000
SUMMARY:Sporting Event:Baseball vs Mount St. Mary's
DESCRIPTION:Baseball vs Mount St. Mary's
UID:134246-21874047@events.umich.edu
URL:https://events.umich.edu/event/134246
CLASS:PUBLIC
STATUS:CONFIRMED
CATEGORIES:Athletics,Athletics - Baseball
LOCATION:Ray Fisher Baseball Stadium
CONTACT:
END:VEVENT
BEGIN:VEVENT
DTSTAMP:20250331T100231
DTSTART;TZID=America/Detroit:20250413T130000
DTEND;TZID=America/Detroit:20250413T140000
SUMMARY:Other:Wonder Walk
DESCRIPTION:Matthaei Botanical Gardens is hosting free guided nature walks on select Wednesdays and Sundays.  These walks are FREE\, no registration is required. Wonder Walks are designed for all ages to inspire curiosity and learning from each other through activities that model curiosity and honor nature. If we have a sizeable mixed-age group\, we may separate into two sets to offer the same content at different levels of engagement.\n\nWednesday walks begin at 5:30 pm.  Sunday walks begin at 1:00 pm. We recommend gathering inside the lobby of Matthaei Botanical Gardens about 10 minutes before the start.
UID:134494-21874413@events.umich.edu
URL:https://events.umich.edu/event/134494
CLASS:PUBLIC
STATUS:CONFIRMED
CATEGORIES:Family,Free,Nature
LOCATION:Matthaei Botanical Gardens
CONTACT:
END:VEVENT
END:VCALENDAR