BEGIN:VCALENDAR
VERSION:2.0
PRODID:-//UM//UM*Events//EN
CALSCALE:GREGORIAN
BEGIN:VTIMEZONE
TZID:America/Detroit
TZURL:http://tzurl.org/zoneinfo/America/Detroit
X-LIC-LOCATION:America/Detroit
BEGIN:DAYLIGHT
TZOFFSETFROM:-0500
TZOFFSETTO:-0400
TZNAME:EDT
DTSTART:20070311T020000
RRULE:FREQ=YEARLY;BYMONTH=3;BYDAY=2SU
END:DAYLIGHT
BEGIN:STANDARD
TZOFFSETFROM:-0400
TZOFFSETTO:-0500
TZNAME:EST
DTSTART:20071104T020000
RRULE:FREQ=YEARLY;BYMONTH=11;BYDAY=1SU
END:STANDARD
END:VTIMEZONE
BEGIN:VEVENT
DTSTAMP:20250414T011729
DTSTART;TZID=America/Detroit:20250413T133000
DTEND;TZID=America/Detroit:20250413T140000
SUMMARY:Presentation:Discovery Demo: All About Owls
DESCRIPTION:Join us in the Science Forum for a 15-20 minute engaging science demonstration that will help you see the world in a whole new way. Demonstrations are free and appropriate for visitors ages 5 and above. Schedule subject to change.\n\nExplore the unseen lives of owls in this hands-on demonstration. Together\, we will use museum specimens to learn about some of owls’ unique adaptations\, like big eyes\, specialized ears\, quiet wings\, and sharp claws. What do these adaptations tell us about how owls eat? How are these modern raptors related to dinosaurs? Find out what an owl pellet is (Hint: it's not poop!) and dissect a real owl pellet to learn about the owl's diet. Come and discover the role of these birds of prey in the food chain!\n\nSpecial demos on February 15 and 16.
UID:124739-21875793@events.umich.edu
URL:https://events.umich.edu/event/124739
CLASS:PUBLIC
STATUS:CONFIRMED
CATEGORIES:natural history museum,Museum
LOCATION:Museum of Natural History
CONTACT:
END:VEVENT
BEGIN:VEVENT
DTSTAMP:20250403T121708
DTSTART;TZID=America/Detroit:20250413T140000
DTEND;TZID=America/Detroit:20250413T160000
SUMMARY:Performance:Our Oz
DESCRIPTION:A re-imagination of *The Wizard of Oz* viewed through a BIPOC and queer lens\, Our Oz is an entirely new work being presented on stage for the first time. Professors José Casas (head of the playwriting minor in the Department of Theatre & Drama) and Jake Hooker (head of drama at the Residential College) have led an ensemble of students from SMTD and the Residential College in exploring and experimenting with the tropes and images of multiple renditions from the Land of Oz as originally conceived by L. Frank Baum. The resulting work is fresh\, insightful\, and reflective of the times we live in.\n\nDiscount of 10% off ticket price when you purchase 4 or more student tickets.\n \nRecommended Ages: 13+
UID:122790-21849644@events.umich.edu
URL:https://events.umich.edu/event/122790
CLASS:PUBLIC
STATUS:CONFIRMED
CATEGORIES:LGBT,Theater,Storytelling,North Campus
LOCATION:Walgreen Drama Center - Arthur Miller Theatre
CONTACT:
END:VEVENT
BEGIN:VEVENT
DTSTAMP:20250410T102934
DTSTART;TZID=America/Detroit:20250413T140000
DTEND;TZID=America/Detroit:20250413T180000
SUMMARY:Performance:RC Chamber Music - End of Term Performance
DESCRIPTION:Join us in the Keene Theater for a delightful evening showcasing the the Residential College Chamber Music class! Student musicians have delved into the collaborative art of chamber music\, exploring repertoire for small ensembles and refining their skills in ensemble playing.\n\nCome celebrate chamber music and experience the beauty of musicians creating harmony together!
UID:131227-21867999@events.umich.edu
URL:https://events.umich.edu/event/131227
CLASS:PUBLIC
STATUS:CONFIRMED
CATEGORIES:Music,Undergraduate Students,Culture
LOCATION:East Quadrangle - Keene Theater
CONTACT:
END:VEVENT
BEGIN:VEVENT
DTSTAMP:20250413T181515
DTSTART;TZID=America/Detroit:20250413T140000
DTEND;TZID=America/Detroit:20250413T160000
SUMMARY:Lecture / Discussion:Reading and Conversation: “Under the Campus\, the Land”
DESCRIPTION:Join us for a conversation on Anishinaabe Futuring\, Colonial Non-Memory and the Origin of the University of Michigan.\n \nIn the 1817 Treaty of Fort Meigs\, Anishinaabe leaders granted land to a college where their children could be educated. At the time\, the colonial settlement of Anishinaabe homeland hardly extended beyond Detroit in what settlers called the “Michigan Territory.” Four days after the Treaty of Fort Meigs was signed\, the First College of Michigania was founded to claim the Anishinaabe land grant. Four years later\, the newly-chartered University of Michigan would claim this land. By the time the University of Michigan moved to Ann Arbor in 1837\, Anishinaabe people had been forced to cede almost all their land in what had become the state of Michigan\, now inhabited by almost 200\,000 settlers. \n \nAndrew Herscher’s recent book\, Under the Campus\, the Land (University of Michigan Press\, March\, 2025)\, narrates the University of Michigan’s place in both Anishinaabe and colonial history\, tracing the University’s participation in the colonization of Anishinaabe homeland\, Anishinaabe efforts to claim their right to an education\, and the university’s history of disavowing its responsibilities to Anishinaabe people. \n \nAndrew Herscher\, joined by Matthew Fletcher and Bethany Hughes\, will discuss the book and the questions it raises about the University of Michigan’s history and future.  \n \nFree and open to the public\, no registration required.\n 
UID:133893-21873675@events.umich.edu
URL:https://events.umich.edu/event/133893
CLASS:PUBLIC
STATUS:CONFIRMED
CATEGORIES:UMMA,Art,Museum
LOCATION:Museum of Art - Museum of Art
CONTACT:
END:VEVENT
BEGIN:VEVENT
DTSTAMP:20250413T181525
DTSTART;TZID=America/Detroit:20250413T140000
DTEND;TZID=America/Detroit:20250323T010000
SUMMARY:Sporting Event:Softball vs Rutgers
DESCRIPTION:Softball vs Rutgers
UID:134247-21874048@events.umich.edu
URL:https://events.umich.edu/event/134247
CLASS:PUBLIC
STATUS:CONFIRMED
CATEGORIES:Athletics,Athletics - Softball
LOCATION:Alumni Field
CONTACT:
END:VEVENT
BEGIN:VEVENT
DTSTAMP:20250414T011502
DTSTART;TZID=America/Detroit:20250413T143000
DTEND;TZID=America/Detroit:20250413T150000
SUMMARY:Exhibition:Discovery Demo: How to Become a Fossil
DESCRIPTION:Explore how fossils form and what parts of animals can become fossilized. How old are the earliest fossils? How old does something have to be before it is considered a fossil? You’ll touch some real fossils\, learn the different types of fossil evidence\, and discover what is necessary to become a fossil. Finally\, we’ll discuss what kinds of things fossils can tell us\, and how fossil casts are made in the museum.\n\nSpecial demos on February 15 and 16.
UID:125523-21875790@events.umich.edu
URL:https://events.umich.edu/event/125523
CLASS:PUBLIC
STATUS:CONFIRMED
CATEGORIES:Exhibition,Museum,natural history museum
LOCATION:Museum of Natural History
CONTACT:
END:VEVENT
END:VCALENDAR