BEGIN:VCALENDAR
VERSION:2.0
PRODID:-//UM//UM*Events//EN
CALSCALE:GREGORIAN
BEGIN:VTIMEZONE
TZID:America/Detroit
TZURL:http://tzurl.org/zoneinfo/America/Detroit
X-LIC-LOCATION:America/Detroit
BEGIN:DAYLIGHT
TZOFFSETFROM:-0500
TZOFFSETTO:-0400
TZNAME:EDT
DTSTART:20070311T020000
RRULE:FREQ=YEARLY;BYMONTH=3;BYDAY=2SU
END:DAYLIGHT
BEGIN:STANDARD
TZOFFSETFROM:-0400
TZOFFSETTO:-0500
TZNAME:EST
DTSTART:20071104T020000
RRULE:FREQ=YEARLY;BYMONTH=11;BYDAY=1SU
END:STANDARD
END:VTIMEZONE
BEGIN:VEVENT
DTSTAMP:20250305T120018
DTSTART;TZID=America/Detroit:20250413T143000
DTEND;TZID=America/Detroit:20250413T163000
SUMMARY:Other:Karate Practice
DESCRIPTION:\"True karate is this: that in daily life one's mind and body be trained and developed in a spirit of humility\, and that in critical times\, one be devoted utterly to the cause of justice.\"\n--Gichin Funakoshi- Founder of Shotokan KarateNew members are always welcome. No previous experience is necessary. Just come to any practice. You may watch a practice or actually participate when you come. If you want to participate\, wear loose fitting clothes\, trim your nails\, and no jewelry. See more information on our website: https://michigan.ska.org/ Winter 2025 Practice Schedule Wednesday 6:30pm - 8:15pm  @  Gretchen's House\, 1580 Dhu Varren Rd Sunday 2:30pm - 4:30pm  @  B225 Medium Multi-purpose Room\, Intramural Sports Building (please complete the liability waiver prior to your first Sunday practice)    Exceptions -- no Sunday practice at IMSB on Jan 26th\, Mar 2nd\, and Mar 9th 
UID:130977-21867547@events.umich.edu
URL:https://events.umich.edu/event/130977
CLASS:PUBLIC
STATUS:CONFIRMED
CATEGORIES:
LOCATION:Intramural Sports Building, Medium Multi-purpose Room
CONTACT:
END:VEVENT
BEGIN:VEVENT
DTSTAMP:20250409T181630
DTSTART;TZID=America/Detroit:20250413T150000
DTEND;TZID=America/Detroit:20250413T180000
SUMMARY:Performance:Campus and University Bands
DESCRIPTION:Come join the Campus Maize Band\, Campus Blue Band and the University Band as we present our capstone concert for the term in Hill Auditorium. We'll be showcasing a wide variety of wind ensemble music that will be enjoyable for the entire family!\n\nUniversity Band: John Pasquale\, conductor\nElla Hursh\, undergraduate conductor\n\nCampus \"Blue\" Band: Richard Frey\, conductor\n\nCampus \"Maize\" Band: John Mange\, graduate conductor\n\nPROGRAM\nJan van der Roost\, *Orion*        \nAnne McGinty\, Variations and Theme\nStephen Paulus\, *Mosaic*\nOmar Thomas\, *Shenandoah*\nJohn Philip Sousa\, *Semper Fidelis*\nKimberly Archer\, *Humoresque* (from Symphony No. 2)        \nViet Cuong\, *Deciduous*\nMorton Gould\, Ballad for Band\nCarl Orff\, arr. Krance\, *Carmina Burana*\nJohn Williams\, arr. Donald Hunsberger\, *Star Wars Trilogy*\nFrank Ticheli\, *Blue Shades*\nCarlos Simon\, *Sweet Chariot*\nPercy Aldridge Grainger\, ed. R. Mark Rogers\, *\"The Gum-Suckers\" March* 
UID:122694-21849540@events.umich.edu
URL:https://events.umich.edu/event/122694
CLASS:PUBLIC
STATUS:CONFIRMED
CATEGORIES:Concert,Free,Music
LOCATION:Hill Auditorium
CONTACT:
END:VEVENT
BEGIN:VEVENT
DTSTAMP:20250402T181649
DTSTART;TZID=America/Detroit:20250413T150000
DTEND;TZID=America/Detroit:20250413T170000
SUMMARY:Performance:MYPAP Student Recital
DESCRIPTION:The Michigan Youth Performing Arts Pre-College Program (MYPAP) is proud to present our end of year concerts on April 13 and 27. The programs will feature a variety of solo and chamber music works performed by our pre-college string players.\n\nLearn more about MYPAP:\nhttps://smtd.umich.edu/engagement-outreach/youth-programs/pre-college-program/
UID:134630-21874637@events.umich.edu
URL:https://events.umich.edu/event/134630
CLASS:PUBLIC
STATUS:CONFIRMED
CATEGORIES:North Campus,Music,Free
LOCATION:Earl V. Moore Building - Britton Recital Hall
CONTACT:
END:VEVENT
BEGIN:VEVENT
DTSTAMP:20250401T181713
DTSTART;TZID=America/Detroit:20250413T150000
DTEND;TZID=America/Detroit:20250413T160000
SUMMARY:Performance:Ting-Yu Yeh\, flute
DESCRIPTION:Undergraduate student Ting-Yu Yeh performs a senior recital.
UID:134109-21873869@events.umich.edu
URL:https://events.umich.edu/event/134109
CLASS:PUBLIC
STATUS:CONFIRMED
CATEGORIES:North Campus,Free,Music
LOCATION:Walgreen Drama Center - Stamps Auditorium
CONTACT:
END:VEVENT
BEGIN:VEVENT
DTSTAMP:20250402T121429
DTSTART;TZID=America/Detroit:20250413T160000
DTEND;TZID=America/Detroit:20250413T180000
SUMMARY:Film Screening:Italian Film Festival USA
DESCRIPTION:All films are in Italian with English subtitles FREE ADMISSION!\nAbout the festival:\nThe Italian Film Festival USA is the largest festival dedicated exclusively to contemporary Italian cinema in the United States. It presents new\, feature-length comedies\, dramas\, documentaries and even short and animated films. They all share iconic Italian locations and language that resonate with audiences worldwide\, and offers an opportunity to discover a new wave of young Italian film artists without hopping on a plane.\n\nFor the complete festival schedule visit italianfilmfests.org.\nThe Italian Film Festival USA is presented under the auspices of the Consulate of Italy in Detroit. \n\n*Screenings:*\n\nSaturday\, April 12\, 5:00 pm - Rackham Amphiteatre\n*A Dark Story* (Una storia nera) by Leonardo D’Agostini\nItaly\, 2024 - 100 min.\nin Italian with English subtitles\n\nVito and Carla have been separated for a long time. They have three children together and loved each other desperately before hatred took the place of love. Now Vito has a new life and Carla has a new partner: everyone feels as if tragedy has been averted and destiny is on their side. At least\, until that day--that evening--when Vito disappears without a trace. His disappearance sets in motion an investigation of everyone's past. But\, in cases like this\, does a single\, irrefutable truth really exist?\nFrom the novel of the same title by Antonella Lattanzi\nhttps://youtu.be/WJlzZzSbmn8 \n\n---\n\nSaturday\, April 12\, 7:30 pm - Rackham Amphiteatre\n*My Place Is Here* (Il mio posto è qui) by Cristiano Bortone and Daniela Porto\nItaly\, 2024 - 110 min.\nin Italian with English subtitles\n\nCalabria\, 1940. Marta and Michele are in love. But Michele does not return from the war and Marta\, who became pregnant before he left\, gives birth to little Michelangelo. To save the family's honor\, her father promises her in marriage to Gino\, a man she doesn't love\, an older widower with two children.\nDuring the preparations\, Marta meets Lorenzo\, the parish priest's assistant\, known in the village as \"the wedding man\,” for his refined taste used to help brides plan their big day. Despite initial reticence\, a deep friendship soon develops between the two\, and Marta begins to imagine a different world in which she can live with freedom and dignity.\nFrom the novel of the same title by Daniela Porto.\nhttps://youtu.be/5a5ZG2G3igM\n\n—\n\nSunday\, April 13\, 4:00 pm - Rackham Amphiteatre\n*Liliana* by Ruggero Gabbai\nItaly\, 2024 - 97 min.\nin Italian with English subtitles\n\nLiliana is a documentary that gathers Senator-for-life Liliana Segre's testimony of her arrest\, deportation\, and poignant final farewell to her father. The film is built around the juxtapositions\, cross-references\, and contrasts between the historical record and a contemporary portrait of one of the most important women on the Italian scene. It highlights lesser-known aspects of the Senator\, revealing a modern cultural and political figure who is passionate about conveying a message of freedom and equality to the younger generations.\nhttps://youtu.be/h1CAhnFDR0I\n\n—\n\nSPECIAL SCREENING PRESENTED BY THE CONSULATE OF ITALY IN DETROIT AND THE DANTE ALIGHIERI SOCIETY OF MICHIGAN\, AS PART OF LOVEITDETROIT\nSunday\, April 13\, 6:00 PM – Rackham Amphitheatre\n*Cabrini* by Alejandro Gómez Monteverde\nUSA\, 2024 – 142 min.\nIn English and Italian with English subtitles\n\nThe screening will be preceded by a Q&A with Cristiana Dell’Anna\, who portrays Mother Cabrini in the film. The Q&A will start promptly at 6:00 PM and space is limited. Seating cannot be guaranteed as it is on a first come first serve basis.\n\nArriving in New York City in 1889\, Italian immigrant Francesca Cabrini is met with disease\, crime\, and impoverished children. Undeterred\, she embarks on a bold mission to persuade the mayor to provide housing and health care for society’s most vulnerable. Despite language barriers and fragile health\, Cabrini’s entrepreneurial spirit drives her to build an unprecedented empire of hope that changes the world.
UID:134269-21874071@events.umich.edu
URL:https://events.umich.edu/event/134269
CLASS:PUBLIC
STATUS:CONFIRMED
CATEGORIES:Free,Romance Languages And Literatures,Language,italian,film screening,film,Culture,Community
LOCATION:Rackham Graduate School (Horace H.) - Amphitheatre
CONTACT:
END:VEVENT
BEGIN:VEVENT
DTSTAMP:20250407T181648
DTSTART;TZID=America/Detroit:20250413T160000
DTEND;TZID=America/Detroit:20250413T170000
SUMMARY:Performance:SC Klein\, jazz trombone
DESCRIPTION:Undergraduate student SC Klein performs a senior recital\, with jazz ensemble accompaniment.
UID:134110-21873870@events.umich.edu
URL:https://events.umich.edu/event/134110
CLASS:PUBLIC
STATUS:CONFIRMED
CATEGORIES:Music,Free,North Campus
LOCATION:Stearns Building - Cady Room
CONTACT:
END:VEVENT
END:VCALENDAR