BEGIN:VCALENDAR
VERSION:2.0
PRODID:-//UM//UM*Events//EN
CALSCALE:GREGORIAN
BEGIN:VTIMEZONE
TZID:America/Detroit
TZURL:http://tzurl.org/zoneinfo/America/Detroit
X-LIC-LOCATION:America/Detroit
BEGIN:DAYLIGHT
TZOFFSETFROM:-0500
TZOFFSETTO:-0400
TZNAME:EDT
DTSTART:20070311T020000
RRULE:FREQ=YEARLY;BYMONTH=3;BYDAY=2SU
END:DAYLIGHT
BEGIN:STANDARD
TZOFFSETFROM:-0400
TZOFFSETTO:-0500
TZNAME:EST
DTSTART:20071104T020000
RRULE:FREQ=YEARLY;BYMONTH=11;BYDAY=1SU
END:STANDARD
END:VTIMEZONE
BEGIN:VEVENT
DTSTAMP:20250402T121429
DTSTART;TZID=America/Detroit:20250413T180000
DTEND;TZID=America/Detroit:20250413T220000
SUMMARY:Film Screening:Italian Film Festival USA
DESCRIPTION:All films are in Italian with English subtitles FREE ADMISSION!\nAbout the festival:\nThe Italian Film Festival USA is the largest festival dedicated exclusively to contemporary Italian cinema in the United States. It presents new\, feature-length comedies\, dramas\, documentaries and even short and animated films. They all share iconic Italian locations and language that resonate with audiences worldwide\, and offers an opportunity to discover a new wave of young Italian film artists without hopping on a plane.\n\nFor the complete festival schedule visit italianfilmfests.org.\nThe Italian Film Festival USA is presented under the auspices of the Consulate of Italy in Detroit. \n\n*Screenings:*\n\nSaturday\, April 12\, 5:00 pm - Rackham Amphiteatre\n*A Dark Story* (Una storia nera) by Leonardo D’Agostini\nItaly\, 2024 - 100 min.\nin Italian with English subtitles\n\nVito and Carla have been separated for a long time. They have three children together and loved each other desperately before hatred took the place of love. Now Vito has a new life and Carla has a new partner: everyone feels as if tragedy has been averted and destiny is on their side. At least\, until that day--that evening--when Vito disappears without a trace. His disappearance sets in motion an investigation of everyone's past. But\, in cases like this\, does a single\, irrefutable truth really exist?\nFrom the novel of the same title by Antonella Lattanzi\nhttps://youtu.be/WJlzZzSbmn8 \n\n---\n\nSaturday\, April 12\, 7:30 pm - Rackham Amphiteatre\n*My Place Is Here* (Il mio posto è qui) by Cristiano Bortone and Daniela Porto\nItaly\, 2024 - 110 min.\nin Italian with English subtitles\n\nCalabria\, 1940. Marta and Michele are in love. But Michele does not return from the war and Marta\, who became pregnant before he left\, gives birth to little Michelangelo. To save the family's honor\, her father promises her in marriage to Gino\, a man she doesn't love\, an older widower with two children.\nDuring the preparations\, Marta meets Lorenzo\, the parish priest's assistant\, known in the village as \"the wedding man\,” for his refined taste used to help brides plan their big day. Despite initial reticence\, a deep friendship soon develops between the two\, and Marta begins to imagine a different world in which she can live with freedom and dignity.\nFrom the novel of the same title by Daniela Porto.\nhttps://youtu.be/5a5ZG2G3igM\n\n—\n\nSunday\, April 13\, 4:00 pm - Rackham Amphiteatre\n*Liliana* by Ruggero Gabbai\nItaly\, 2024 - 97 min.\nin Italian with English subtitles\n\nLiliana is a documentary that gathers Senator-for-life Liliana Segre's testimony of her arrest\, deportation\, and poignant final farewell to her father. The film is built around the juxtapositions\, cross-references\, and contrasts between the historical record and a contemporary portrait of one of the most important women on the Italian scene. It highlights lesser-known aspects of the Senator\, revealing a modern cultural and political figure who is passionate about conveying a message of freedom and equality to the younger generations.\nhttps://youtu.be/h1CAhnFDR0I\n\n—\n\nSPECIAL SCREENING PRESENTED BY THE CONSULATE OF ITALY IN DETROIT AND THE DANTE ALIGHIERI SOCIETY OF MICHIGAN\, AS PART OF LOVEITDETROIT\nSunday\, April 13\, 6:00 PM – Rackham Amphitheatre\n*Cabrini* by Alejandro Gómez Monteverde\nUSA\, 2024 – 142 min.\nIn English and Italian with English subtitles\n\nThe screening will be preceded by a Q&A with Cristiana Dell’Anna\, who portrays Mother Cabrini in the film. The Q&A will start promptly at 6:00 PM and space is limited. Seating cannot be guaranteed as it is on a first come first serve basis.\n\nArriving in New York City in 1889\, Italian immigrant Francesca Cabrini is met with disease\, crime\, and impoverished children. Undeterred\, she embarks on a bold mission to persuade the mayor to provide housing and health care for society’s most vulnerable. Despite language barriers and fragile health\, Cabrini’s entrepreneurial spirit drives her to build an unprecedented empire of hope that changes the world.
UID:134269-21874072@events.umich.edu
URL:https://events.umich.edu/event/134269
CLASS:PUBLIC
STATUS:CONFIRMED
CATEGORIES:Romance Languages And Literatures,Free,film screening,film,Culture,Community,Language,italian
LOCATION:Rackham Graduate School (Horace H.) - Amphitheatre
CONTACT:
END:VEVENT
BEGIN:VEVENT
DTSTAMP:20250319T181742
DTSTART;TZID=America/Detroit:20250413T190000
DTEND;TZID=America/Detroit:20250413T203000
SUMMARY:Performance:Caitlyn Bogart\, jazz voice
DESCRIPTION:Undergraduate student Caitlyn Bogart performs a final senior recital with jazz ensemble accompaniment.
UID:134111-21873871@events.umich.edu
URL:https://events.umich.edu/event/134111
CLASS:PUBLIC
STATUS:CONFIRMED
CATEGORIES:North Campus,Music,Free
LOCATION:Stearns Building - Cady Room
CONTACT:
END:VEVENT
BEGIN:VEVENT
DTSTAMP:20250409T181630
DTSTART;TZID=America/Detroit:20250413T190000
DTEND;TZID=America/Detroit:20250413T210000
SUMMARY:Performance:Orpheus Singers
DESCRIPTION:Join the Orpheus Singers for an eclectic contemporary program titled \"Beneath Sound.\" The concert celebrates the many facets of vocal music and the human experience. Themes of beauty\, love and joy are explored through various contemporary works including Ralph Vaughan Williams' iconic *Serenade to Music* and Alex Berko's thought provoking new work *You Through Me*. Other works by Dale Trombore\, Kat Gimon and Ola Gjello make this a sublime evening of beautful vocal chamber music conducted by the graduate choral conducting studio. \n\nEugene Rogers\, conductor\n\nPROGRAM\nAlex Berko\, *You Through Me*\nDale Trumbore\, *Ring out\, ye bells!*\nOla Gjello\, *Dark & Luminous Night*\nKat Gimon\, *The Language of the Stars*\nKat Gimon\, *Beneath/Sound*\nRalph Vaughan Williams arr. Denis Williams\, *Serenade to Music*
UID:122695-21849541@events.umich.edu
URL:https://events.umich.edu/event/122695
CLASS:PUBLIC
STATUS:CONFIRMED
CATEGORIES:Concert,Free,North Campus,Music
LOCATION:Walgreen Drama Center - Stamps Auditorium
CONTACT:
END:VEVENT
BEGIN:VEVENT
DTSTAMP:20250216T103113
DTSTART;TZID=America/Detroit:20250413T190000
DTEND;TZID=America/Detroit:20250413T203000
SUMMARY:Performance:Play Reading Series
DESCRIPTION:Come experience the thrill of live theater! Enjoy a casual and engaging evening of play readings featuring a unique blend of student and community performers. Takes place on select Sunday nights during the Winter 2025 semester\, at the Keene Theater. Free and open to the public. Contact: atking@umich.edu.
UID:131215-21867979@events.umich.edu
URL:https://events.umich.edu/event/131215
CLASS:PUBLIC
STATUS:CONFIRMED
CATEGORIES:Storytelling,Theater
LOCATION:East Quadrangle - Keene Theater
CONTACT:
END:VEVENT
BEGIN:VEVENT
DTSTAMP:20250404T121648
DTSTART;TZID=America/Detroit:20250413T190000
DTEND;TZID=America/Detroit:20250413T203000
SUMMARY:Performance:Reverso Trio
DESCRIPTION:Reverso is a trans-oceanic improvising chamber jazz project co-led by the *Jazz Times* and *Downbeat* #1 trombonist\, Ryan Keberle\, and Frank West\, the acclaimed Paris-based pianist and music director for Ibrahim Maalouf. The trio\, which also features the world class French improvising cellist\, Vince Curt\, performs original music that crosses the boundaries of jazz and classical music inspired by the early 20th century French composers Ravel\, Faure\, Poulenc\, Milhaud\, and the lesser known female composers\, Germaine Tailleferre and Lili Boulanger. The band has toured throughout the USA and Europe over the past 8 years to rave reviews from audiences and critics alike including performances at festivals\, clubs\, theaters\, universities\, churches\, chamber music series\, and performing arts centers.\n\nABOUT THE GUEST ARTISTS\n\nReverso’s repertoire features original compositions by all three members of the ensemble inspired by the music of Lili Boulanger\, Faure\, Milhaud\, Poulenc\, Honeggar\, Tailleferre\, and Ravel’s “Le Tombeau de Couperin”.\n\nRYAN KEBERLE is one of New York’s busiest trombonists. He leads his own big band\, the All Ears Orchestra\, along with the innovative small ensembles Catharsis\, Reverso and Collectiv Do Brasil. He is a featured soloist with the Maria Schneider Orchestra and Darcy James Argue’s Secret Society. Keberle is the Director of Jazz and Brass Studies at CUNY’s Hunter College and teaches the jazz trombone studio at the Manhattan School of Music.\n \nFRANK WEST resides in Burgundy\, France\, where he splits his activities between pianist\, producer\, composer\, and arranger. Several of his albums have been awarded the French “Victoires du Jazz”\, and he has won grants from the French-American Jazz Exchange. He is the music director for acclaimed French-Lebanese trumpeter\, Ibrahim Maalouf. He has also worked with Dave Douglas\, Mark Turner\, Larry Grenadier\, Clarence Penn\, and Gretchen Parlato.\n \nVINCE CURT is one of France’s finest cellists and improvising musicians. He has collaborated with several of France’s most important jazz musicians\, including Michel Petrucciani\, Martial Solal\, Louis Sclavis\, Marc Ducret\, Dominique Pifarély\, and Yves Robert.\n\n*Supported by Jazz & New Music\, a program of Villa Albertine and Albertine Foundation.*
UID:134690-21874717@events.umich.edu
URL:https://events.umich.edu/event/134690
CLASS:PUBLIC
STATUS:CONFIRMED
CATEGORIES:Free,Music,North Campus
LOCATION:Earl V. Moore Building - Britton Recital Hall
CONTACT:
END:VEVENT
BEGIN:VEVENT
DTSTAMP:20250509T115033
DTSTART;TZID=America/Detroit:20250413T190000
SUMMARY:Performance:Springfest Night Show: SUN ROOM
DESCRIPTION:This year's annual MUSIC Matters Springfest Night Show features SUN ROOM\, a California-based indie rock band. Known for their surf-inspired garage rock sound and electric performances\, the band has been featured numerous times in shows like Outer Banks. The band includes frontman Luke Asgian\, Max Pinamonti\, and Ashton Minnich. Join us for a high-energy evening of music from this fast-rising band.
UID:134479-21874399@events.umich.edu
URL:https://events.umich.edu/event/134479
CLASS:PUBLIC
STATUS:CONFIRMED
CATEGORIES:Music,Mutotix,Theater
LOCATION:GA -Michigan Theater
CONTACT:
END:VEVENT
END:VCALENDAR