BEGIN:VCALENDAR
VERSION:2.0
PRODID:-//UM//UM*Events//EN
CALSCALE:GREGORIAN
BEGIN:VTIMEZONE
TZID:America/Detroit
TZURL:http://tzurl.org/zoneinfo/America/Detroit
X-LIC-LOCATION:America/Detroit
BEGIN:DAYLIGHT
TZOFFSETFROM:-0500
TZOFFSETTO:-0400
TZNAME:EDT
DTSTART:20070311T020000
RRULE:FREQ=YEARLY;BYMONTH=3;BYDAY=2SU
END:DAYLIGHT
BEGIN:STANDARD
TZOFFSETFROM:-0400
TZOFFSETTO:-0500
TZNAME:EST
DTSTART:20071104T020000
RRULE:FREQ=YEARLY;BYMONTH=11;BYDAY=1SU
END:STANDARD
END:VTIMEZONE
BEGIN:VEVENT
DTSTAMP:20250116T095236
DTSTART;TZID=America/Detroit:20250413T193000
SUMMARY:Performance:Chris Buhalis
DESCRIPTION:Chris Buhalis was born and raised on Detroit's east side\, but his songs come from places you can only find if you stick out your thumb and follow fate's lead. Covering territory from Alaska's whiskey-soaked bars to the spark- and steel-filled auto plants of Detroit\, Chris writes songs that speak of real people in real situations. Chris has appeared on radio's \"Acoustic Cafe\" and shared stages with the likes of David Bromberg\, Catie Curtis\, and Dave Van Ronk.
UID:131243-21868028@events.umich.edu
URL:https://events.umich.edu/event/131243
CLASS:PUBLIC
STATUS:CONFIRMED
CATEGORIES:Ark,Mutotix
LOCATION:ARK Reserved
CONTACT:
END:VEVENT
BEGIN:VEVENT
DTSTAMP:20250331T181705
DTSTART;TZID=America/Detroit:20250413T200000
DTEND;TZID=America/Detroit:20250413T230000
SUMMARY:Performance:Student Composer Concert Series
DESCRIPTION:Presented by the Department of Composition\, the Student Composer Concert Series features new works written by University of Michigan undergraduate and graduate students. This concert program features:\n\nJake A. Ellzey\, *Ante Up*\nDaniel Young-Hwan Kim\, *Beads of Crystal and Glass*\nBrady Dolan\, *Before I Say Farewell*\nMikeila McQueston\, *Cedar & Cypress*\nGrace Ann Lee\, Cello Concerto\nMusic by Elijah Hall / Electronics by Evan Magill\, *HEART MACHINE*\nJeremy Esquer\, *Imposición de Humanos* Op. 9\, No. 1\nGavin Tomasco\, *Lovely Forms*\nStephen Elsinger\, *Midnight Oil*\nNora Farley\, *Mother and Child*\nRj Dion\, *Mrs. Perkins’ Flowers*\nMary Denney\, *Signs of Life*
UID:125749-21855695@events.umich.edu
URL:https://events.umich.edu/event/125749
CLASS:PUBLIC
STATUS:CONFIRMED
CATEGORIES:Free,Music,North Campus
LOCATION:Earl V. Moore Building - Hankinson Rehearsal Hall
CONTACT:
END:VEVENT
BEGIN:VEVENT
DTSTAMP:20250305T120026
DTSTART;TZID=America/Detroit:20250414T000000
DTEND;TZID=America/Detroit:20250414T235959
SUMMARY:Other:Charleston Race Week
DESCRIPTION:Regatta
UID:132035-21869832@events.umich.edu
URL:https://events.umich.edu/event/132035
CLASS:PUBLIC
STATUS:CONFIRMED
CATEGORIES:
LOCATION:Patriots Point
CONTACT:
END:VEVENT
BEGIN:VEVENT
DTSTAMP:20250305T120025
DTSTART;TZID=America/Detroit:20250414T000000
DTEND;TZID=America/Detroit:20250414T235959
SUMMARY:Other:J70s--April
DESCRIPTION:Regatta
UID:131534-21868729@events.umich.edu
URL:https://events.umich.edu/event/131534
CLASS:PUBLIC
STATUS:CONFIRMED
CATEGORIES:
LOCATION:Coast Guard Academy
CONTACT:
END:VEVENT
BEGIN:VEVENT
DTSTAMP:20250305T120029
DTSTART;TZID=America/Detroit:20250414T000000
DTEND;TZID=America/Detroit:20250414T230000
SUMMARY:Other:Laker Showdown
DESCRIPTION:Regatta
UID:132605-21871367@events.umich.edu
URL:https://events.umich.edu/event/132605
CLASS:PUBLIC
STATUS:CONFIRMED
CATEGORIES:
LOCATION:Grand Valley State University
CONTACT:
END:VEVENT
BEGIN:VEVENT
DTSTAMP:20250305T120029
DTSTART;TZID=America/Detroit:20250414T000000
DTEND;TZID=America/Detroit:20250414T230000
SUMMARY:Other:MCSA Women's Team/Fleet Race Championship
DESCRIPTION:Regatta
UID:132606-21871372@events.umich.edu
URL:https://events.umich.edu/event/132606
CLASS:PUBLIC
STATUS:CONFIRMED
CATEGORIES:
LOCATION:University of Wisconsin
CONTACT:
END:VEVENT
END:VCALENDAR