BEGIN:VCALENDAR
VERSION:2.0
PRODID:-//UM//UM*Events//EN
CALSCALE:GREGORIAN
BEGIN:VTIMEZONE
TZID:America/Detroit
TZURL:http://tzurl.org/zoneinfo/America/Detroit
X-LIC-LOCATION:America/Detroit
BEGIN:DAYLIGHT
TZOFFSETFROM:-0500
TZOFFSETTO:-0400
TZNAME:EDT
DTSTART:20070311T020000
RRULE:FREQ=YEARLY;BYMONTH=3;BYDAY=2SU
END:DAYLIGHT
BEGIN:STANDARD
TZOFFSETFROM:-0400
TZOFFSETTO:-0500
TZNAME:EST
DTSTART:20071104T020000
RRULE:FREQ=YEARLY;BYMONTH=11;BYDAY=1SU
END:STANDARD
END:VTIMEZONE
BEGIN:VEVENT
DTSTAMP:20250211T122734
DTSTART;TZID=America/Detroit:20250414T090000
DTEND;TZID=America/Detroit:20250414T160000
SUMMARY:Exhibition:Redefining the Crown
DESCRIPTION:In Winter 2025\, the Lane Hall exhibit space will feature a portraiture series titled Redefining the Crown showcasing the powerful stories of six Black breast cancer survivors.\n\nBased on a photo essay by U-M Faculty Versha Pleasant (MD/MPH) and Ava Purkiss (PhD) in Medicine at Michigan\, this exhibition examines the cultural and personal significance of hair within Black communities\, particularly through the lens of breast cancer treatment and recovery. The term \"crown\" is deeply symbolic in Black culture\, signifying beauty\, strength\, and identity. The featured photo essay by photographer Tafari Stevenson-Howard captures the intimate journeys of Ann Chatman\, Tanisha Kennedy\, Felecia McDaniel\, Shantell Elaine McCoy\, Tamara Lynn Myles\, and Veleria Banks.\n\nThrough their narratives and portraits\, the exhibit examines how these women have navigated the profound impact of hair loss caused by chemotherapy\, inviting the audience to witness their stories with radical empathy. It explores the cultural pride and personal identity intricately tied to their hair\, and how these elements are redefined amidst their battles with breast cancer.\n\nThe exhibit will be on view from January 21\, 2025 to August 8\, 2025. This exhibition is presented with support from IRWG\, the Department of Women's and Gender Studies\, and Michigan Medicine. \n\nLocated on the first floor of Lane Hall (204 S. State Street)\, the Exhibit Space is free and open to the public\, M-F\, 9am-4pm.
UID:129602-21864101@events.umich.edu
URL:https://events.umich.edu/event/129602
CLASS:PUBLIC
STATUS:CONFIRMED
CATEGORIES:african american,Art,institute for research on women and gender,women,Women's And Gender Studies
LOCATION:Lane Hall
CONTACT:
END:VEVENT
BEGIN:VEVENT
DTSTAMP:20241203T104657
DTSTART;TZID=America/Detroit:20250414T090000
DTEND;TZID=America/Detroit:20250414T200000
SUMMARY:Exhibition:The Bibliophile and the Library: Private-Press Books from the Collection of Bill Heidrich
DESCRIPTION:View beautifully illustrated books that stand as remarkable testaments to the work of twentieth-century small private presses\, which\, in contrast to the trend of mass commercialization\, produced limited editions that celebrated the uniqueness of manual craftsmanship. Features such as exquisite typeface design\, letterpress printing\, handmade paper\, traditional illustration techniques like woodcut and engraving\, and the inclusion of original art by renowned artists highlight the presses' dedication to artistry and detail.\n\nThe display opens with an edition of \"The Works of Geoffrey Chaucer\,\" published in 1896 by William Morris at his Kelmscott Press\, a pivotal press that greatly influenced the development of the private press movement as a means of preserving and revitalizing the fine printing and art traditions of the past. Additionally\, the exhibit includes some examples of artist’s proofs\, offering a glimpse into the intricate creative process behind these exceptional works.\n\nThese books are on loan from the collection of Bill Heidrich\, a long-time supporter of the University of Michigan Library.
UID:129585-21863793@events.umich.edu
URL:https://events.umich.edu/event/129585
CLASS:PUBLIC
STATUS:CONFIRMED
CATEGORIES:Books,Exhibition,Free,Library
LOCATION:Hatcher Graduate Library - Hatcher Gallery Exhibit Room, 1st floor
CONTACT:
END:VEVENT
BEGIN:VEVENT
DTSTAMP:20250409T104258
DTSTART;TZID=America/Detroit:20250414T100000
DTEND;TZID=America/Detroit:20250414T110000
SUMMARY:Exhibition:Take Care: Student Art Exhibition
DESCRIPTION:Experience the 2025 Take Care Student Art Exhibition\, a heartfelt showcase of creativity\, resilience\, and healing.\n\nThrough visual art\, video\, performance\, and literary works\, students will share their unique perspectives on caring for oneself and others\, healing as a community\, and imagining a world where self-expression nurtures collective well-being.\n\nRiverbank Arts: January 10–February 14\nClosing Reception: February 14\, 6–9 p.m.\n\nDuderstadt Center Gallery: April 15–May 9\nOpening Reception: April 15\, 5–8 p.m.
UID:130900-21875281@events.umich.edu
URL:https://events.umich.edu/event/130900
CLASS:PUBLIC
STATUS:CONFIRMED
CATEGORIES:Art,Arts Initiative,Exhibition,Reception,Take Care,Well-being
LOCATION:Duderstadt Center - Duderstadt Center Gallery
CONTACT:
END:VEVENT
BEGIN:VEVENT
DTSTAMP:20250408T160423
DTSTART;TZID=America/Detroit:20250414T103000
DTEND;TZID=America/Detroit:20250414T113000
SUMMARY:Workshop / Seminar:EEB Prelim Seminar Series - The purr-suit of reproduction: connecting microbiomes and reproductive health in Felids
DESCRIPTION:Summary: The communities of microbes that inhabit the gut and reproductive tract\, known as the gut and reproductive microbiomes\, show a symbiotic relationship that influences host physiology and reproductive outcomes. This can be seen in the gut microbiome’s influence on nutrient acquisition\, the production of biologically active molecules\, and the modification of steroid hormones\, as well as in reproductive microbiomes’ impacts on sperm quality\, assisted reproductive technology success\, embryo quality\, susceptibility to STIs\, and offspring health. While the majority of research into these topics is in humans\, mice\, and livestock\, investigations into wildlife species have also revealed similar patterns. However\, further research is still needed across a broader range of taxa\, particularly in species with low reproductive success that depend on consistent reproduction to be self-sustaining. Ex situ populations of cheetahs (Acinonyx jubatus) and clouded leopards (Neofelis nebulosa) that are part of American Association of Zoos and Aquariums Species Survival Plans (AZA SSP)\, are two such populations that have poor reproduction and rely on conservation husbandry for population health and survival. Therefore\, the main goal of my dissertation is to investigate the relationship between the gut\, vaginal\, preputial\, and seminal microbiomes and reproductive phenotypes and physiology in these two threatened species\, along with their model species\, the domestic cat (Felis catus)\, in order to extend the applicability of this research to other threatened felids.
UID:134805-21875261@events.umich.edu
URL:https://events.umich.edu/event/134805
CLASS:PUBLIC
STATUS:CONFIRMED
CATEGORIES:biological science,Biology,Biosciences,Bsbsigns,department of ecology and evolutionary biology,ecology,Ecology & Biology,Ecology And Evolutionary Biology,eeb,evolution,evolutionary biology,Graduate Students,Life Science,Museum - Herbarium,Museum - Zoology,Museum Of Zoology,zoology
LOCATION:Biological Sciences Building - 1010
CONTACT:
END:VEVENT
BEGIN:VEVENT
DTSTAMP:20250120T151032
DTSTART;TZID=America/Detroit:20250414T110000
DTEND;TZID=America/Detroit:20250414T130000
SUMMARY:Well-being:\"Let's Talk\": Informal\, Drop-In Mental Health Counseling
DESCRIPTION:Trained mental health counselors are now available for drop-in conversations at different times and locations across campus\, including at Trotter\, the Spectrum Center\, South Quad\, the International Center\, and Bursley.\n\nThis informal\, confidential “office hours” style can be a great fit for students unsure about formal counseling\; for those with a specific\, time-limited concern they’d like to talk through\; or those seeking information on campus resources. Please note: this is not meant for crisis or emergency support.\n\n\"Let's Talk\" will run from January 20th 2025 to April 25th 2025. There will be no drop-ins the week of Spring Break (March 3rd - 7th). \n\nMonday: 11:00 am - 1:00 pm with Markie Silverman\, Ph.D.\, LP\, Room 2035 in Trotter Multicultural Center\nTuesday: 1:00 pm - 3:00 pm with Marcella A. Beaumont\, Ph.D.\, Room 3032 in The Spectrum Center (Michigan Union)\nWednesday: 1:00 pm - 3:00 pm with Emily Malinowski\, LMSW\, Room 1721A in South Quad Housing\nThursday: 2:00 pm - 4:00 pm with Ling Liu\, Ph.D. & Chunyu Xu\, M.Ed.\, M.S.Ed.\, Conference Room in the International Center\nFriday: 10:00 am - 12:00 pm with Kayla Douglas\, LMSW\, and Emily Powers\, LLMSW\, Room 2329B in Bursley Housing
UID:131469-21868519@events.umich.edu
URL:https://events.umich.edu/event/131469
CLASS:PUBLIC
STATUS:CONFIRMED
CATEGORIES:Accessible,Casual,Confidential,Drop-in,free,Health & Wellness,health and wellness,health communication,Inclusion,mental health,Mindfulness,relationship,relationships,Undergraduate,Undergraduate Students,university health service,Well-being
LOCATION:Trotter Multicultural Center - 2035
CONTACT:
END:VEVENT
BEGIN:VEVENT
DTSTAMP:20250204T090133
DTSTART;TZID=America/Detroit:20250414T110000
DTEND;TZID=America/Detroit:20250414T120000
SUMMARY:Other:Student Sustainability Coalition Coffee Chats
DESCRIPTION:Navigating the variety of avenues to engage in sustainability work on campus can be daunting and confusing! Come talk with the Student Sustainability Coalition (SSC) to learn more about sustainability initiatives on campus and WE WILL BUY YOU A DRINK!\n\n\n\nCoffee chats happen every Friday from 2-3p at Maizes in The League from 2-3p. Look for the \"SSC: Coffee Chats\" sign!\nCoffee chats also happening on select Mondays at Palmer Commons from 11-12p!\n\nSEE YOU THERE!
UID:118258-21868469@events.umich.edu
URL:https://events.umich.edu/event/118258
CLASS:PUBLIC
STATUS:CONFIRMED
CATEGORIES:Activism,Discussion,Ecology,Environment,Graduate and Professional Students,In Person,Interdisciplinary,Prospective Graduate Students,Prospective Undergraduate Students,Social Impact,Sustainability,Undergraduate Students
LOCATION:Palmer Commons - Palmer Commons Kitchen
CONTACT:
END:VEVENT
END:VCALENDAR