BEGIN:VCALENDAR
VERSION:2.0
PRODID:-//UM//UM*Events//EN
CALSCALE:GREGORIAN
BEGIN:VTIMEZONE
TZID:America/Detroit
TZURL:http://tzurl.org/zoneinfo/America/Detroit
X-LIC-LOCATION:America/Detroit
BEGIN:DAYLIGHT
TZOFFSETFROM:-0500
TZOFFSETTO:-0400
TZNAME:EDT
DTSTART:20070311T020000
RRULE:FREQ=YEARLY;BYMONTH=3;BYDAY=2SU
END:DAYLIGHT
BEGIN:STANDARD
TZOFFSETFROM:-0400
TZOFFSETTO:-0500
TZNAME:EST
DTSTART:20071104T020000
RRULE:FREQ=YEARLY;BYMONTH=11;BYDAY=1SU
END:STANDARD
END:VTIMEZONE
BEGIN:VEVENT
DTSTAMP:20250404T152235
DTSTART;TZID=America/Detroit:20250414T113000
DTEND;TZID=America/Detroit:20250414T123000
SUMMARY:Workshop / Seminar:IGCB Seminar: Prof Anshuman Swain.
DESCRIPTION:IGCB Seminar Series: Prof Anshuman Swain\n\nEchoes in the Rock: Past Ecosystems as a Guide for Understanding Tomorrow's World\n\nEcosystems are defined by the interactions among and between the organisms and their environment. In an era of unprecedented global change\, understanding the fundamental rules governing the stability of ecosystems and their biodiversity is critical. This talk bridges deep time and the present by exploring how abiotic and biotic interactions shape biodiversity patterns. We will utilize the Cenozoic fossil record (the last 66 My)\, and in specific\, the marine micropaleontological data and terrestrial plant-insect associations to track community responses to long-term climate shifts and environment perturbations. By integrating paleontological data with ecological informatics\, this talk aims to uncover how past patterns of environment-driven change can provide crucial insights for anticipating and addressing the impacts of future global change scenarios.
UID:134722-21874789@events.umich.edu
URL:https://events.umich.edu/event/134722
CLASS:PUBLIC
STATUS:CONFIRMED
CATEGORIES:Climate Change,Environment,Free,Global Health,Research
LOCATION:Dana Natural Resources  Building - 1024 or zoom https://umich.zoom.us/j/91758420456
CONTACT:
END:VEVENT
BEGIN:VEVENT
DTSTAMP:20250414T112028
DTSTART;TZID=America/Detroit:20250414T120000
DTEND;TZID=America/Detroit:20250414T133000
SUMMARY:Workshop / Seminar:“Reading Together”: A Round Table Reading and Celebration
DESCRIPTION:We will close out the year the way we began: reading a poem together. Two faculty members and two graduate students will bring in an “artifact” that enhances our reading of a community-chosen poem\, and their presentations will be followed by an open discussion of the poem. 
UID:131756-21869206@events.umich.edu
URL:https://events.umich.edu/event/131756
CLASS:PUBLIC
STATUS:CONFIRMED
CATEGORIES:Sessions
LOCATION:TBD
CONTACT:
END:VEVENT
BEGIN:VEVENT
DTSTAMP:20250407T181650
DTSTART;TZID=America/Detroit:20250414T120000
DTEND;TZID=America/Detroit:20250414T123000
SUMMARY:Performance:AAPI Heritage Month Carillon Recital
DESCRIPTION:University Carillonist Dr. Tiffany Ng\, alumnus Dr. HyoJin Moon\, and Julie Zhu\, President's Postdoctoral Fellow\, perform on the Charles Baird Carillon\, an instrument of 53 bronze bells located inside the Burton Memorial Tower. The largest bell\, which strikes the hour\, weighs 12 tons\, while the smallest bell\, 4½ octaves above\, weighs just 15 pounds.\n\nThirty-minute recitals are performed on the Charles Baird Carillon at noon every weekday that classes are in session\, followed by visitor Q&A with the carillonist. The bell chamber may be accessed via a combination of elevator and stairs. Take the elevator to the highest floor possible (floor 8)\, and then climb two flights of stairs (39 steps) to the bell chamber (floor 10). Hearing protection earmuffs are provided for visitors. Be prepared to walk on ice and snow in the bell chamber during winter. Built in 1936\, the Charles Baird Carillon is not ADA accessible. Visitors with mobility concerns are invited to visit the Lurie Carillon.
UID:132411-21870895@events.umich.edu
URL:https://events.umich.edu/event/132411
CLASS:PUBLIC
STATUS:CONFIRMED
CATEGORIES:Music,Free,Faculty,Alumni
LOCATION:Burton Memorial Tower
CONTACT:
END:VEVENT
BEGIN:VEVENT
DTSTAMP:20250421T113230
DTSTART;TZID=America/Detroit:20250414T120000
DTEND;TZID=America/Detroit:20250414T160000
SUMMARY:Exhibition:Bloody Work: Lexington and Concord 1775
DESCRIPTION:The William L. Clements Library is pleased to announce a forthcoming exhibition in recognition of the 250th Anniversary of the military hostilities that began the American Revolutionary War. The Battles of Lexington and Concord are firmly established in American memory as the culmination of a range of governmental\, political\, economic\, and social tensions that amplified in the decade leading up to 1775. In this exhibit\, visitors will have the opportunity to see original historical manuscript letters\, documents\, newspapers\, and artwork that reveal aspects of the bloody work of Empire and individual alike in April 1775.\n\nAmong the items on display will be Commander in Chief of the British Army\, General Thomas Gage's draft orders for the Concord Expedition\, April 18\, 1775\; a bundle of letters collected by former Sons of Liberty supporter Dr. Benjamin Church\, which he secretly turned over to British Army intelligence\; letters by Silas Deane\, John Hancock\, and Rachel Revere\; and much more.\n\nOpen weekdays from 12-4 pm.
UID:134875-21875501@events.umich.edu
URL:https://events.umich.edu/event/134875
CLASS:PUBLIC
STATUS:CONFIRMED
CATEGORIES:libraries,history,Free,Exhibition,Exhibit,Ann Arbor,Americana,american history,american culture,Library
LOCATION:William Clements Library
CONTACT:
END:VEVENT
BEGIN:VEVENT
DTSTAMP:20250303T063125
DTSTART;TZID=America/Detroit:20250414T120000
DTEND;TZID=America/Detroit:20250414T123000
SUMMARY:Careers / Jobs:FREE Virtual Session: Teacher Top 10 Pieces of Advice
DESCRIPTION:Join us for a free virtual session! Throughout the school year\, Cherokee County School District offers 30-minute workshops designed for future educators. These sessions are  conveniently scheduled so that you can listen in while commuting or between classes.No active participation is required!Join in and listen like a podcast! You can view the topics and pre-register using this link: Professional Development Virtual Sessions. You will also use this link to join the session by clicking on the session title. Can't make it? RSVP to the event andwe will send a recording! 
UID:127814-21859716@events.umich.edu
URL:https://events.umich.edu/event/127814
CLASS:PUBLIC
STATUS:CONFIRMED
CATEGORIES:
LOCATION:
CONTACT:
END:VEVENT
BEGIN:VEVENT
DTSTAMP:20250414T090112
DTSTART;TZID=America/Detroit:20250414T120000
DTEND;TZID=America/Detroit:20250414T140000
SUMMARY:Social / Informal Gathering:Go Blue - Mobile AI at U-M: Swag Giveaway
DESCRIPTION:Meet the Emerging Technology team from ITS on campus to learn about Go Blue\, the new AI mobile app for the U-M Community. Come by our table to download the app\, ask questions\, and grab some exclusive Go Blue swag! \n\n\nLearn more about Go Blue at https://goblueai.umich.edu\n\nDownload Go Blue for iOS: https://apps.apple.com/us/app/go-blue-ai/id6740406959\nDownload Go Blue for Android: https://play.google.com/store/apps/details?id=edu.umich.mobile.goblue
UID:134013-21874477@events.umich.edu
URL:https://events.umich.edu/event/134013
CLASS:PUBLIC
STATUS:CONFIRMED
CATEGORIES:Go Blue App,Artificial Intelligence,Free,Genai,Generative Ai,information technology,In Person,information and technology,U-m Gpt,Its
LOCATION:North Quad - Courtyard
CONTACT:
END:VEVENT
END:VCALENDAR