BEGIN:VCALENDAR
VERSION:2.0
PRODID:-//UM//UM*Events//EN
CALSCALE:GREGORIAN
BEGIN:VTIMEZONE
TZID:America/Detroit
TZURL:http://tzurl.org/zoneinfo/America/Detroit
X-LIC-LOCATION:America/Detroit
BEGIN:DAYLIGHT
TZOFFSETFROM:-0500
TZOFFSETTO:-0400
TZNAME:EDT
DTSTART:20070311T020000
RRULE:FREQ=YEARLY;BYMONTH=3;BYDAY=2SU
END:DAYLIGHT
BEGIN:STANDARD
TZOFFSETFROM:-0400
TZOFFSETTO:-0500
TZNAME:EST
DTSTART:20071104T020000
RRULE:FREQ=YEARLY;BYMONTH=11;BYDAY=1SU
END:STANDARD
END:VTIMEZONE
BEGIN:VEVENT
DTSTAMP:20250402T121506
DTSTART;TZID=America/Detroit:20250414T120000
DTEND;TZID=America/Detroit:20250414T170000
SUMMARY:Exhibition:Warped Routes: 2025 MFA First Year Exhibition
DESCRIPTION:This annual celebration of the work of Stamps MFA in Art candidates features work by first-year students:\nMichelle CieloszczykMike MartinRiver BerryMichael King\, Jr.Fiona HofferZoë Dong\nThe 2025 MFA First Year Exhibition takes place March 28 - April 19 at the Stamps Graduate/Faculty Studios\, 1919 Green Rd\, Ann Arbor\, MI 48109.\nJoin us at the public exhibition reception on Friday\, March 28 from 6-8pm (no RSVP required).\nViewings March 29-April 19 are available by appointment only\; please contact Michael King\, Jr. to arrange a visit.
UID:134133-21873917@events.umich.edu
URL:https://events.umich.edu/event/134133
CLASS:PUBLIC
STATUS:CONFIRMED
CATEGORIES:Art
LOCATION:Off Campus Location
CONTACT:
END:VEVENT
BEGIN:VEVENT
DTSTAMP:20250319T181743
DTSTART;TZID=America/Detroit:20250414T132000
DTEND;TZID=America/Detroit:20250414T135000
SUMMARY:Performance:Sarah Penrose & Mary-Elizabeth Wohlfert\, carillon
DESCRIPTION:Undergraduate students Sarah Penrose and Mary-Elizabeth Wohlfert perform on the Ann & Robert H. Lurie Carillon\, an instrument of 60 bells with the lowest bell (bourdon) weighing 6 tons.\n\nThirty-minute recitals are performed on the Lurie Carillon every weekday that classes are in session. During these recitals\, visitors may take the elevator to level 2 to view the largest bells\, or to level 3 to see the carillonist performing. (Visitors subject to acrophobia are recommended to visit level 2 only.) An optional spiral stairway between levels 2 and 3 allows for up-close views of some of the largest bells.
UID:132412-21870896@events.umich.edu
URL:https://events.umich.edu/event/132412
CLASS:PUBLIC
STATUS:CONFIRMED
CATEGORIES:Free,Music,North Campus
LOCATION:Lurie Ann & Robert H. Tower
CONTACT:
END:VEVENT
BEGIN:VEVENT
DTSTAMP:20250404T095617
DTSTART;TZID=America/Detroit:20250414T140000
DTEND;TZID=America/Detroit:20250414T153000
SUMMARY:Lecture / Discussion:DISCO Network Presents: Building the Indigenous Internet
DESCRIPTION:Register to attend in person: https://myumi.ch/N6wx9\nRegister to attend on Zoom: https://myumi.ch/egDpX\n\nThis panel brings together key voices in infrastructure as broadly imagined\, data sovereignty and decolonial perspectives to critically explore the history\, present\, and future of the indigenous Internet. The conversation will showcase how Indigenous knowledge has and will continue to shape data worlds by bringing together interdisciplinary perspectives on emerging technologies—ranging from computer science\, artificial intelligence\, social media\, online activism\, the work of infrastructure and circuit building\, and beyond. By centering Indigenous voices\, the discussion aims to create transformative visions for a sustainable\, equitable\, and inclusive digital future while inviting speculative thinking about post-settler digital worlds.\n\nFree copies of Indigenous Currencies: Leaving Some for the Rest in the Digital Age by Ashley Cordes will be provided to first 50 attendees.\n\nMeet the Panelists\n\nMajerle Lister is a Diné student whose research interest ranges from Indigenous geography\, Native American Studies\, and Critical Agrarian Studies. Focusing on land regimes in the Navajo Nation\, he is interested in how land relations are shaped by development projects and historical Diné land relations and practices. His research explores the development discourses and practices within the Former Bennett Freeze Area in Western Navajo Nation.\n\nAshley Cordes (Coquille/KōKwel) is an Assistant Professor of Indigenous Media in ENVS and Data Science at the University of Oregon and a recent American Council of Learned Societies Fellow. Her research lies at the intersection of Indigenous science and technology studies\, digital media\, and environmental/place-based studies. She is interested in how Indigenous culture and technology producers leverage discursive\, technological\, and media forms of “digital Indigeneity” toward Tribal economic independence\, representational and data sovereignty\, Indigenous cultural revitalization\, and the resurgence of Indigenous knowledge systems. Her research in AI has been published in the Indigenous Protocols Artificial Intelligence position paper and her other works on representation\, digital humanities\, and Indigenous methods have been published in journals such as Cultural Studies >Critical Methodologies\, Journal of International and Intercultural Communication\, and Feminist Media Studies. She is the author of the book\, Indigenous Currencies: Leaving Some for the Rest in the Digital Age in production with MIT Press.\n\n\nMeet The Moderator\n\nLisa Nakamura is the Gwendolyn Calvert Baker Collegiate Professor in the Department of American Culture\, and the founding Director of the Digital Studies Institute at the University of Michigan\, Ann Arbor. Since 1994\, Nakamura has written books and articles on digital bodies\, race\, and gender in online environments\, on toxicity in video game culture\, and the many reasons that Internet research needs ethnic and gender studies. These books include\, Race After the Internet (co-edited with Peter Chow-White\, Routledge\, 2011)\; Digitizing Race: Visual Cultures of the Internet (Minnesota\, 2007)\; Cybertypes: Race\, Ethnicity\, and Identity on the Internet (Routledge\, 2002)\; and Race in Cyberspace (co-edited with Beth Kolko and Gil Rodman\, Routledge\, 2000). In November 2019\, Nakamura gave a TED NYC talk about her research called “The Internet is a Trash Fire. Here’s How to Fix It.\"\n\n\nWe would like to thank the following co-sponsors: \n\nCenter for Ethics\, Society\, and Computing\nComputer Science and Engineering\nDepartment of American Culture\nDepartment of Comparative Literature\nDepartment of Film\, Television\, and Media\nDepartment of History\nMuseum Studies Program\nNative American Studies\nProgram in Computing for the Arts and Sciences\nScience\, Technology & Society Program\nScience\, Technology\, and Public Policy Program\nSchool of Information\n\nWe want to make our events accessible to all participants. CART services will be provided. If you anticipate needing accommodations to participate or would like help filling out the RSVP form\, please email Giselle Mills at gimills@umich.edu.
UID:130932-21867410@events.umich.edu
URL:https://events.umich.edu/event/130932
CLASS:PUBLIC
STATUS:CONFIRMED
CATEGORIES:Artificial Intelligence,digital humanities,Digital Media,Digital Studies,Digital Studies Institute,Disability,Diversity,Interdisciplinary,Native American,Race,Social Impact
LOCATION:Weiser Hall - 10th Floor
CONTACT:
END:VEVENT
BEGIN:VEVENT
DTSTAMP:20250414T122029
DTSTART;TZID=America/Detroit:20250414T140000
DTEND;TZID=America/Detroit:20250414T153000
SUMMARY:Workshop / Seminar:DISCO Network Presents: Building the Indigenous Internet
DESCRIPTION:Event Description \nThis panel brings together key voices in infrastructure as broadly imagined\, data sovereignty and decolonial perspectives to critically explore the history\, present\, and future of the indigenous Internet. The conversation will showcase how Indigenous knowledge has and will continue to shape data worlds by bringing together interdisciplinary perspectives on emerging technologies—ranging from computer science\, artificial intelligence\, social media\, online activism\, the work of infrastructure and circuit building\, and beyond. By centering Indigenous voices\, the discussion aims to create transformative visions for a sustainable\, equitable\, and inclusive digital future while inviting speculative thinking about post-settler digital worlds.Free copies of Indigenous Currencies: Leaving Some for the Rest in the Digital Age by Ashley Cordes will be provided to the first 50 attendees. All are welcome and we strongly encourage undergraduate and graduate students to attend. Advance registration is recommended:\nMeet the PanelistsMajerle Lister is a Diné student whose research interest ranges from Indigenous geography\, Native American Studies\, and Critical Agrarian Studies. Focusing on land regimes in the Navajo Nation\, he is interested in how land relations are shaped by development projects and historical Diné land relations and practices. His research explores the development discourses and practices within the Former Bennett Freeze Area in Western Navajo Nation.\nAshley Cordes (Coquille/KōKwel) is an Assistant Professor of Indigenous Media in ENVS and Data Science at the University of Oregon and a recent American Council of Learned Societies Fellow. Her research lies at the intersection of Indigenous science and technology studies\, digital media\, and environmental/place-based studies. She is interested in how Indigenous culture and technology producers leverage discursive\, technological\, and media forms of “digital Indigeneity” toward Tribal economic independence\, representational and data sovereignty\, Indigenous cultural revitalization\, and the resurgence of Indigenous knowledge systems. Her research in AI has been published in the Indigenous Protocols Artificial Intelligence position paper and her other works on representation\, digital humanities\, and Indigenous methods have been published in journals such as Cultural Studies >Critical Methodologies\, Journal of International and Intercultural Communication\, and Feminist Media Studies. She is the author of the book\, Indigenous Currencies: Leaving Some for the Rest in the Digital Age in production with MIT Press.\nMeet the ModeratorLisa Nakamura is the Gwendolyn Calvert Baker Collegiate Professor in the Department of American Culture\, and the founding Director of the Digital Studies Institute at the University of Michigan\, Ann Arbor. Since 1994\, Nakamura has written books and articles on digital bodies\, race\, and gender in online environments\, on toxicity in video game culture\, and the many reasons that Internet research needs ethnic and gender studies. These books include\, Race After the Internet (co-edited with Peter Chow-White\, Routledge\, 2011)\; Digitizing Race: Visual Cultures of the Internet (Minnesota\, 2007)\; Cybertypes: Race\, Ethnicity\, and Identity on the Internet (Routledge\, 2002)\; and Race in Cyberspace (co-edited with Beth Kolko and Gil Rodman\, Routledge\, 2000). In November 2019\, Nakamura gave a TED NYC talk about her research called “The Internet is a Trash Fire. Here’s How to Fix It.\"\n\n\nWe want to make our events accessible to all participants. CART services will be provided. If you anticipate needing accommodations to participate or would like help filling out the RSVP form\, please email Giselle Mills at gimills@umich.edu.
UID:130937-21867416@events.umich.edu
URL:https://events.umich.edu/event/130937
CLASS:PUBLIC
STATUS:CONFIRMED
CATEGORIES:Sessions
LOCATION:Weiser Hall 10th Floor, University of Michigan, Ann Arbor
CONTACT:
END:VEVENT
BEGIN:VEVENT
DTSTAMP:20241209T121529
DTSTART;TZID=America/Detroit:20250414T140000
DTEND;TZID=America/Detroit:20250414T150000
SUMMARY:Livestream / Virtual:Rackham Consultation Services: Virtual Office Hours
DESCRIPTION:If you have a quick question or have a time sensitive matter\, attend the Rackham Consultation Services open office hours weekly on Monday and Wednesday from 2:00 to 3:00 p.m. via Zoom. In the interest of providing students as much privacy as possible\, you may spend a brief time in a waiting room if the resolution officer is engaged with another student. They will be with you as quickly as possible.\nJoin Zoom Meeting\nhttps://umich.zoom.us/j/99196090990\nMeeting ID: 991 9609 0990\nOne tap mobile\n+13092053325\,\,99196090990# US\n+13126266799\,\,99196090990# US (Chicago)\n—\nDial by your location\n\n+1 309 205 3325 US\n+1 312 626 6799 US (Chicago)\n+1 646 876 9923 US (New York)\n+1 646 931 3860 US\n+1 301 715 8592 US (Washington DC)\n+1 305 224 1968 US\n+1 386 347 5053 US\n+1 507 473 4847 US\n+1 564 217 2000 US\n+1 669 444 9171 US\n+1 669 900 6833 US (San Jose)\n+1 689 278 1000 US\n+1 719 359 4580 US\n+1 253 205 0468 US\n+1 253 215 8782 US (Tacoma)\n+1 346 248 7799 US (Houston)\n+1 360 209 5623 US\n+1 647 558 0588 Canada\n+1 778 907 2071 Canada\n+1 780 666 0144 Canada\n+1 204 272 7920 Canada\n+1 438 809 7799 Canada\n+1 587 328 1099 Canada\n+1 647 374 4685 Canada\n\nMeeting ID: 991 9609 0990\nFind your local number: https://umich.zoom.us/u/aUy8Alk2\n—\nJoin by SIP\n\n99196090990@zoomcrc.com\n\nWe want to ensure full and equitable participation in our events. If an accommodation would promote your full participation in this event\, please follow the registration link to indicate your accommodation requirements. Please let us know as soon as possible in order to have adequate time\, preferably one week\, to arrange for your requested accommodations or an effective alternative.
UID:129832-21864624@events.umich.edu
URL:https://events.umich.edu/event/129832
CLASS:PUBLIC
STATUS:CONFIRMED
CATEGORIES:
LOCATION:Off Campus Location
CONTACT:
END:VEVENT
BEGIN:VEVENT
DTSTAMP:20250408T100609
DTSTART;TZID=America/Detroit:20250414T150000
DTEND;TZID=America/Detroit:20250414T160000
SUMMARY:Workshop / Seminar:HEP-Astro Seminar | The MAIA Detector for a 10 TeV Muon Collider
DESCRIPTION:Muon colliders have recently emerged as an exciting option to access the 10 TeV energy scale. However\, significant research and development is required to address the fundamental challenge that muons are unstable\, and will decay continuously while moving through an accelerator complex. In addition\, any detector will see a very large beam-induced background (BIB) from the decay of muons in the colliding beams. In this talk\, I will introduce and motivate the concept of a muon collider\, discuss some of the broader challenges\, and then present MAIA (Muon Accelerator Instrumented Apparatus)\, a proposed detector design for a 10 TeV muon collider.
UID:134608-21874580@events.umich.edu
URL:https://events.umich.edu/event/134608
CLASS:PUBLIC
STATUS:CONFIRMED
CATEGORIES:Physics,Science
LOCATION:West Hall - 340
CONTACT:
END:VEVENT
END:VCALENDAR