BEGIN:VCALENDAR
VERSION:2.0
PRODID:-//UM//UM*Events//EN
CALSCALE:GREGORIAN
BEGIN:VTIMEZONE
TZID:America/Detroit
TZURL:http://tzurl.org/zoneinfo/America/Detroit
X-LIC-LOCATION:America/Detroit
BEGIN:DAYLIGHT
TZOFFSETFROM:-0500
TZOFFSETTO:-0400
TZNAME:EDT
DTSTART:20070311T020000
RRULE:FREQ=YEARLY;BYMONTH=3;BYDAY=2SU
END:DAYLIGHT
BEGIN:STANDARD
TZOFFSETFROM:-0400
TZOFFSETTO:-0500
TZNAME:EST
DTSTART:20071104T020000
RRULE:FREQ=YEARLY;BYMONTH=11;BYDAY=1SU
END:STANDARD
END:VTIMEZONE
BEGIN:VEVENT
DTSTAMP:20250409T122037
DTSTART;TZID=America/Detroit:20250409T130000
DTEND;TZID=America/Detroit:20250409T143000
SUMMARY:Workshop / Seminar:8-Bit Music Workshop
DESCRIPTION:Participants in this public workshop will get the opportunity to learn from our visiting artist about homebrewed tracker composition software for the Nintendo Game Boy: Little Sound DJ. We will supply the Game Boy’s and instruction\, you bring curiosity and creativity! Spaces are limited\, so register early!
UID:134423-21874341@events.umich.edu
URL:https://events.umich.edu/event/134423
CLASS:PUBLIC
STATUS:CONFIRMED
CATEGORIES:Sessions
LOCATION:Hatcher Gallery in the Hatcher Library
CONTACT:
END:VEVENT
BEGIN:VEVENT
DTSTAMP:20250317T100302
DTSTART;TZID=America/Detroit:20250409T130000
DTEND;TZID=America/Detroit:20250409T160000
SUMMARY:Other:Free Store by Planet Blue Student Leaders
DESCRIPTION:Join the Planet Blue Student Leaders at our Free Store featuring clothing\, items\, and more! Stay sustainable and bring home something new to you! Join us on the first floor of the Michigan Union in the Pond Room.
UID:133946-21873714@events.umich.edu
URL:https://events.umich.edu/event/133946
CLASS:PUBLIC
STATUS:CONFIRMED
CATEGORIES:Activism,Campus Resources,CCI,Civic Engagement,Community,Community Engagement,Environment,Free,Social Impact,Student Org,Sustainability
LOCATION:Michigan Union - Pond Room
CONTACT:
END:VEVENT
BEGIN:VEVENT
DTSTAMP:20250401T103029
DTSTART;TZID=America/Detroit:20250409T130000
DTEND;TZID=America/Detroit:20250409T140000
SUMMARY:Workshop / Seminar:Interdisciplinary QC-CM Seminar | Molecular orbitals in Quantum Magnets and High-temperature Superconductors
DESCRIPTION:Molecular orbitals (MOs) in inorganic crystalline solids arise as a peculiar result of an intricate interplay between structural geometry\, favourable hierarchies of hybridization pathways\, and strong local electronic correlations. When involved in low-energy physics\, MOs often give rise to intriguing physical effects\, expanding experimentally accessible regions of quantum phase diagrams and providing new ways to tune material properties. In this talk\, I will present two examples of quantum MO systems: (1) Ti_4 MnBi_2\, a one dimensional metallic spin-½ system\, and (2) La_3 Ni_2 O_7\, a member of the most recently discovered Ni-based family of high-temperature superconductors. Using these examples\, I will attempt to not only illustrate the rich physics of MOs in action but also highlight the challenges that such systems pose at various levels of condensed matter theory\, from ab initio electronic structure calculations to model-based and analytical approaches.
UID:130071-21865212@events.umich.edu
URL:https://events.umich.edu/event/130071
CLASS:PUBLIC
STATUS:CONFIRMED
CATEGORIES:Science,Physics
LOCATION:West Hall - 340
CONTACT:
END:VEVENT
BEGIN:VEVENT
DTSTAMP:20250205T181826
DTSTART;TZID=America/Detroit:20250409T132000
DTEND;TZID=America/Detroit:20250409T135000
SUMMARY:Performance:Lon Mitchell
DESCRIPTION:Lon Mitchell performs on the Ann & Robert H. Lurie Carillon\, an instrument of 60 bells with the lowest bell (bourdon) weighing 6 tons.\n\nThirty-minute recitals are performed on the Lurie Carillon every weekday that classes are in session. During these recitals\, visitors may take the elevator to level 2 to view the largest bells\, or to level 3 to see the carillonist performing. (Visitors subject to acrophobia are recommended to visit level 2 only.) An optional spiral stairway between levels 2 and 3 allows for up-close views of some of the largest bells.
UID:132407-21870891@events.umich.edu
URL:https://events.umich.edu/event/132407
CLASS:PUBLIC
STATUS:CONFIRMED
CATEGORIES:Talk,North Campus,Music,Free
LOCATION:Lurie Ann & Robert H. Tower
CONTACT:
END:VEVENT
BEGIN:VEVENT
DTSTAMP:20250102T120705
DTSTART;TZID=America/Detroit:20250409T133000
DTEND;TZID=America/Detroit:20250409T150000
SUMMARY:Workshop / Seminar:CoderSpaces - Wednesday
DESCRIPTION:Are you grappling with a piece of code\, trying to compute on a cluster\, or just getting started with a new method such as machine learning? Then we might have just the right space for you.\n\nAll members of the U-M community are invited to join our weekly virtual CoderSpaces to get research support and connect with others.\n\nTuesdays\, 9:30-11 a.m. ET\, via Zoom (Meeting ID:94181215786)\nWednesdays\, 1:30-3 p.m. ET\, via Zoom (Meeting ID: 98659357324)
UID:117252-21865878@events.umich.edu
URL:https://events.umich.edu/event/117252
CLASS:PUBLIC
STATUS:CONFIRMED
CATEGORIES:Machine Learning,Data,Data Analysis,Data Collection,Data Curation,Data Linkage,Data Management,Data Science,Information and Technology
LOCATION:Off Campus Location
CONTACT:
END:VEVENT
BEGIN:VEVENT
DTSTAMP:20250312T141016
DTSTART;TZID=America/Detroit:20250409T133000
DTEND;TZID=America/Detroit:20250409T150000
SUMMARY:Social / Informal Gathering:Slice of IOE
DESCRIPTION:Thinking about IOE? Come grab free pizza and chat with current IOE students and ambassadors about what makes this major unique—from diverse career paths to our tight-knit community. Whether you're still exploring or ready to declare\, you’ll get firsthand insights on classes\, opportunities\, and student life. Plus\, Leonora and peer advisors will be there to help you officially declare IOE on the spot!\n\nRSVP: https://forms.gle/2iW1nxyfaDrwRg6G9
UID:133453-21873115@events.umich.edu
URL:https://events.umich.edu/event/133453
CLASS:PUBLIC
STATUS:CONFIRMED
CATEGORIES:Undergraduate Students,Engineering,Food,Free,Industrial And Operations Engineering,Michigan Engineering,Undergraduate
LOCATION:Industrial and Operations Engineering Building - IOE Community Suite
CONTACT:
END:VEVENT
END:VCALENDAR