BEGIN:VCALENDAR
VERSION:2.0
PRODID:-//UM//UM*Events//EN
CALSCALE:GREGORIAN
BEGIN:VTIMEZONE
TZID:America/Detroit
TZURL:http://tzurl.org/zoneinfo/America/Detroit
X-LIC-LOCATION:America/Detroit
BEGIN:DAYLIGHT
TZOFFSETFROM:-0500
TZOFFSETTO:-0400
TZNAME:EDT
DTSTART:20070311T020000
RRULE:FREQ=YEARLY;BYMONTH=3;BYDAY=2SU
END:DAYLIGHT
BEGIN:STANDARD
TZOFFSETFROM:-0400
TZOFFSETTO:-0500
TZNAME:EST
DTSTART:20071104T020000
RRULE:FREQ=YEARLY;BYMONTH=11;BYDAY=1SU
END:STANDARD
END:VTIMEZONE
BEGIN:VEVENT
DTSTAMP:20250413T170239
DTSTART;TZID=America/Detroit:20250414T160000
DTEND;TZID=America/Detroit:20250414T170000
SUMMARY:Workshop / Seminar:The Twist for Positroids
DESCRIPTION:Grassmann necklaces describe combinatorially the stratification of the Grassmannian into positroid varieties. Plabic Graphs are finer combinatorial objects than Grassmann necklaces that not only index positroids but also parametrize points in positroids\, through the boundary measurement map. Given a reduced plabic graph\, we can assign target face labels to each face\, and the boundary face labels give us the corresponding Grassmann necklace\, which tells us the non-vanishing pluckers in the positroid. It is known that the face label pluckers give a cluster in the cluster structure on the Grassmannian.  A natural question is\, what can the internal face labels tell us geometrically? It is not generally true that these are the non-vanishing pluckers in the image of the boundary measurement map for positroids over the complex numbers. In this talk\, we introduce the twist map\, constructed by Muller-Speyer\, which are automorphisms of the positroid variety\, taking the image of the boundary measurement map to a torus defined by the non-vanishing of face label pluckers.
UID:134954-21875726@events.umich.edu
URL:https://events.umich.edu/event/134954
CLASS:PUBLIC
STATUS:CONFIRMED
CATEGORIES:Mathematics
LOCATION:East Hall - 3866
CONTACT:
END:VEVENT
BEGIN:VEVENT
DTSTAMP:20241118T120053
DTSTART;TZID=America/Detroit:20250414T160000
DTEND;TZID=America/Detroit:20250414T170000
SUMMARY:Lecture / Discussion:Totally real points in the Mandelbrot set
DESCRIPTION::)
UID:125915-21856282@events.umich.edu
URL:https://events.umich.edu/event/125915
CLASS:PUBLIC
STATUS:CONFIRMED
CATEGORIES:Mathematics
LOCATION:East Hall - 3096
CONTACT:
END:VEVENT
BEGIN:VEVENT
DTSTAMP:20250307T131831
DTSTART;TZID=America/Detroit:20250414T163000
DTEND;TZID=America/Detroit:20250414T173000
SUMMARY:Presentation:Knight-Hennessy Scholars Info Session: Graduate Scholarships at Stanford
DESCRIPTION:Join ONSF and Assistant Director of Admissions at the Knight-Hennessy Scholars Program\, Christian Tanja\, for an information session. Knight-Hennessy is a leadership program at Stanford University. Each year\, a group of 100 students with demonstrated leadership and civic commitment\, from a wide array of backgrounds\, receive full funding for up to three years of graduate education at Stanford and will participate in programming to develop their future leadership skills.​ \n\nLearn more about applying for Knight-Hennessy Scholars at this event!\n\nThere are limited spaces for this event and we will be providing food. If you find that you cannot make it\, please email osnf.info@umich.edu and inform us so we can have an accurate count and someone else may take your place.
UID:133254-21872655@events.umich.edu
URL:https://events.umich.edu/event/133254
CLASS:PUBLIC
STATUS:CONFIRMED
CATEGORIES:Onsf,Scholarships,Scholarship,Fellowships
LOCATION:LSA Building - Multipurpose Room (1040)
CONTACT:
END:VEVENT
BEGIN:VEVENT
DTSTAMP:20250414T162028
DTSTART;TZID=America/Detroit:20250414T163000
DTEND;TZID=America/Detroit:20250414T173000
SUMMARY:Workshop / Seminar:Knight-Hennessy Scholars Info Session: Graduate Scholarships at Stanford
DESCRIPTION:Join ONSF and Assistant Director of Admissions at the Knight-Hennessy Scholars Program\, Christian Tanja\, for an information session. Knight-Hennessy is a leadership program at Stanford University. Each year\, a group of 100 students with demonstrated leadership and civic commitment\, from a wide array of backgrounds\, receive full funding for up to three years of graduate education at Stanford and will participate in programming to develop their future leadership skills.​ Learn more about applying for Knight-Hennessy Scholars at this event!You MUST register outside of Sessions @ Michigan to attend\, using this link.There are limited spaces for this event. If you find that you cannot make it\, please email osnf.info@umich.edu and inform us so we can update your registration and someone else may take your place.\n
UID:133246-21872637@events.umich.edu
URL:https://events.umich.edu/event/133246
CLASS:PUBLIC
STATUS:CONFIRMED
CATEGORIES:Sessions
LOCATION:LSA Multipurpose Room 1040 (500 State St)
CONTACT:
END:VEVENT
BEGIN:VEVENT
DTSTAMP:20250404T121650
DTSTART;TZID=America/Detroit:20250414T163000
DTEND;TZID=America/Detroit:20250414T183000
SUMMARY:Class / Instruction:Reverso Trio: Chamber Music Forum Master Class
DESCRIPTION:Reverso Trio presents a master class as part of a Guest Artist Mentor Residency with the Department of Chamber Music\, also with support from Jazz & New Music\, a program of Villa Albertine and Albertine Foundation.\n\nReverso is a trans-oceanic improvising chamber jazz project co-led by the *Jazz Times* and *Downbeat* #1 trombonist\, Ryan Keberle\, and Frank West\, the acclaimed Paris-based pianist and music director for Ibrahim Maalouf. The trio\, which also features the world class French improvising cellist\, Vince Curt\, performs original music that crosses the boundaries of jazz and classical music inspired by the early 20th century French composers Ravel\, Faure\, Poulenc\, Milhaud\, and the lesser known female composers\, Germaine Tailleferre and Lili Boulanger. The band has toured throughout the USA and Europe over the past 8 years to rave reviews from audiences and critics alike including performances at festivals\, clubs\, theaters\, universities\, churches\, chamber music series\, and performing arts centers.\n\nABOUT THE GUEST ARTISTS\n\nReverso’s repertoire features original compositions by all three members of the ensemble inspired by the music of Lili Boulanger\, Faure\, Milhaud\, Poulenc\, Honeggar\, Tailleferre\, and Ravel’s “Le Tombeau de Couperin”.\n\nRYAN KEBERLE is one of New York’s busiest trombonists. He leads his own big band\, the All Ears Orchestra\, along with the innovative small ensembles Catharsis\, Reverso and Collectiv Do Brasil. He is a featured soloist with the Maria Schneider Orchestra and Darcy James Argue’s Secret Society. Keberle is the Director of Jazz and Brass Studies at CUNY’s Hunter College and teaches the jazz trombone studio at the Manhattan School of Music.\n \nFRANK WEST resides in Burgundy\, France\, where he splits his activities between pianist\, producer\, composer\, and arranger. Several of his albums have been awarded the French “Victoires du Jazz”\, and he has won grants from the French-American Jazz Exchange. He is the music director for acclaimed French-Lebanese trumpeter\, Ibrahim Maalouf. He has also worked with Dave Douglas\, Mark Turner\, Larry Grenadier\, Clarence Penn\, and Gretchen Parlato.\n \nVINCE CURT is one of France’s finest cellists and improvising musicians. He has collaborated with several of France’s most important jazz musicians\, including Michel Petrucciani\, Martial Solal\, Louis Sclavis\, Marc Ducret\, Dominique Pifarély\, and Yves Robert.\n\n*Supported by Jazz & New Music\, a program of Villa Albertine and Albertine Foundation.*
UID:134691-21874718@events.umich.edu
URL:https://events.umich.edu/event/134691
CLASS:PUBLIC
STATUS:CONFIRMED
CATEGORIES:Free,Music,North Campus,Talk,Workshop
LOCATION:Earl V. Moore Building - Watkins Lecture Hall
CONTACT:
END:VEVENT
BEGIN:VEVENT
DTSTAMP:20250414T181526
DTSTART;TZID=America/Detroit:20250414T163000
DTEND;TZID=America/Detroit:20250323T010000
SUMMARY:Sporting Event:Softball vs Rutgers
DESCRIPTION:Softball vs Rutgers
UID:134248-21874049@events.umich.edu
URL:https://events.umich.edu/event/134248
CLASS:PUBLIC
STATUS:CONFIRMED
CATEGORIES:Athletics,Athletics - Softball
LOCATION:Alumni Field
CONTACT:
END:VEVENT
END:VCALENDAR